BEGIN:VCALENDAR
VERSION:2.0
PRODID:-//The City of Elkton, KY - ECPv6.15.20//NONSGML v1.0//EN
CALSCALE:GREGORIAN
METHOD:PUBLISH
X-WR-CALNAME:The City of Elkton, KY
X-ORIGINAL-URL:https://elktonky.com/es
X-WR-CALDESC:Eventos para The City of Elkton, KY
REFRESH-INTERVAL;VALUE=DURATION:PT1H
X-Robots-Tag:noindex
X-PUBLISHED-TTL:PT1H
BEGIN:VTIMEZONE
TZID:America/Chicago
BEGIN:DAYLIGHT
TZOFFSETFROM:-0600
TZOFFSETTO:-0500
TZNAME:CDT
DTSTART:20230312T080000
END:DAYLIGHT
BEGIN:STANDARD
TZOFFSETFROM:-0500
TZOFFSETTO:-0600
TZNAME:CST
DTSTART:20231105T070000
END:STANDARD
BEGIN:DAYLIGHT
TZOFFSETFROM:-0600
TZOFFSETTO:-0500
TZNAME:CDT
DTSTART:20240310T080000
END:DAYLIGHT
BEGIN:STANDARD
TZOFFSETFROM:-0500
TZOFFSETTO:-0600
TZNAME:CST
DTSTART:20241103T070000
END:STANDARD
BEGIN:DAYLIGHT
TZOFFSETFROM:-0600
TZOFFSETTO:-0500
TZNAME:CDT
DTSTART:20250309T080000
END:DAYLIGHT
BEGIN:STANDARD
TZOFFSETFROM:-0500
TZOFFSETTO:-0600
TZNAME:CST
DTSTART:20251102T070000
END:STANDARD
END:VTIMEZONE
BEGIN:VTIMEZONE
TZID:America/Chicago
BEGIN:DAYLIGHT
TZOFFSETFROM:-0600
TZOFFSETTO:-0500
TZNAME:CDT
DTSTART:20230312T080000
END:DAYLIGHT
BEGIN:STANDARD
TZOFFSETFROM:-0500
TZOFFSETTO:-0600
TZNAME:CST
DTSTART:20231105T070000
END:STANDARD
BEGIN:DAYLIGHT
TZOFFSETFROM:-0600
TZOFFSETTO:-0500
TZNAME:CDT
DTSTART:20240310T080000
END:DAYLIGHT
BEGIN:STANDARD
TZOFFSETFROM:-0500
TZOFFSETTO:-0600
TZNAME:CST
DTSTART:20241103T070000
END:STANDARD
BEGIN:DAYLIGHT
TZOFFSETFROM:-0600
TZOFFSETTO:-0500
TZNAME:CDT
DTSTART:20250309T080000
END:DAYLIGHT
BEGIN:STANDARD
TZOFFSETFROM:-0500
TZOFFSETTO:-0600
TZNAME:CST
DTSTART:20251102T070000
END:STANDARD
END:VTIMEZONE
BEGIN:VEVENT
DTSTART;TZID=America/Chicago:20240608T183000
DTEND;TZID=America/Chicago:20240608T213000
DTSTAMP:20260422T165150
CREATED:20240301T174821Z
LAST-MODIFIED:20240301T213115Z
UID:10001958-1717871400-1717882200@elktonky.com
SUMMARY:The Bicho Brothers Concert
DESCRIPTION:We’re thrilled to announce the Bicho Brothers coming to town!\nPrepare for an unforgettable night of music & energy!\n\nDate: Saturday\, June 8th\nTime: Food & drinks will begin at 6:30PM\nThe Bicho Brothers will begin performing at 7:00PM\nLocation: Milliken Memorial Community House\nFREE ENTRY!\n\nGather your crew & get ready to sing along to your favorite hits!\n\nBunz Out\, Follow The Drip Seafood Catering\, Poptown Popsicles & Casey Jones Distillery will be attending this event
URL:https://elktonky.com/es/event/the-bicho-brothers-concert/
LOCATION:Milliken Memorial Community House Lawn\, 208 W Main St\, Elkton\, KY\, 42220\, United States
ATTACH;FMTTYPE=image/png:https://elktonky.com/wp-content/uploads/2024/03/BICHO-BROTHERS-REDO.png
END:VEVENT
BEGIN:VEVENT
DTSTART;TZID=America/Chicago:20240613T180000
DTEND;TZID=America/Chicago:20240613T210000
DTSTAMP:20260422T165150
CREATED:20150401T152900Z
LAST-MODIFIED:20210205T170046Z
UID:10001527-1718301600-1718312400@elktonky.com
SUMMARY:City Council Meeting
DESCRIPTION:Regularly scheduled City Council meeting. Agenda may be viewed on City Council Meeting Page when made available.
URL:https://elktonky.com/es/event/city-council-meeting-2017-06-12-2017-07-12/2024-06-13/
END:VEVENT
BEGIN:VEVENT
DTSTART;TZID=America/Chicago:20240617T080000
DTEND;TZID=America/Chicago:20240617T090000
DTSTAMP:20260422T165150
CREATED:20240614T162733Z
LAST-MODIFIED:20240614T162859Z
UID:10001964-1718611200-1718614800@elktonky.com
SUMMARY:Special City Council Meeting
DESCRIPTION:SPECIAL MEETING NOTICE \nThere will be a special meeting of the Elkton City Council on Monday\, June 17\, 2024 at 8:00 AM at Elkton City Hall\, 71 Public Square\, to discuss the following: \nAGENDA\n \n\nSecond Reading Ordinance 2024-05 – AN ORDINANCE AMENDING SECTION 97.21 OF THE CODE OF ORDINANCES OF THE CITY OF ELKTON ADJUSTING THE MONTHLY SERVICE FEE ESTABLISHED FOR RESIDENTIAL COLLECTION AND DISPOSAL OF SOLID WASTE MATERIALS\nSecond Reading Ordinance 2024-06 – AN ORDINANCE ENACTING AND ADOPTING THE THIRTY-FIFTH SUPPLEMENT TO THE CODE OF ORDINANCES OF THE CITY OF ELKTON\, KENTUCKY\nSecond Reading Ordinance 2024-07 – AN ORDINANCE AMENDING THE ANNUAL BUDGET FOR THE CITY OF ELKTON\, KENTUCKY FOR THE FISCAL YEAR JULY 1\, 2023 THROUGH JUNE 30\, 2024\nSecond Reading Ordinance 2024-08 – AN ORDINANCE RELATING TO THE ANNUAL BUDGET AND APPROPRIATIONS FOR THE CITY OF ELKTON\, KENTUCKY\, FOR THE FISCAL YEAR JULY 1\, 2024 THROUGH JUNE 30\, 2025
URL:https://elktonky.com/es/event/special-city-council-meeting-44/
LOCATION:Elkton City Hall\, 71 Public Square\, Elkton\, 42220
END:VEVENT
BEGIN:VEVENT
DTSTART;TZID=America/Chicago:20240622T120000
DTEND;TZID=America/Chicago:20240622T180000
DTSTAMP:20260422T165150
CREATED:20240222T165517Z
LAST-MODIFIED:20240222T165517Z
UID:10001956-1719057600-1719079200@elktonky.com
SUMMARY:2024 Car/Truck Show
DESCRIPTION:Join us on June 22nd for our 2nd Annual Car/Truck Show sponsored by That Guy Who Fixes Stuff\, LLC & the City of Elkton! This event will be at the Todd County Central High School beginning at 12PM. Judging will start at 1PM & the award ceremony will take place at 5PM.\n\nKona Ice\, The Filling Station & Palate Junkies will be on site!\nGives away items will be handed out through out the event.\n\nAwards will be sponsored by O’Reilly Auto Parts of Elkton!\n\nAward List:\n*Best in Show *People’s Choice *Most Unique\n*Just for Fun Award *Best Car *Best Truck\n*Most Original Car *Most Original Truck *Best Chevy Muscle\n*Best Ford Muscle *Best Mopar *Best 4X4\n*Best Import *Best 80’s Car *Best 80’s Truck\n*Best Jeep *Best Motorcycle *Best Chevelle\n*Best Mustang *Best Pontiac *Best Convertible\n*Best Corvette *Best Hot Rod *Best Rat Rod\n*Best Volkswagen *Best Youth Built (Under 25)\n*Farthest Distance Traveled *Best Veteran Owned\n*Best Engine *Best Paint *Best Interior\n*City of Elkton Choice *O’Reilly Auto Parts of Elkton Choice
URL:https://elktonky.com/es/event/2024-car-truck-show/
LOCATION:Todd County Central High School\, 806 S Main St\, Elkton\, Kentuckt\, 42220
ATTACH;FMTTYPE=image/png:https://elktonky.com/wp-content/uploads/2024/02/2024-Truck-Show-Flyer-June-22nd.png
END:VEVENT
BEGIN:VEVENT
DTSTART;TZID=America/Chicago:20240622T140000
DTEND;TZID=America/Chicago:20240622T200000
DTSTAMP:20260422T165150
CREATED:20240214T171943Z
LAST-MODIFIED:20240214T171943Z
UID:10001950-1719064800-1719086400@elktonky.com
SUMMARY:Elkton Cruise In & Car/Truck Show
DESCRIPTION:More information coming soon! Please contact City Hall for any questions\, 270-265-9877. \nThis event will be held at Todd County Central High School\, 806 S Main St\, and will start at 2 pm.
URL:https://elktonky.com/es/event/elkton-cruise-in-car-truck-show-2/
LOCATION:Todd County Central High School\, 806 S Main St\, Elkton\, Kentuckt\, 42220
END:VEVENT
END:VCALENDAR