BEGIN:VCALENDAR
VERSION:2.0
PRODID:-//The City of Elkton, KY - ECPv6.15.20//NONSGML v1.0//EN
CALSCALE:GREGORIAN
METHOD:PUBLISH
X-WR-CALNAME:The City of Elkton, KY
X-ORIGINAL-URL:https://elktonky.com/es
X-WR-CALDESC:Eventos para The City of Elkton, KY
REFRESH-INTERVAL;VALUE=DURATION:PT1H
X-Robots-Tag:noindex
X-PUBLISHED-TTL:PT1H
BEGIN:VTIMEZONE
TZID:America/Chicago
BEGIN:DAYLIGHT
TZOFFSETFROM:-0600
TZOFFSETTO:-0500
TZNAME:CDT
DTSTART:20230312T080000
END:DAYLIGHT
BEGIN:STANDARD
TZOFFSETFROM:-0500
TZOFFSETTO:-0600
TZNAME:CST
DTSTART:20231105T070000
END:STANDARD
BEGIN:DAYLIGHT
TZOFFSETFROM:-0600
TZOFFSETTO:-0500
TZNAME:CDT
DTSTART:20240310T080000
END:DAYLIGHT
BEGIN:STANDARD
TZOFFSETFROM:-0500
TZOFFSETTO:-0600
TZNAME:CST
DTSTART:20241103T070000
END:STANDARD
BEGIN:DAYLIGHT
TZOFFSETFROM:-0600
TZOFFSETTO:-0500
TZNAME:CDT
DTSTART:20250309T080000
END:DAYLIGHT
BEGIN:STANDARD
TZOFFSETFROM:-0500
TZOFFSETTO:-0600
TZNAME:CST
DTSTART:20251102T070000
END:STANDARD
END:VTIMEZONE
BEGIN:VTIMEZONE
TZID:America/Chicago
BEGIN:DAYLIGHT
TZOFFSETFROM:-0600
TZOFFSETTO:-0500
TZNAME:CDT
DTSTART:20230312T080000
END:DAYLIGHT
BEGIN:STANDARD
TZOFFSETFROM:-0500
TZOFFSETTO:-0600
TZNAME:CST
DTSTART:20231105T070000
END:STANDARD
BEGIN:DAYLIGHT
TZOFFSETFROM:-0600
TZOFFSETTO:-0500
TZNAME:CDT
DTSTART:20240310T080000
END:DAYLIGHT
BEGIN:STANDARD
TZOFFSETFROM:-0500
TZOFFSETTO:-0600
TZNAME:CST
DTSTART:20241103T070000
END:STANDARD
BEGIN:DAYLIGHT
TZOFFSETFROM:-0600
TZOFFSETTO:-0500
TZNAME:CDT
DTSTART:20250309T080000
END:DAYLIGHT
BEGIN:STANDARD
TZOFFSETFROM:-0500
TZOFFSETTO:-0600
TZNAME:CST
DTSTART:20251102T070000
END:STANDARD
END:VTIMEZONE
BEGIN:VEVENT
DTSTART;TZID=America/Chicago:20240201T180000
DTEND;TZID=America/Chicago:20240201T200000
DTSTAMP:20260422T132943
CREATED:20240130T162552Z
LAST-MODIFIED:20240130T162552Z
UID:10001946-1706810400-1706817600@elktonky.com
SUMMARY:Elkton Planning Commission Meeting
DESCRIPTION:
URL:https://elktonky.com/es/event/elkton-planning-commission-meeting-14/
LOCATION:Elkton City Hall\, 71 Public Square\, Elkton\, 42220
END:VEVENT
BEGIN:VEVENT
DTSTART;TZID=America/Chicago:20240205T170000
DTEND;TZID=America/Chicago:20240205T180000
DTSTAMP:20260422T132943
CREATED:20240202T190946Z
LAST-MODIFIED:20240202T194526Z
UID:10001947-1707152400-1707156000@elktonky.com
SUMMARY:Board of Adjustment Special Meeting
DESCRIPTION:There will be a special meeting of the Elkton Board of Adjustment on Monday\, February 5\, 2024 at 5 PM at Elkton City Hall\, 71 Public Square\, Elkton\, Kentucky. \nAGENDA \n1. Roll Call \n2. Public Hearing \n• Conditional Permit – Faye Osborne – 210 S Perry \n3. Decision Regarding Conditional Permit \n4. Approval of Minutes \n• July 22\, 2021 Meeting Minutes\n• June 30\, 2022 Meeting Minutes \n5. Adjournment
URL:https://elktonky.com/es/event/board-of-adjustment-special-meeting-10/
LOCATION:Elkton City Hall\, 71 Public Square\, Elkton\, 42220
END:VEVENT
BEGIN:VEVENT
DTSTART;TZID=America/Chicago:20240208T180000
DTEND;TZID=America/Chicago:20240208T210000
DTSTAMP:20260422T132943
CREATED:20150401T152900Z
LAST-MODIFIED:20210205T170046Z
UID:10001523-1707415200-1707426000@elktonky.com
SUMMARY:City Council Meeting
DESCRIPTION:Regularly scheduled City Council meeting. Agenda may be viewed on City Council Meeting Page when made available.
URL:https://elktonky.com/es/event/city-council-meeting-2017-06-12-2017-07-12/2024-02-08/
END:VEVENT
END:VCALENDAR