BEGIN:VCALENDAR
VERSION:2.0
PRODID:-//The City of Elkton, KY - ECPv6.15.20//NONSGML v1.0//EN
CALSCALE:GREGORIAN
METHOD:PUBLISH
X-WR-CALNAME:The City of Elkton, KY
X-ORIGINAL-URL:https://elktonky.com/es
X-WR-CALDESC:Eventos para The City of Elkton, KY
REFRESH-INTERVAL;VALUE=DURATION:PT1H
X-Robots-Tag:noindex
X-PUBLISHED-TTL:PT1H
BEGIN:VTIMEZONE
TZID:America/Chicago
BEGIN:DAYLIGHT
TZOFFSETFROM:-0600
TZOFFSETTO:-0500
TZNAME:CDT
DTSTART:20230312T080000
END:DAYLIGHT
BEGIN:STANDARD
TZOFFSETFROM:-0500
TZOFFSETTO:-0600
TZNAME:CST
DTSTART:20231105T070000
END:STANDARD
BEGIN:DAYLIGHT
TZOFFSETFROM:-0600
TZOFFSETTO:-0500
TZNAME:CDT
DTSTART:20240310T080000
END:DAYLIGHT
BEGIN:STANDARD
TZOFFSETFROM:-0500
TZOFFSETTO:-0600
TZNAME:CST
DTSTART:20241103T070000
END:STANDARD
BEGIN:DAYLIGHT
TZOFFSETFROM:-0600
TZOFFSETTO:-0500
TZNAME:CDT
DTSTART:20250309T080000
END:DAYLIGHT
BEGIN:STANDARD
TZOFFSETFROM:-0500
TZOFFSETTO:-0600
TZNAME:CST
DTSTART:20251102T070000
END:STANDARD
END:VTIMEZONE
BEGIN:VTIMEZONE
TZID:America/Chicago
BEGIN:DAYLIGHT
TZOFFSETFROM:-0600
TZOFFSETTO:-0500
TZNAME:CDT
DTSTART:20230312T080000
END:DAYLIGHT
BEGIN:STANDARD
TZOFFSETFROM:-0500
TZOFFSETTO:-0600
TZNAME:CST
DTSTART:20231105T070000
END:STANDARD
BEGIN:DAYLIGHT
TZOFFSETFROM:-0600
TZOFFSETTO:-0500
TZNAME:CDT
DTSTART:20240310T080000
END:DAYLIGHT
BEGIN:STANDARD
TZOFFSETFROM:-0500
TZOFFSETTO:-0600
TZNAME:CST
DTSTART:20241103T070000
END:STANDARD
BEGIN:DAYLIGHT
TZOFFSETFROM:-0600
TZOFFSETTO:-0500
TZNAME:CDT
DTSTART:20250309T080000
END:DAYLIGHT
BEGIN:STANDARD
TZOFFSETFROM:-0500
TZOFFSETTO:-0600
TZNAME:CST
DTSTART:20251102T070000
END:STANDARD
END:VTIMEZONE
BEGIN:VEVENT
DTSTART;TZID=America/Chicago:20240307T180000
DTEND;TZID=America/Chicago:20240307T200000
DTSTAMP:20260421T204549
CREATED:20240214T172707Z
LAST-MODIFIED:20240214T173310Z
UID:10001955-1709834400-1709841600@elktonky.com
SUMMARY:Elkton Planning Commission Meeting
DESCRIPTION:Notice of Public Hearings  \n\nThe City of Elkton Planning Commission has received a request from Kevin Zook to rezone 309 W Main Street\, Elkton\, KY parcel E-02-03-04 as well as parcels located on Hampton Court: E-02-03-13 \, E-02-03-14\, and E-02-03-15 from R-1 Single Family to R-2 Medium Density Residential. A Public Hearing will be held on Thursday\, March 7\, 2024\, at 6:00 PM at Elkton City Hall\, 71 Public Square\, Elkton\, Kentucky\, to consider this request. All comments that are sent by letters\, will be given consideration. Contact Elkton Planning Commission at 270-265-9879 Option 4 for any questions or concerns.\nThe Elkton Planning Commission will hold a public hearing on Thursday\, March 7\, 2024\, at 6:00 PM at Elkton City Hall\, 71 Public Square\, Elkton\, Kentucky to hear comments regarding the adoption of any comprehensive plan amendments and make recommendations as to the zoning or other land use regulations which will be effective for the following properties upon its annexation:\n\n\n\nAnnexation of 3.04 acres approximately 1.5 miles west of Elkton\, KY on the north side of US Highway 68 ( Business) approximately 810 feet west of Beckam Road at 1570 West Jeff David Highway\, Elkton\, KY 42220\, with recommendation of zoning as a B-2 Neighborhood Commercial District upon approval of annexation.\nAnnexation of tract contains approximately 5.31 acres. Beginning at the southern boundary of LOT 16 of Riverbend Subdivision\, 1370.75 feet from the intersection of the west right of way of Pond River Road and the north right of way of US 68\, with recommendation of zoning as a B-3 Highway Commercial District upon approval of annexation.\n\n\n\n\n\nIf you are unable to attend\, all public comments that are in writing are welcome and will be given consideration. The City of Elkton is an equal opportunity provider and employer. Please contact Elkton City Hall\, 71 Public Square\, Elkton\, Kentucky at 270-265-9877 if you have any questions or comments.
URL:https://elktonky.com/es/event/elkton-planning-commission-meeting-15/
LOCATION:Elkton City Hall\, 71 Public Square\, Elkton\, 42220
END:VEVENT
BEGIN:VEVENT
DTSTART;TZID=America/Chicago:20240314T180000
DTEND;TZID=America/Chicago:20240314T210000
DTSTAMP:20260421T204549
CREATED:20150401T152900Z
LAST-MODIFIED:20210205T170046Z
UID:10001524-1710439200-1710450000@elktonky.com
SUMMARY:City Council Meeting
DESCRIPTION:Regularly scheduled City Council meeting. Agenda may be viewed on City Council Meeting Page when made available.
URL:https://elktonky.com/es/event/city-council-meeting-2017-06-12-2017-07-12/2024-03-14/
END:VEVENT
END:VCALENDAR