BEGIN:VCALENDAR
VERSION:2.0
PRODID:-//The City of Elkton, KY - ECPv6.15.20//NONSGML v1.0//EN
CALSCALE:GREGORIAN
METHOD:PUBLISH
X-WR-CALNAME:The City of Elkton, KY
X-ORIGINAL-URL:https://elktonky.com/es
X-WR-CALDESC:Eventos para The City of Elkton, KY
REFRESH-INTERVAL;VALUE=DURATION:PT1H
X-Robots-Tag:noindex
X-PUBLISHED-TTL:PT1H
BEGIN:VTIMEZONE
TZID:America/Chicago
BEGIN:DAYLIGHT
TZOFFSETFROM:-0600
TZOFFSETTO:-0500
TZNAME:CDT
DTSTART:20230312T080000
END:DAYLIGHT
BEGIN:STANDARD
TZOFFSETFROM:-0500
TZOFFSETTO:-0600
TZNAME:CST
DTSTART:20231105T070000
END:STANDARD
BEGIN:DAYLIGHT
TZOFFSETFROM:-0600
TZOFFSETTO:-0500
TZNAME:CDT
DTSTART:20240310T080000
END:DAYLIGHT
BEGIN:STANDARD
TZOFFSETFROM:-0500
TZOFFSETTO:-0600
TZNAME:CST
DTSTART:20241103T070000
END:STANDARD
BEGIN:DAYLIGHT
TZOFFSETFROM:-0600
TZOFFSETTO:-0500
TZNAME:CDT
DTSTART:20250309T080000
END:DAYLIGHT
BEGIN:STANDARD
TZOFFSETFROM:-0500
TZOFFSETTO:-0600
TZNAME:CST
DTSTART:20251102T070000
END:STANDARD
END:VTIMEZONE
BEGIN:VTIMEZONE
TZID:America/Chicago
BEGIN:DAYLIGHT
TZOFFSETFROM:-0600
TZOFFSETTO:-0500
TZNAME:CDT
DTSTART:20230312T080000
END:DAYLIGHT
BEGIN:STANDARD
TZOFFSETFROM:-0500
TZOFFSETTO:-0600
TZNAME:CST
DTSTART:20231105T070000
END:STANDARD
BEGIN:DAYLIGHT
TZOFFSETFROM:-0600
TZOFFSETTO:-0500
TZNAME:CDT
DTSTART:20240310T080000
END:DAYLIGHT
BEGIN:STANDARD
TZOFFSETFROM:-0500
TZOFFSETTO:-0600
TZNAME:CST
DTSTART:20241103T070000
END:STANDARD
BEGIN:DAYLIGHT
TZOFFSETFROM:-0600
TZOFFSETTO:-0500
TZNAME:CDT
DTSTART:20250309T080000
END:DAYLIGHT
BEGIN:STANDARD
TZOFFSETFROM:-0500
TZOFFSETTO:-0600
TZNAME:CST
DTSTART:20251102T070000
END:STANDARD
END:VTIMEZONE
BEGIN:VEVENT
DTSTART;TZID=America/Chicago:20241005T090000
DTEND;TZID=America/Chicago:20241005T150000
DTSTAMP:20260421T170409
CREATED:20240105T162503Z
LAST-MODIFIED:20240926T152316Z
UID:10001945-1728118800-1728140400@elktonky.com
SUMMARY:HarvestFest 2024
DESCRIPTION:Street festival with food vendors\, arts and crafts vendors\, boutique clothing\, home décor\, homemade baked goods\, jams\, jellies\, candles\, live music on the Main Square Stage\, free Children’s Activities Area\, and more! Visit the Event Page through link below for more information or to register for a booth space. \nVisit Event Page
URL:https://elktonky.com/es/event/harvestfest-2024/
LOCATION:Historic Public Square\, 1 Public Square\, Elkton\, Kentucky\, 42220
ORGANIZER;CN="Welcome Center":MAILTO:welcomecenter@elktonky.com
END:VEVENT
BEGIN:VEVENT
DTSTART;TZID=America/Chicago:20241010T180000
DTEND;TZID=America/Chicago:20241010T210000
DTSTAMP:20260421T170409
CREATED:20150401T152900Z
LAST-MODIFIED:20210205T170046Z
UID:10001531-1728583200-1728594000@elktonky.com
SUMMARY:City Council Meeting
DESCRIPTION:Regularly scheduled City Council meeting. Agenda may be viewed on City Council Meeting Page when made available.
URL:https://elktonky.com/es/event/city-council-meeting-2017-06-12-2017-07-12/2024-10-10/
END:VEVENT
BEGIN:VEVENT
DTSTART;TZID=America/Chicago:20241026T160000
DTEND;TZID=America/Chicago:20241026T200000
DTSTAMP:20260421T170409
CREATED:20240214T172133Z
LAST-MODIFIED:20240214T172133Z
UID:10001954-1729958400-1729972800@elktonky.com
SUMMARY:Cruise In on Public Square
DESCRIPTION:Cruise In on Public Square in Elkton\, Kentucky is held on the 4th Saturday of the month from April through October. Cruise In starts at 4 PM with free parking around Public Square.  All cars and trucks are welcome! \nWhile you are in town\, enjoy oldies music playing on the speakers\, sales at our local shops and boutiques\, and dinner specials at our local restaurants.
URL:https://elktonky.com/es/event/cruise-in-on-public-square-15/
LOCATION:Historic Public Square\, 1 Public Square\, Elkton\, Kentucky\, 42220
ORGANIZER;CN="Welcome Center":MAILTO:welcomecenter@elktonky.com
END:VEVENT
BEGIN:VEVENT
DTSTART;TZID=America/Chicago:20241031T173000
DTEND;TZID=America/Chicago:20241031T193000
DTSTAMP:20260421T170409
CREATED:20241023T154256Z
LAST-MODIFIED:20241023T154256Z
UID:10001989-1730395800-1730403000@elktonky.com
SUMMARY:2024 Elkton Truck or Treating
DESCRIPTION:  Elkton Trick or Treating will be on Halloween night from 5:30-7:30 PM!\n\n\n  Make sure to have your costumers & candy bags ready for a night of Halloween fun!\n\n\n  Elkton Police Department will be handing out free glow sticks!\n\n\n  Stay safe & have a spooky good time!\n\n\nHalloween 2024
URL:https://elktonky.com/es/event/2024-elkton-truck-or-treating/
ATTACH;FMTTYPE=image/png:https://elktonky.com/wp-content/uploads/2024/10/Halloween.png
END:VEVENT
END:VCALENDAR