BEGIN:VCALENDAR
VERSION:2.0
PRODID:-//The City of Elkton, KY - ECPv6.15.20//NONSGML v1.0//EN
CALSCALE:GREGORIAN
METHOD:PUBLISH
X-WR-CALNAME:The City of Elkton, KY
X-ORIGINAL-URL:https://elktonky.com/es
X-WR-CALDESC:Eventos para The City of Elkton, KY
REFRESH-INTERVAL;VALUE=DURATION:PT1H
X-Robots-Tag:noindex
X-PUBLISHED-TTL:PT1H
BEGIN:VTIMEZONE
TZID:America/Chicago
BEGIN:DAYLIGHT
TZOFFSETFROM:-0600
TZOFFSETTO:-0500
TZNAME:CDT
DTSTART:20240310T080000
END:DAYLIGHT
BEGIN:STANDARD
TZOFFSETFROM:-0500
TZOFFSETTO:-0600
TZNAME:CST
DTSTART:20241103T070000
END:STANDARD
BEGIN:DAYLIGHT
TZOFFSETFROM:-0600
TZOFFSETTO:-0500
TZNAME:CDT
DTSTART:20250309T080000
END:DAYLIGHT
BEGIN:STANDARD
TZOFFSETFROM:-0500
TZOFFSETTO:-0600
TZNAME:CST
DTSTART:20251102T070000
END:STANDARD
BEGIN:DAYLIGHT
TZOFFSETFROM:-0600
TZOFFSETTO:-0500
TZNAME:CDT
DTSTART:20260308T080000
END:DAYLIGHT
BEGIN:STANDARD
TZOFFSETFROM:-0500
TZOFFSETTO:-0600
TZNAME:CST
DTSTART:20261101T070000
END:STANDARD
END:VTIMEZONE
BEGIN:VTIMEZONE
TZID:America/Chicago
BEGIN:DAYLIGHT
TZOFFSETFROM:-0600
TZOFFSETTO:-0500
TZNAME:CDT
DTSTART:20240310T080000
END:DAYLIGHT
BEGIN:STANDARD
TZOFFSETFROM:-0500
TZOFFSETTO:-0600
TZNAME:CST
DTSTART:20241103T070000
END:STANDARD
BEGIN:DAYLIGHT
TZOFFSETFROM:-0600
TZOFFSETTO:-0500
TZNAME:CDT
DTSTART:20250309T080000
END:DAYLIGHT
BEGIN:STANDARD
TZOFFSETFROM:-0500
TZOFFSETTO:-0600
TZNAME:CST
DTSTART:20251102T070000
END:STANDARD
BEGIN:DAYLIGHT
TZOFFSETFROM:-0600
TZOFFSETTO:-0500
TZNAME:CDT
DTSTART:20260308T080000
END:DAYLIGHT
BEGIN:STANDARD
TZOFFSETFROM:-0500
TZOFFSETTO:-0600
TZNAME:CST
DTSTART:20261101T070000
END:STANDARD
END:VTIMEZONE
BEGIN:VEVENT
DTSTART;TZID=America/Chicago:20250508T180000
DTEND;TZID=America/Chicago:20250508T210000
DTSTAMP:20260419T145023
CREATED:20150401T152900Z
LAST-MODIFIED:20210205T170046Z
UID:10001538-1746727200-1746738000@elktonky.com
SUMMARY:City Council Meeting
DESCRIPTION:Regularly scheduled City Council meeting. Agenda may be viewed on City Council Meeting Page when made available.
URL:https://elktonky.com/es/event/city-council-meeting-2017-06-12-2017-07-12/2025-05-08/
END:VEVENT
BEGIN:VEVENT
DTSTART;TZID=America/Chicago:20250524T160000
DTEND;TZID=America/Chicago:20250524T200000
DTSTAMP:20260419T145023
CREATED:20250124T200302Z
LAST-MODIFIED:20250205T170309Z
UID:10002017-1748102400-1748116800@elktonky.com
SUMMARY:Cruisin’ Elkton Car & Truck Show
DESCRIPTION:Cruisin’ Elkton rolls into the historic town square every 4th Saturday of the month\, from April to October. Whether you’re a classic car fan\, a truck enthusiast\, or just love seeing unique rides\, Cruisin’ Elkton is the place to be!
URL:https://elktonky.com/es/event/cruisin-elkton-car-truck-show/2025-05-24/
LOCATION:Historic Public Square\, 1 Public Square\, Elkton\, Kentucky\, 42220
END:VEVENT
BEGIN:VEVENT
DTSTART;TZID=America/Chicago:20250531T183000
DTEND;TZID=America/Chicago:20250531T210000
DTSTAMP:20260419T145023
CREATED:20250124T193805Z
LAST-MODIFIED:20250124T193955Z
UID:10001992-1748716200-1748725200@elktonky.com
SUMMARY:Elkton Bike Night Featuring The Bicho Brothers
DESCRIPTION:One Night Only: Elkton’s Bike Night Is Back! \nGet ready for a night of thrills as Elkton’s Bike Night returns! Join us for an unforgettable evening featuring live music by the Bicho Brothers\, plus motorcycles\, great food\, and tons of fun! Don’t miss out – ride on over for a night to remember!
URL:https://elktonky.com/es/event/elkton-bike-night-featuring-the-bicho-brothers/
LOCATION:Historic Public Square\, 1 Public Square\, Elkton\, Kentucky\, 42220
END:VEVENT
END:VCALENDAR