BEGIN:VCALENDAR
VERSION:2.0
PRODID:-//The City of Elkton, KY - ECPv6.15.20//NONSGML v1.0//EN
CALSCALE:GREGORIAN
METHOD:PUBLISH
X-ORIGINAL-URL:https://elktonky.com/es
X-WR-CALDESC:Eventos para The City of Elkton, KY
REFRESH-INTERVAL;VALUE=DURATION:PT1H
X-Robots-Tag:noindex
X-PUBLISHED-TTL:PT1H
BEGIN:VTIMEZONE
TZID:America/Chicago
BEGIN:DAYLIGHT
TZOFFSETFROM:-0600
TZOFFSETTO:-0500
TZNAME:CDT
DTSTART:20230312T080000
END:DAYLIGHT
BEGIN:STANDARD
TZOFFSETFROM:-0500
TZOFFSETTO:-0600
TZNAME:CST
DTSTART:20231105T070000
END:STANDARD
BEGIN:DAYLIGHT
TZOFFSETFROM:-0600
TZOFFSETTO:-0500
TZNAME:CDT
DTSTART:20240310T080000
END:DAYLIGHT
BEGIN:STANDARD
TZOFFSETFROM:-0500
TZOFFSETTO:-0600
TZNAME:CST
DTSTART:20241103T070000
END:STANDARD
BEGIN:DAYLIGHT
TZOFFSETFROM:-0600
TZOFFSETTO:-0500
TZNAME:CDT
DTSTART:20250309T080000
END:DAYLIGHT
BEGIN:STANDARD
TZOFFSETFROM:-0500
TZOFFSETTO:-0600
TZNAME:CST
DTSTART:20251102T070000
END:STANDARD
END:VTIMEZONE
BEGIN:VEVENT
DTSTART;TZID=America/Chicago:20240523T080000
DTEND;TZID=America/Chicago:20240523T100000
DTSTAMP:20260422T071022
CREATED:20240521T170632Z
LAST-MODIFIED:20240521T170632Z
UID:10001963-1716451200-1716458400@elktonky.com
SUMMARY:Special City Council Meeting
DESCRIPTION:There will be a special meeting of the Elkton City Council on Thursday\, May 23\, 2024 at 8:00 AM at Elkton City Hall\, 71 Public Square\, to discuss the following: \nAGENDA \n1. Breakfast \n2. Resolution 2024-03\, “RESOLUTION AUTHORIZING APPLICATION AND FUNDING FOR ASSISTANCE UNDER LAND AND WATER CONSERVATION FUND ACT FOR IMPROVEMENT OF RECREATIONAL FACILITIES” \n3. Fire Chief Recommendation \n4. FY 2025 Budget Message and Proposal
URL:https://elktonky.com/es/event/special-city-council-meeting-43/
LOCATION:Elkton City Hall\, 71 Public Square\, Elkton\, 42220
END:VEVENT
END:VCALENDAR