BEGIN:VCALENDAR
VERSION:2.0
PRODID:-//The City of Elkton, KY - ECPv6.15.20//NONSGML v1.0//EN
CALSCALE:GREGORIAN
METHOD:PUBLISH
X-ORIGINAL-URL:https://elktonky.com/es
X-WR-CALDESC:Eventos para The City of Elkton, KY
REFRESH-INTERVAL;VALUE=DURATION:PT1H
X-Robots-Tag:noindex
X-PUBLISHED-TTL:PT1H
BEGIN:VTIMEZONE
TZID:America/Chicago
BEGIN:DAYLIGHT
TZOFFSETFROM:-0600
TZOFFSETTO:-0500
TZNAME:CDT
DTSTART:20230312T080000
END:DAYLIGHT
BEGIN:STANDARD
TZOFFSETFROM:-0500
TZOFFSETTO:-0600
TZNAME:CST
DTSTART:20231105T070000
END:STANDARD
BEGIN:DAYLIGHT
TZOFFSETFROM:-0600
TZOFFSETTO:-0500
TZNAME:CDT
DTSTART:20240310T080000
END:DAYLIGHT
BEGIN:STANDARD
TZOFFSETFROM:-0500
TZOFFSETTO:-0600
TZNAME:CST
DTSTART:20241103T070000
END:STANDARD
BEGIN:DAYLIGHT
TZOFFSETFROM:-0600
TZOFFSETTO:-0500
TZNAME:CDT
DTSTART:20250309T080000
END:DAYLIGHT
BEGIN:STANDARD
TZOFFSETFROM:-0500
TZOFFSETTO:-0600
TZNAME:CST
DTSTART:20251102T070000
END:STANDARD
END:VTIMEZONE
BEGIN:VEVENT
DTSTART;TZID=America/Chicago:20240404T180000
DTEND;TZID=America/Chicago:20240404T200000
DTSTAMP:20260421T190704
CREATED:20240402T150358Z
LAST-MODIFIED:20240402T150358Z
UID:10001960-1712253600-1712260800@elktonky.com
SUMMARY:Planning Commission Meeting
DESCRIPTION:Agenda \n1. Call to Order \n2. Approval of Minutes – March 7\, 2024 \n3. Training \n4. Adjournment
URL:https://elktonky.com/es/event/planning-commission-meeting-26/
LOCATION:Elkton City Hall\, 71 Public Square\, Elkton\, 42220
END:VEVENT
BEGIN:VEVENT
DTSTART;TZID=America/Chicago:20240404T180000
DTEND;TZID=America/Chicago:20240404T200000
DTSTAMP:20260421T190704
CREATED:20240402T150535Z
LAST-MODIFIED:20240402T150535Z
UID:10001961-1712253600-1712260800@elktonky.com
SUMMARY:Board of Adjustment Special Meeting
DESCRIPTION:AGENDA \n1. Roll Call\n2. Approval of Minutes – February 5\, 2024\n3. Training\n4. Adjournment
URL:https://elktonky.com/es/event/board-of-adjustment-special-meeting-11/
LOCATION:Elkton City Hall\, 71 Public Square\, Elkton\, 42220
END:VEVENT
END:VCALENDAR