BEGIN:VCALENDAR
VERSION:2.0
PRODID:-//The City of Elkton, KY - ECPv6.15.20//NONSGML v1.0//EN
CALSCALE:GREGORIAN
METHOD:PUBLISH
X-WR-CALNAME:The City of Elkton, KY
X-ORIGINAL-URL:https://elktonky.com/es
X-WR-CALDESC:Eventos para The City of Elkton, KY
REFRESH-INTERVAL;VALUE=DURATION:PT1H
X-Robots-Tag:noindex
X-PUBLISHED-TTL:PT1H
BEGIN:VTIMEZONE
TZID:America/Chicago
BEGIN:DAYLIGHT
TZOFFSETFROM:-0600
TZOFFSETTO:-0500
TZNAME:CDT
DTSTART:20230312T080000
END:DAYLIGHT
BEGIN:STANDARD
TZOFFSETFROM:-0500
TZOFFSETTO:-0600
TZNAME:CST
DTSTART:20231105T070000
END:STANDARD
BEGIN:DAYLIGHT
TZOFFSETFROM:-0600
TZOFFSETTO:-0500
TZNAME:CDT
DTSTART:20240310T080000
END:DAYLIGHT
BEGIN:STANDARD
TZOFFSETFROM:-0500
TZOFFSETTO:-0600
TZNAME:CST
DTSTART:20241103T070000
END:STANDARD
BEGIN:DAYLIGHT
TZOFFSETFROM:-0600
TZOFFSETTO:-0500
TZNAME:CDT
DTSTART:20250309T080000
END:DAYLIGHT
BEGIN:STANDARD
TZOFFSETFROM:-0500
TZOFFSETTO:-0600
TZNAME:CST
DTSTART:20251102T070000
END:STANDARD
END:VTIMEZONE
BEGIN:VTIMEZONE
TZID:America/Chicago
BEGIN:DAYLIGHT
TZOFFSETFROM:-0600
TZOFFSETTO:-0500
TZNAME:CDT
DTSTART:20230312T080000
END:DAYLIGHT
BEGIN:STANDARD
TZOFFSETFROM:-0500
TZOFFSETTO:-0600
TZNAME:CST
DTSTART:20231105T070000
END:STANDARD
BEGIN:DAYLIGHT
TZOFFSETFROM:-0600
TZOFFSETTO:-0500
TZNAME:CDT
DTSTART:20240310T080000
END:DAYLIGHT
BEGIN:STANDARD
TZOFFSETFROM:-0500
TZOFFSETTO:-0600
TZNAME:CST
DTSTART:20241103T070000
END:STANDARD
BEGIN:DAYLIGHT
TZOFFSETFROM:-0600
TZOFFSETTO:-0500
TZNAME:CDT
DTSTART:20250309T080000
END:DAYLIGHT
BEGIN:STANDARD
TZOFFSETFROM:-0500
TZOFFSETTO:-0600
TZNAME:CST
DTSTART:20251102T070000
END:STANDARD
END:VTIMEZONE
BEGIN:VEVENT
DTSTART;TZID=America/Chicago:20240711T180000
DTEND;TZID=America/Chicago:20240711T210000
DTSTAMP:20260421T184559
CREATED:20150401T152900Z
LAST-MODIFIED:20210205T170046Z
UID:10001528-1720720800-1720731600@elktonky.com
SUMMARY:City Council Meeting
DESCRIPTION:Regularly scheduled City Council meeting. Agenda may be viewed on City Council Meeting Page when made available.
URL:https://elktonky.com/es/event/city-council-meeting-2017-06-12-2017-07-12/2024-07-11/
END:VEVENT
BEGIN:VEVENT
DTSTART;TZID=America/Chicago:20240713T183000
DTEND;TZID=America/Chicago:20240713T213000
DTSTAMP:20260421T184559
CREATED:20240301T175039Z
LAST-MODIFIED:20240301T175039Z
UID:10001959-1720895400-1720906200@elktonky.com
SUMMARY:Tyrone Dunn & Kin-Foke Concert
DESCRIPTION:Dive into the rhythm with us at the Tyrone Dunn & Kin-Foke Concert\n\nDate: Saturday\, July 13th\nTime: Join your host DJ’s: DJ EB Productions\, DJ Heavy R\, DJ Jesid\, & DJ Reezy\nat 6:30PM\nTyrone Dunn & Kin-Foke will begin performing at 7:30PM!\nLocation: Milliken Memorial Community House\nFREE ENTRY!\n\nLet’s ignite the night with soulful tunes & magnetic energy! Join us for an evening of pure musical magic that will lift your spirits & move your soul! Bring your friends & family\, & let’s create memories that will last a lifetime!\n\nHomeboy BBQ & Kingfish\, The Rolling Recipe\, Janae’s Italian Ice\, & Casey Jones Distillery will be at this event.
URL:https://elktonky.com/es/event/tyrone-dunn-kin-foke-concert/
LOCATION:Milliken Memorial Community House Lawn\, 208 W Main St\, Elkton\, KY\, 42220\, United States
ATTACH;FMTTYPE=image/png:https://elktonky.com/wp-content/uploads/2024/03/Tyrone-Dunn-REDO.png
END:VEVENT
END:VCALENDAR