BEGIN:VCALENDAR
VERSION:2.0
PRODID:-//The City of Elkton, KY - ECPv6.15.20//NONSGML v1.0//EN
CALSCALE:GREGORIAN
METHOD:PUBLISH
X-WR-CALNAME:The City of Elkton, KY
X-ORIGINAL-URL:https://elktonky.com
X-WR-CALDESC:Events for The City of Elkton, KY
REFRESH-INTERVAL;VALUE=DURATION:PT1H
X-Robots-Tag:noindex
X-PUBLISHED-TTL:PT1H
BEGIN:VTIMEZONE
TZID:America/Chicago
BEGIN:DAYLIGHT
TZOFFSETFROM:-0600
TZOFFSETTO:-0500
TZNAME:CDT
DTSTART:20220313T080000
END:DAYLIGHT
BEGIN:STANDARD
TZOFFSETFROM:-0500
TZOFFSETTO:-0600
TZNAME:CST
DTSTART:20221106T070000
END:STANDARD
BEGIN:DAYLIGHT
TZOFFSETFROM:-0600
TZOFFSETTO:-0500
TZNAME:CDT
DTSTART:20230312T080000
END:DAYLIGHT
BEGIN:STANDARD
TZOFFSETFROM:-0500
TZOFFSETTO:-0600
TZNAME:CST
DTSTART:20231105T070000
END:STANDARD
BEGIN:DAYLIGHT
TZOFFSETFROM:-0600
TZOFFSETTO:-0500
TZNAME:CDT
DTSTART:20240310T080000
END:DAYLIGHT
BEGIN:STANDARD
TZOFFSETFROM:-0500
TZOFFSETTO:-0600
TZNAME:CST
DTSTART:20241103T070000
END:STANDARD
END:VTIMEZONE
BEGIN:VEVENT
DTSTART;TZID=America/Chicago:20230923T090000
DTEND;TZID=America/Chicago:20230923T150000
DTSTAMP:20260422T071558
CREATED:20230307T171719Z
LAST-MODIFIED:20230726T190258Z
UID:10001921-1695459600-1695481200@elktonky.com
SUMMARY:HarvestFest
DESCRIPTION:Street festival with food vendors\, arts and crafts vendors\, boutique clothing\, home décor\, homemade baked goods\, jams\, jellies\, candles\, live music on the Main Square Stage\, free Children’s Activities Area\, and more! Visit the Event Page through link below for more information or to register for a booth space. \nVisit Event Page \n 
URL:https://elktonky.com/event/harvestfest-3/
LOCATION:Historic Public Square\, 1 Public Square\, Elkton\, Kentucky\, 42220
ORGANIZER;CN="Welcome Center":MAILTO:welcomecenter@elktonky.com
END:VEVENT
BEGIN:VEVENT
DTSTART;TZID=America/Chicago:20230923T160000
DTEND;TZID=America/Chicago:20230923T200000
DTSTAMP:20260422T071558
CREATED:20230317T164426Z
LAST-MODIFIED:20230317T164426Z
UID:10001926-1695484800-1695499200@elktonky.com
SUMMARY:Cruise In on Public Square
DESCRIPTION:Cruise In on Public Square in Elkton\, Kentucky is held on the 4th Saturday of the month from April through October. Cruise In starts at 4 PM with free parking around Public Square.  All cars and trucks are welcome! \nWhile you are in town\, enjoy oldies music playing on the speakers\, sales at our local shops and boutiques\, and dinner specials at our local restaurants.
URL:https://elktonky.com/event/cruise-in-on-public-square-10/
LOCATION:Historic Public Square\, 1 Public Square\, Elkton\, Kentucky\, 42220
ORGANIZER;CN="Welcome Center":MAILTO:welcomecenter@elktonky.com
END:VEVENT
END:VCALENDAR