BEGIN:VCALENDAR
VERSION:2.0
PRODID:-//The City of Elkton, KY - ECPv6.15.20//NONSGML v1.0//EN
CALSCALE:GREGORIAN
METHOD:PUBLISH
X-ORIGINAL-URL:https://elktonky.com
X-WR-CALDESC:Events for The City of Elkton, KY
REFRESH-INTERVAL;VALUE=DURATION:PT1H
X-Robots-Tag:noindex
X-PUBLISHED-TTL:PT1H
BEGIN:VTIMEZONE
TZID:America/Chicago
BEGIN:DAYLIGHT
TZOFFSETFROM:-0600
TZOFFSETTO:-0500
TZNAME:CDT
DTSTART:20230312T080000
END:DAYLIGHT
BEGIN:STANDARD
TZOFFSETFROM:-0500
TZOFFSETTO:-0600
TZNAME:CST
DTSTART:20231105T070000
END:STANDARD
BEGIN:DAYLIGHT
TZOFFSETFROM:-0600
TZOFFSETTO:-0500
TZNAME:CDT
DTSTART:20240310T080000
END:DAYLIGHT
BEGIN:STANDARD
TZOFFSETFROM:-0500
TZOFFSETTO:-0600
TZNAME:CST
DTSTART:20241103T070000
END:STANDARD
BEGIN:DAYLIGHT
TZOFFSETFROM:-0600
TZOFFSETTO:-0500
TZNAME:CDT
DTSTART:20250309T080000
END:DAYLIGHT
BEGIN:STANDARD
TZOFFSETFROM:-0500
TZOFFSETTO:-0600
TZNAME:CST
DTSTART:20251102T070000
END:STANDARD
END:VTIMEZONE
BEGIN:VEVENT
DTSTART;TZID=America/Chicago:20240617T080000
DTEND;TZID=America/Chicago:20240617T090000
DTSTAMP:20260422T042739
CREATED:20240614T162733Z
LAST-MODIFIED:20240614T162859Z
UID:10001964-1718611200-1718614800@elktonky.com
SUMMARY:Special City Council Meeting
DESCRIPTION:SPECIAL MEETING NOTICE \nThere will be a special meeting of the Elkton City Council on Monday\, June 17\, 2024 at 8:00 AM at Elkton City Hall\, 71 Public Square\, to discuss the following: \nAGENDA\n \n\nSecond Reading Ordinance 2024-05 – AN ORDINANCE AMENDING SECTION 97.21 OF THE CODE OF ORDINANCES OF THE CITY OF ELKTON ADJUSTING THE MONTHLY SERVICE FEE ESTABLISHED FOR RESIDENTIAL COLLECTION AND DISPOSAL OF SOLID WASTE MATERIALS\nSecond Reading Ordinance 2024-06 – AN ORDINANCE ENACTING AND ADOPTING THE THIRTY-FIFTH SUPPLEMENT TO THE CODE OF ORDINANCES OF THE CITY OF ELKTON\, KENTUCKY\nSecond Reading Ordinance 2024-07 – AN ORDINANCE AMENDING THE ANNUAL BUDGET FOR THE CITY OF ELKTON\, KENTUCKY FOR THE FISCAL YEAR JULY 1\, 2023 THROUGH JUNE 30\, 2024\nSecond Reading Ordinance 2024-08 – AN ORDINANCE RELATING TO THE ANNUAL BUDGET AND APPROPRIATIONS FOR THE CITY OF ELKTON\, KENTUCKY\, FOR THE FISCAL YEAR JULY 1\, 2024 THROUGH JUNE 30\, 2025
URL:https://elktonky.com/event/special-city-council-meeting-44/
LOCATION:Elkton City Hall\, 71 Public Square\, Elkton\, 42220
END:VEVENT
END:VCALENDAR