BEGIN:VCALENDAR
VERSION:2.0
PRODID:-//The City of Elkton, KY - ECPv6.15.20//NONSGML v1.0//EN
CALSCALE:GREGORIAN
METHOD:PUBLISH
X-WR-CALNAME:The City of Elkton, KY
X-ORIGINAL-URL:https://elktonky.com
X-WR-CALDESC:Events for The City of Elkton, KY
REFRESH-INTERVAL;VALUE=DURATION:PT1H
X-Robots-Tag:noindex
X-PUBLISHED-TTL:PT1H
BEGIN:VTIMEZONE
TZID:America/Chicago
BEGIN:DAYLIGHT
TZOFFSETFROM:-0600
TZOFFSETTO:-0500
TZNAME:CDT
DTSTART:20160313T080000
END:DAYLIGHT
BEGIN:STANDARD
TZOFFSETFROM:-0500
TZOFFSETTO:-0600
TZNAME:CST
DTSTART:20161106T070000
END:STANDARD
BEGIN:DAYLIGHT
TZOFFSETFROM:-0600
TZOFFSETTO:-0500
TZNAME:CDT
DTSTART:20170312T080000
END:DAYLIGHT
BEGIN:STANDARD
TZOFFSETFROM:-0500
TZOFFSETTO:-0600
TZNAME:CST
DTSTART:20171105T070000
END:STANDARD
BEGIN:DAYLIGHT
TZOFFSETFROM:-0600
TZOFFSETTO:-0500
TZNAME:CDT
DTSTART:20180311T080000
END:DAYLIGHT
BEGIN:STANDARD
TZOFFSETFROM:-0500
TZOFFSETTO:-0600
TZNAME:CST
DTSTART:20181104T070000
END:STANDARD
END:VTIMEZONE
BEGIN:VTIMEZONE
TZID:America/Chicago
BEGIN:DAYLIGHT
TZOFFSETFROM:-0600
TZOFFSETTO:-0500
TZNAME:CDT
DTSTART:20160313T080000
END:DAYLIGHT
BEGIN:STANDARD
TZOFFSETFROM:-0500
TZOFFSETTO:-0600
TZNAME:CST
DTSTART:20161106T070000
END:STANDARD
BEGIN:DAYLIGHT
TZOFFSETFROM:-0600
TZOFFSETTO:-0500
TZNAME:CDT
DTSTART:20170312T080000
END:DAYLIGHT
BEGIN:STANDARD
TZOFFSETFROM:-0500
TZOFFSETTO:-0600
TZNAME:CST
DTSTART:20171105T070000
END:STANDARD
BEGIN:DAYLIGHT
TZOFFSETFROM:-0600
TZOFFSETTO:-0500
TZNAME:CDT
DTSTART:20180311T080000
END:DAYLIGHT
BEGIN:STANDARD
TZOFFSETFROM:-0500
TZOFFSETTO:-0600
TZNAME:CST
DTSTART:20181104T070000
END:STANDARD
END:VTIMEZONE
BEGIN:VEVENT
DTSTART;TZID=America/Chicago:20170518T170000
DTEND;TZID=America/Chicago:20170518T200000
DTSTAMP:20260419T132741
CREATED:20170516T195729Z
LAST-MODIFIED:20170516T195729Z
UID:10001634-1495126800-1495137600@elktonky.com
SUMMARY:Special City Council Meeting
DESCRIPTION:SPECIAL MEETING NOTICE \nThere will be a special meeting of the Elkton City Council on Thursday\, May 18\, 2017 at 5:00 PM at Elkton City Hall\, \n 71 Public Square\, to discuss the following: \nAGENDA \n  \n\nSecond Reading Ordinance 2017-04 – Ordinance Amending Compensation Plan and Pay Scale (Sponsor: Haley)\n\n\nSecond Reading Ordinance 2017-05 – Ordinance Adopting Procurement Standards (Sponsor: Case)\n\n\nElkton Die Casting\n\n\nFirst Reading Ordinance 2017-06 – AN ORDINANCE AMENDING THE ANNUAL BUDGET FOR THE CITY OF ELKTON\, KENTUCKY FOR THE FISCAL YEAR JULY 1\, 2016 THROUGH JUNE 30\, 2017 (Sponsor: Powell)\n\n\nMayor’s Budget Message and Proposal for Fiscal Year Ending June 30\, 2018\n\n\nFirst Reading Ordinance 2017-07 – AN ORDINANCE RELATING TO THE ANNUAL BUDGET AND APPROPRIATIONS FOR THE CITY OF ELKTON\, KENTUCKY\, FOR THE FISCAL YEAR JULY 1\, 2017 THROUGH JUNE 30\, 2018 (Sponsor: McReynolds)\n\n\nReminder June 12\, 2017 Regular Meeting is Cancelled and Special Meeting will be Held Tuesday\, June 13\, 2017
URL:https://elktonky.com/event/special-city-council-meeting-10-2/
LOCATION:KY
END:VEVENT
BEGIN:VEVENT
DTSTART;TZID=America/Chicago:20170602T000000
DTEND;TZID=America/Chicago:20170602T000000
DTSTAMP:20260419T132741
CREATED:20200220T200006Z
LAST-MODIFIED:20200220T200006Z
UID:10001778-1496361600-1496361600@elktonky.com
SUMMARY:Planning Commission Meeting
DESCRIPTION: \n  \nAgenda \n1. Call to Order \n2.  Approval of Minutes – May 11\, 2017 Meeting \n3.  Public Hearings \n     -Helping Hands Health Clinic\, Inc. DBA Blount Rural Health Center\, located at 810 South Main Street\, Zoning Upon Annexation \n     -Proposed Amendments to the Zoning Ordinance Text \n4.  Old Business \n     -Elkton Clinic Development Plan \n5.  New Business \n     -Other \n6.  Zoning Administrator Report \n7.  Adjournment
URL:https://elktonky.com/event/planning-commission-meeting-7/
LOCATION:KY
END:VEVENT
BEGIN:VEVENT
DTSTART;TZID=America/Chicago:20170608T190000
DTEND;TZID=America/Chicago:20170608T210000
DTSTAMP:20260419T132741
CREATED:20170602T134443Z
LAST-MODIFIED:20170602T134443Z
UID:10001635-1496948400-1496955600@elktonky.com
SUMMARY:Planning Commission Meeting
DESCRIPTION:  \n  \nAgenda \n1. Call to Order \n2.  Approval of Minutes – May 11\, 2017 Meeting \n3.  Public Hearings \n     -Helping Hands Health Clinic\, Inc. DBA Blount Rural Health Center\, located at 810 South Main Street\, Zoning Upon Annexation \n     -Proposed Amendments to the Zoning Ordinance Text \n4.  Old Business \n     -Elkton Clinic Development Plan \n5.  New Business \n     -Other \n6.  Zoning Administrator Report \n7.  Adjournment
URL:https://elktonky.com/event/planning-commission-meeting-8-2/
LOCATION:KY
END:VEVENT
BEGIN:VEVENT
DTSTART;TZID=America/Chicago:20170612T190000
DTEND;TZID=America/Chicago:20170612T210000
DTSTAMP:20260419T132741
CREATED:20150401T152900Z
LAST-MODIFIED:20150401T152900Z
UID:10001451-1497294000-1497301200@elktonky.com
SUMMARY:City Council Meeting - CANCELLED
DESCRIPTION:Regularly scheduled City Council meeting.
URL:https://elktonky.com/event/city-council-meeting-2017-06-12/
LOCATION:KY
END:VEVENT
BEGIN:VEVENT
DTSTART;TZID=America/Chicago:20170613T180000
DTEND;TZID=America/Chicago:20170613T220000
DTSTAMP:20260419T132741
CREATED:20170510T152909Z
LAST-MODIFIED:20170510T152909Z
UID:10001633-1497376800-1497391200@elktonky.com
SUMMARY:Special City Council Meeting
DESCRIPTION:Special meeting. Agenda to be announced.
URL:https://elktonky.com/event/special-city-council-meeting-9-2/
LOCATION:KY
END:VEVENT
BEGIN:VEVENT
DTSTART;TZID=America/Chicago:20170707T000000
DTEND;TZID=America/Chicago:20170707T000000
DTSTAMP:20260419T132741
CREATED:20200220T200006Z
LAST-MODIFIED:20200220T200006Z
UID:10001779-1499385600-1499385600@elktonky.com
SUMMARY:Elkton Planning Commission
DESCRIPTION:Elkton Planning Commission Meeting\nElkton City Hall Conference Room – 71 Public Square\nThursday\, July 13\, 2017\n7:00 PM \n  \nAgenda \n1. Call to Order \n2. Approval of Minutes – May 11\, 2017 Meeting \n3. Approval of Minutes – June 8\, 2017 Meeting \n4. Old Business \n    – Elkton Clinic Development Plan \n    – Storage Buildings at Garden Homes \n    – Planned Unit Development (PUD) \n    – Zoning Map Change Requirement \n5. New Business \n    – Flood Damage Prevention Ordinance \n    – Eight Hour Training Session Will Be Setup in Fall \n    – Special Meeting and Zoning Change Request Hearing – Tuesday\, July 25\, 2017 at 6 PM \n6. Zoning Administrator Report \n7. Adjournment
URL:https://elktonky.com/event/elkton-planning-commission/
LOCATION:KY
END:VEVENT
BEGIN:VEVENT
DTSTART;TZID=America/Chicago:20170710T000000
DTEND;TZID=America/Chicago:20170710T000000
DTSTAMP:20260419T132741
CREATED:20200220T200007Z
LAST-MODIFIED:20200220T200007Z
UID:10001780-1499644800-1499644800@elktonky.com
SUMMARY:Elkton Planning Commission Special Meeting and Public Hearings
DESCRIPTION: \nAgenda Will Be Posted Soon
URL:https://elktonky.com/event/elkton-planning-commission-special-meeting-and-public-hearings/
LOCATION:KY
END:VEVENT
BEGIN:VEVENT
DTSTART;TZID=America/Chicago:20170712T000000
DTEND;TZID=America/Chicago:20170712T000000
DTSTAMP:20260419T132741
CREATED:20200220T200008Z
LAST-MODIFIED:20200220T200008Z
UID:10001782-1499817600-1499817600@elktonky.com
SUMMARY:Special City Council Meeting
DESCRIPTION: \nThere will be a special meeting of the Elkton City Council on Thursday\, July 20\, 2017 at 5:00 PM at Elkton City Hall\, 71 Public Square\, to discuss the following: \nAGENDA \n \n\nCall to Order\nPledge of Allegiance \nInvocation\nTodd County Industrial Foundation 2017-2018 Contribution\nSecond Reading Ordinance 2017-08 – AN ORDINANCE AMENDING SECTION 50.25 OF THE CODE OF ORDINANCES OF THE CITY OF ELKTON ADJUSTING WATER RATES CHARGED BY THE WATERWORKS SYSTEM OF THE CITY OF ELKTON (Sponsor: Laster)\nSecond Reading Ordinance 2017-11 – AN ORDINANCE AMENDING THE TEXT OF CHAPTER 151 (ZONING) OF THE CITY OF ELKTON CODE OF ORDINANCES (Sponsor: Case)
URL:https://elktonky.com/event/special-city-council-meeting-11/
LOCATION:KY
END:VEVENT
BEGIN:VEVENT
DTSTART;TZID=America/Chicago:20170713T190000
DTEND;TZID=America/Chicago:20170713T210000
DTSTAMP:20260419T132741
CREATED:20170707T140938Z
LAST-MODIFIED:20170707T140938Z
UID:10001636-1499972400-1499979600@elktonky.com
SUMMARY:Elkton Planning Commission
DESCRIPTION:Elkton Planning Commission Meeting\nElkton City Hall Conference Room – 71 Public Square\nThursday\, July 13\, 2017\n7:00 PM \n  \nAgenda \n1. Call to Order \n2. Approval of Minutes – May 11\, 2017 Meeting \n3. Approval of Minutes – June 8\, 2017 Meeting \n4. Old Business \n    – Elkton Clinic Development Plan \n    – Storage Buildings at Garden Homes \n    – Planned Unit Development (PUD) \n    – Zoning Map Change Requirement \n5. New Business \n    – Flood Damage Prevention Ordinance \n    – Eight Hour Training Session Will Be Setup in Fall \n    – Special Meeting and Zoning Change Request Hearing – Tuesday\, July 25\, 2017 at 6 PM \n6. Zoning Administrator Report \n7. Adjournment
URL:https://elktonky.com/event/elkton-planning-commission-2/
LOCATION:KY
END:VEVENT
BEGIN:VEVENT
DTSTART;TZID=America/Chicago:20170714T180000
DTEND;TZID=America/Chicago:20170714T210000
DTSTAMP:20260419T132741
CREATED:20150401T152900Z
LAST-MODIFIED:20210205T170046Z
UID:10001452-1500055200-1500066000@elktonky.com
SUMMARY:City Council Meeting
DESCRIPTION:Regularly scheduled City Council meeting. Agenda may be viewed on City Council Meeting Page when made available.
URL:https://elktonky.com/event/city-council-meeting-2017-06-12-2017-07-12/2017-07-14/
LOCATION:KY
END:VEVENT
BEGIN:VEVENT
DTSTART;TZID=America/Chicago:20170720T170000
DTEND;TZID=America/Chicago:20170720T190000
DTSTAMP:20260419T132741
CREATED:20170712T185655Z
LAST-MODIFIED:20170712T185655Z
UID:10001638-1500570000-1500577200@elktonky.com
SUMMARY:Special City Council Meeting
DESCRIPTION:  \nThere will be a special meeting of the Elkton City Council on Thursday\, July 20\, 2017 at 5:00 PM at Elkton City Hall\, 71 Public Square\, to discuss the following: \nAGENDA \n \n\nCall to Order\nPledge of Allegiance \nInvocation\nTodd County Industrial Foundation 2017-2018 Contribution\nSecond Reading Ordinance 2017-08 – AN ORDINANCE AMENDING SECTION 50.25 OF THE CODE OF ORDINANCES OF THE CITY OF ELKTON ADJUSTING WATER RATES CHARGED BY THE WATERWORKS SYSTEM OF THE CITY OF ELKTON (Sponsor: Laster)\nSecond Reading Ordinance 2017-11 – AN ORDINANCE AMENDING THE TEXT OF CHAPTER 151 (ZONING) OF THE CITY OF ELKTON CODE OF ORDINANCES (Sponsor: Case)
URL:https://elktonky.com/event/special-city-council-meeting-11-2/
LOCATION:KY
END:VEVENT
BEGIN:VEVENT
DTSTART;TZID=America/Chicago:20170725T180000
DTEND;TZID=America/Chicago:20170725T200000
DTSTAMP:20260419T132741
CREATED:20170710T170659Z
LAST-MODIFIED:20170710T170659Z
UID:10001637-1501005600-1501012800@elktonky.com
SUMMARY:Elkton Planning Commission Special Meeting and Public Hearings
DESCRIPTION:  \nAgenda Will Be Posted Soon
URL:https://elktonky.com/event/elkton-planning-commission-special-meeting-2-2/
LOCATION:KY
END:VEVENT
BEGIN:VEVENT
DTSTART;TZID=America/Chicago:20170804T000000
DTEND;TZID=America/Chicago:20170804T000000
DTSTAMP:20260419T132741
CREATED:20200220T200008Z
LAST-MODIFIED:20200220T200008Z
UID:10001783-1501804800-1501804800@elktonky.com
SUMMARY:Planning Commission Meeting
DESCRIPTION:Agenda\n1. Call to Order \n2. Approval of Minutes – July 13\, 2017 Meeting \n3. Approval of Minutes – July 25\, 2017 Meeting \n4. Old Business \n      – Public Hearing from July 25\, 2017 – Recommendation \n5. New Business \n      – Eight Hour Training Session Will Be Setup in Fall\n      – Blount Rural Health Clinic Development Plan\n      – Conservation District Accessory Structures \n 6. Zoning Administrator Report \n 7. Adjournment
URL:https://elktonky.com/event/planning-commission-meeting-8/
LOCATION:KY
END:VEVENT
BEGIN:VEVENT
DTSTART;TZID=America/Chicago:20170810T180000
DTEND;TZID=America/Chicago:20170810T210000
DTSTAMP:20260419T132741
CREATED:20150401T152900Z
LAST-MODIFIED:20210205T170046Z
UID:10001453-1502388000-1502398800@elktonky.com
SUMMARY:City Council Meeting
DESCRIPTION:Regularly scheduled City Council meeting. Agenda may be viewed on City Council Meeting Page when made available.
URL:https://elktonky.com/event/city-council-meeting-2017-06-12-2017-07-12/2017-08-10/
LOCATION:KY
END:VEVENT
BEGIN:VEVENT
DTSTART;TZID=America/Chicago:20170810T190000
DTEND;TZID=America/Chicago:20170810T210000
DTSTAMP:20260419T132741
CREATED:20170804T152128Z
LAST-MODIFIED:20170804T152128Z
UID:10001639-1502391600-1502398800@elktonky.com
SUMMARY:Planning Commission Meeting
DESCRIPTION:Agenda \n1. Call to Order \n2. Approval of Minutes – July 13\, 2017 Meeting \n3. Approval of Minutes – July 25\, 2017 Meeting \n4. Old Business \n      – Public Hearing from July 25\, 2017 – Recommendation \n5. New Business \n      – Eight Hour Training Session Will Be Setup in Fall\n      – Blount Rural Health Clinic Development Plan\n      – Conservation District Accessory Structures \n 6. Zoning Administrator Report \n 7. Adjournment
URL:https://elktonky.com/event/planning-commission-meeting-9-2/
LOCATION:KY
END:VEVENT
BEGIN:VEVENT
DTSTART;TZID=America/Chicago:20170821T000000
DTEND;TZID=America/Chicago:20170821T000000
DTSTAMP:20260419T132741
CREATED:20200220T200008Z
LAST-MODIFIED:20200220T200008Z
UID:10001786-1503273600-1503273600@elktonky.com
SUMMARY:Public Hearing
DESCRIPTION:NOTICE OF PUBLIC HEARING\n  \nPursuant to KRS 132.027\, the City of Elkton\, KY will hold a Public Hearing on Thursday\, September 7 at 5:00 p.m.\, local time\, in the Conference Room at Elkton City Hall\, 71 Public Square\, Elkton\, Kentucky\, to hear comments from the public regarding a proposed real property tax rate of $.249 per $100 valuation and proposed personal property tax rate of $.1597 per $100 valuation. As required by law\, this includes the following information: \n  \nTax Rate Per $100                   Revenue \nAssessed Valuation \n  \nPreceding Year’s Tax Rate                        $ .249 (Real)                         $ 150\,347 \nand Revenue Generated                           $ .201 (Personal)                   $   23\,851 \n  \nTax Rate Proposed for 2017                      $ .249 (Real)                         $ 152\,727 \nand Expected Revenue                             $ .1597 (Personal)                  $   24\,232 \n  \nCompensating Tax Rate and                      $ .247 (Real)                         $ 151\,501 \nExpected Revenue                                    $ .1584 (Personal)                 $   24\,035 \n  \nRevenue Expected from                             $ .249 (Real)                         $   945.58 \nNew Real Property \n  \nAll revenues in excess of the amounts generated over the previous year will be allocated to all City operating departments\, including: Police\, Fire\, Public Works\, and General Administration. The Kentucky General Assembly has required publication of this advertisement and the information contained herein. \nLaura M. Brock\nCity Clerk/Treasurer\, Elkton\, KY
URL:https://elktonky.com/event/public-hearing/
LOCATION:KY
END:VEVENT
BEGIN:VEVENT
DTSTART;TZID=America/Chicago:20170821T000000
DTEND;TZID=America/Chicago:20170821T000000
DTSTAMP:20260419T132741
CREATED:20200220T200008Z
LAST-MODIFIED:20200220T200008Z
UID:10001788-1503273600-1503273600@elktonky.com
SUMMARY:Board of Adjustment Special Meeting
DESCRIPTION:NOTICE OF SPECIAL MEETING\nThere will be a special meeting of the Elkton Board of Adjustment on Thursday\, August 24\, 2015 at 5:30 PM at Elkton City Hall\, 71 Public Square\, in the Conference Room. \nAGENDA \n \n\nPublic Hearing – Dimensional Variance Request\, Rodney and Jackie Seay\nDecision Regarding Dimensional Variance Request\nApproval of Minutes – March 16\, 2017
URL:https://elktonky.com/event/board-of-adjustment-special-meeting-2/
LOCATION:KY
END:VEVENT
BEGIN:VEVENT
DTSTART;TZID=America/Chicago:20170824T173000
DTEND;TZID=America/Chicago:20170824T183000
DTSTAMP:20260419T132741
CREATED:20170821T155741Z
LAST-MODIFIED:20170821T155741Z
UID:10001641-1503595800-1503599400@elktonky.com
SUMMARY:Board of Adjustment Special Meeting
DESCRIPTION:NOTICE OF SPECIAL MEETING \nThere will be a special meeting of the Elkton Board of Adjustment on Thursday\, August 24\, 2015 at 5:30 PM at Elkton City Hall\, 71 Public Square\, in the Conference Room. \nAGENDA \n \n\nPublic Hearing – Dimensional Variance Request\, Rodney and Jackie Seay\nDecision Regarding Dimensional Variance Request\nApproval of Minutes – March 16\, 2017
URL:https://elktonky.com/event/board-of-adjustment-special-meeting-2-2/
LOCATION:KY
END:VEVENT
BEGIN:VEVENT
DTSTART;TZID=America/Chicago:20170901T000000
DTEND;TZID=America/Chicago:20170901T000000
DTSTAMP:20260419T132741
CREATED:20200220T200010Z
LAST-MODIFIED:20200220T200010Z
UID:10001791-1504224000-1504224000@elktonky.com
SUMMARY:Planning Commission Special Meeting
DESCRIPTION:There will be a Special Meeting of the Elkton Planning Commission on Thursday\, September 7\, 2017 at 7:00 PM in the Elkton City Hall Conference Room located at 71 Public Square\, Elkton\, Kentucky.\n  \nAGENDA \n \n\nCall to Order\nApproval of Minutes of August 10\, 2017 Meeting\nPublic Hearings\n\n\nHurt Rentals LLC to rezone property located at 745 E Jeff Davis Highway from CD – Conservation District to R-2 Medium Density Residential\nProposed rezoning of properties located at 651 E Jefferson Davis Highway\, 769 E Jefferson Davis Highway\, 789 E Jefferson Davis Highway\, and 791 E Jefferson Davis Highway from CD – Conservation District to R-2 Medium Density Residential.\n\n\nFinding of Facts and Recommendations to City Council\nPublic Hearings\n\nZoning Text Amendment\n\n\nRecommendation to City Council for Zoning Text Amendment\nBlount Clinic Development Plan\nElkton Baptist Church Project
URL:https://elktonky.com/event/planning-commission-special-meeting-2/
LOCATION:KY
END:VEVENT
BEGIN:VEVENT
DTSTART;TZID=America/Chicago:20170907T170000
DTEND;TZID=America/Chicago:20170907T173000
DTSTAMP:20260419T132741
CREATED:20170821T155331Z
LAST-MODIFIED:20170821T155331Z
UID:10001640-1504803600-1504805400@elktonky.com
SUMMARY:Public Hearing
DESCRIPTION:NOTICE OF PUBLIC HEARING \n  \nPursuant to KRS 132.027\, the City of Elkton\, KY will hold a Public Hearing on Thursday\, September 7 at 5:00 p.m.\, local time\, in the Conference Room at Elkton City Hall\, 71 Public Square\, Elkton\, Kentucky\, to hear comments from the public regarding a proposed real property tax rate of $.249 per $100 valuation and proposed personal property tax rate of $.1597 per $100 valuation. As required by law\, this includes the following information: \n  \nTax Rate Per $100                   Revenue \nAssessed Valuation \n  \nPreceding Year’s Tax Rate                        $ .249 (Real)                         $ 150\,347 \nand Revenue Generated                           $ .201 (Personal)                   $   23\,851 \n  \nTax Rate Proposed for 2017                      $ .249 (Real)                         $ 152\,727 \nand Expected Revenue                             $ .1597 (Personal)                  $   24\,232 \n  \nCompensating Tax Rate and                      $ .247 (Real)                         $ 151\,501 \nExpected Revenue                                    $ .1584 (Personal)                 $   24\,035 \n  \nRevenue Expected from                             $ .249 (Real)                         $   945.58 \nNew Real Property \n  \nAll revenues in excess of the amounts generated over the previous year will be allocated to all City operating departments\, including: Police\, Fire\, Public Works\, and General Administration. The Kentucky General Assembly has required publication of this advertisement and the information contained herein. \nLaura M. Brock\nCity Clerk/Treasurer\, Elkton\, KY
URL:https://elktonky.com/event/public-hearing-2/
LOCATION:KY
END:VEVENT
BEGIN:VEVENT
DTSTART;TZID=America/Chicago:20170907T190000
DTEND;TZID=America/Chicago:20170907T210000
DTSTAMP:20260419T132741
CREATED:20170901T191937Z
LAST-MODIFIED:20170901T191937Z
UID:10001642-1504810800-1504818000@elktonky.com
SUMMARY:Planning Commission Special Meeting
DESCRIPTION:There will be a Special Meeting of the Elkton Planning Commission on Thursday\, September 7\, 2017 at 7:00 PM in the Elkton City Hall Conference Room located at 71 Public Square\, Elkton\, Kentucky. \n  \nAGENDA \n \n\nCall to Order\nApproval of Minutes of August 10\, 2017 Meeting\nPublic Hearings\n\n\nHurt Rentals LLC to rezone property located at 745 E Jeff Davis Highway from CD – Conservation District to R-2 Medium Density Residential\nProposed rezoning of properties located at 651 E Jefferson Davis Highway\, 769 E Jefferson Davis Highway\, 789 E Jefferson Davis Highway\, and 791 E Jefferson Davis Highway from CD – Conservation District to R-2 Medium Density Residential.\n\n\nFinding of Facts and Recommendations to City Council\nPublic Hearings\n\nZoning Text Amendment\n\n\nRecommendation to City Council for Zoning Text Amendment\nBlount Clinic Development Plan\nElkton Baptist Church Project
URL:https://elktonky.com/event/planning-commission-special-meeting-2-2/
LOCATION:KY
END:VEVENT
BEGIN:VEVENT
DTSTART;TZID=America/Chicago:20170913T000000
DTEND;TZID=America/Chicago:20170913T000000
DTSTAMP:20260419T132741
CREATED:20200220T200010Z
LAST-MODIFIED:20200220T200010Z
UID:10001793-1505260800-1505260800@elktonky.com
SUMMARY:Special City Council Meeting
DESCRIPTION:There will be a special meeting of the Elkton City Council on Monday\, September 18\, 2017 at 5:00 PM at Elkton City Hall\, 71 Public Square\, to discuss the following:\n\nAGENDA \n \n\nCall to Order\nPledge of Allegiance \nInvocation\nSecond Reading Ordinance 2017-12 – Ordinance Fixing the Ad Valorem Tax Rate for the Year 2017 (Sponsor: Powell)\nSecond Reading Ordinance 2017-13 – Amending Section 31.20 of Code of Ordinances (Sponsor: Case)\nFirst Reading Ordinance 2017-14 – AN ORDINANCE TO REZONE PROPERTIES LOCATED AT 651-659-687-693-745-753-769-789-791 E Jeff Davis Highway \nFirst Reading Ordinance 2017-15 – AN ORDINANCE AMENDING THE TEXT OF CHAPTER 151 (ZONING) OF THE CITY OF ELKTON CODE OF ORDINANCES\nElkton Die Casting Property\nKIA Sewer Project and Resolution 2017-06\nSewer Chemical Quotes\nMowing Equipment\nTAP Project and Resolution 2017-07
URL:https://elktonky.com/event/special-city-council-meeting-12/
LOCATION:KY
END:VEVENT
BEGIN:VEVENT
DTSTART;TZID=America/Chicago:20170914T180000
DTEND;TZID=America/Chicago:20170914T210000
DTSTAMP:20260419T132741
CREATED:20150401T152900Z
LAST-MODIFIED:20210205T170046Z
UID:10001454-1505412000-1505422800@elktonky.com
SUMMARY:City Council Meeting
DESCRIPTION:Regularly scheduled City Council meeting. Agenda may be viewed on City Council Meeting Page when made available.
URL:https://elktonky.com/event/city-council-meeting-2017-06-12-2017-07-12/2017-09-14/
LOCATION:KY
END:VEVENT
BEGIN:VEVENT
DTSTART;TZID=America/Chicago:20170918T170000
DTEND;TZID=America/Chicago:20170918T190000
DTSTAMP:20260419T132741
CREATED:20170913T212327Z
LAST-MODIFIED:20170913T212327Z
UID:10001643-1505754000-1505761200@elktonky.com
SUMMARY:Special City Council Meeting
DESCRIPTION:There will be a special meeting of the Elkton City Council on Monday\, September 18\, 2017 at 5:00 PM at Elkton City Hall\, 71 Public Square\, to discuss the following: \n\nAGENDA \n \n\nCall to Order\nPledge of Allegiance \nInvocation\nSecond Reading Ordinance 2017-12 – Ordinance Fixing the Ad Valorem Tax Rate for the Year 2017 (Sponsor: Powell)\nSecond Reading Ordinance 2017-13 – Amending Section 31.20 of Code of Ordinances (Sponsor: Case)\nFirst Reading Ordinance 2017-14 – AN ORDINANCE TO REZONE PROPERTIES LOCATED AT 651-659-687-693-745-753-769-789-791 E Jeff Davis Highway \nFirst Reading Ordinance 2017-15 – AN ORDINANCE AMENDING THE TEXT OF CHAPTER 151 (ZONING) OF THE CITY OF ELKTON CODE OF ORDINANCES\nElkton Die Casting Property\nKIA Sewer Project and Resolution 2017-06\nSewer Chemical Quotes\nMowing Equipment\nTAP Project and Resolution 2017-07
URL:https://elktonky.com/event/special-city-council-meeting-12-2/
LOCATION:KY
END:VEVENT
BEGIN:VEVENT
DTSTART;TZID=America/Chicago:20171005T000000
DTEND;TZID=America/Chicago:20171005T000000
DTSTAMP:20260419T132741
CREATED:20200220T200010Z
LAST-MODIFIED:20200220T200010Z
UID:10001795-1507161600-1507161600@elktonky.com
SUMMARY:Special City Council Meeting
DESCRIPTION:SPECIAL MEETING NOTICE\nThere will be a special meeting of the Elkton City Council on Tuesday\, October 10\, 2017 at 5:30 PM at Elkton City Hall\, 71 Public Square\, to discuss the following: \n\nAGENDA \n\nCall to Order\nPledge of Allegiance \nInvocation\nFire Truck Bids\nElk Fork Road and Creek Bank Repairs
URL:https://elktonky.com/event/special-city-council-meeting-13/
LOCATION:KY
END:VEVENT
BEGIN:VEVENT
DTSTART;TZID=America/Chicago:20171010T173000
DTEND;TZID=America/Chicago:20171010T183000
DTSTAMP:20260419T132741
CREATED:20171005T193731Z
LAST-MODIFIED:20171005T193731Z
UID:10001644-1507656600-1507660200@elktonky.com
SUMMARY:Special City Council Meeting
DESCRIPTION:SPECIAL MEETING NOTICE \nThere will be a special meeting of the Elkton City Council on Tuesday\, October 10\, 2017 at 5:30 PM at Elkton City Hall\, 71 Public Square\, to discuss the following: \n\nAGENDA \n\nCall to Order\nPledge of Allegiance \nInvocation\nFire Truck Bids\nElk Fork Road and Creek Bank Repairs
URL:https://elktonky.com/event/special-city-council-meeting-13-2/
LOCATION:KY
END:VEVENT
BEGIN:VEVENT
DTSTART;TZID=America/Chicago:20171011T000000
DTEND;TZID=America/Chicago:20171011T000000
DTSTAMP:20260419T132741
CREATED:20200220T200010Z
LAST-MODIFIED:20200220T200010Z
UID:10001798-1507680000-1507680000@elktonky.com
SUMMARY:Board of Adjustment Special Meeting
DESCRIPTION:NOTICE OF SPECIAL MEETING\nThere will be a public hearing and special meeting of the Elkton Board of Adjustment on Thursday\, October 26\, 2017 at 6:00 PM at Elkton City Hall\, 71 Public Square\, in the Conference Room. \nAGENDA\n \n\nCall to Order\nApproval of Minutes – August 24\, 2017 Special Meeting\nPublic Hearing – Dimensional Variance\, Lynn Kemp\nDecision Regarding Dimensional Variance
URL:https://elktonky.com/event/board-of-adjustment-special-meeting-3/
LOCATION:KY
END:VEVENT
BEGIN:VEVENT
DTSTART;TZID=America/Chicago:20171011T000000
DTEND;TZID=America/Chicago:20171011T000000
DTSTAMP:20260419T132741
CREATED:20200220T200010Z
LAST-MODIFIED:20200220T200010Z
UID:10001799-1507680000-1507680000@elktonky.com
SUMMARY:Planning Commission Meeting
DESCRIPTION:Agenda \n\nCall to Order\nApproval of Minutes – September 7\, 2017 Special Meeting\nOld Business\n– Update on Blount Clinic Development Plan\n– Permits for Conservation District Zone\nNew Business\n– Eight Hour Training Session Rescheduled for Saturday\, March 3\, 2018\n– Potter’s House Development Plan\n– Health Department Development Plan\nZoning Administrator Report\nAdjournment
URL:https://elktonky.com/event/planning-commission-meeting-9/
LOCATION:KY
END:VEVENT
BEGIN:VEVENT
DTSTART;TZID=America/Chicago:20171012T180000
DTEND;TZID=America/Chicago:20171012T210000
DTSTAMP:20260419T132741
CREATED:20150401T152900Z
LAST-MODIFIED:20210205T170046Z
UID:10001455-1507831200-1507842000@elktonky.com
SUMMARY:City Council Meeting
DESCRIPTION:Regularly scheduled City Council meeting. Agenda may be viewed on City Council Meeting Page when made available.
URL:https://elktonky.com/event/city-council-meeting-2017-06-12-2017-07-12/2017-10-12/
LOCATION:KY
END:VEVENT
BEGIN:VEVENT
DTSTART;TZID=America/Chicago:20171012T190000
DTEND;TZID=America/Chicago:20171012T210000
DTSTAMP:20260419T132741
CREATED:20171011T194942Z
LAST-MODIFIED:20171011T194942Z
UID:10001646-1507834800-1507842000@elktonky.com
SUMMARY:Planning Commission Meeting
DESCRIPTION:Agenda\n \n\nCall to Order\nApproval of Minutes – September 7\, 2017 Special Meeting\nOld Business\n– Update on Blount Clinic Development Plan\n– Permits for Conservation District Zone\nNew Business\n– Eight Hour Training Session Rescheduled for Saturday\, March 3\, 2018\n– Potter’s House Development Plan\n– Health Department Development Plan\nZoning Administrator Report\nAdjournment
URL:https://elktonky.com/event/planning-commission-meeting-10-2/
LOCATION:KY
END:VEVENT
END:VCALENDAR