BEGIN:VCALENDAR
VERSION:2.0
PRODID:-//The City of Elkton, KY - ECPv6.15.20//NONSGML v1.0//EN
CALSCALE:GREGORIAN
METHOD:PUBLISH
X-WR-CALNAME:The City of Elkton, KY
X-ORIGINAL-URL:https://elktonky.com
X-WR-CALDESC:Events for The City of Elkton, KY
REFRESH-INTERVAL;VALUE=DURATION:PT1H
X-Robots-Tag:noindex
X-PUBLISHED-TTL:PT1H
BEGIN:VTIMEZONE
TZID:America/Chicago
BEGIN:DAYLIGHT
TZOFFSETFROM:-0600
TZOFFSETTO:-0500
TZNAME:CDT
DTSTART:20250309T080000
END:DAYLIGHT
BEGIN:STANDARD
TZOFFSETFROM:-0500
TZOFFSETTO:-0600
TZNAME:CST
DTSTART:20251102T070000
END:STANDARD
BEGIN:DAYLIGHT
TZOFFSETFROM:-0600
TZOFFSETTO:-0500
TZNAME:CDT
DTSTART:20260308T080000
END:DAYLIGHT
BEGIN:STANDARD
TZOFFSETFROM:-0500
TZOFFSETTO:-0600
TZNAME:CST
DTSTART:20261101T070000
END:STANDARD
BEGIN:DAYLIGHT
TZOFFSETFROM:-0600
TZOFFSETTO:-0500
TZNAME:CDT
DTSTART:20270314T080000
END:DAYLIGHT
BEGIN:STANDARD
TZOFFSETFROM:-0500
TZOFFSETTO:-0600
TZNAME:CST
DTSTART:20271107T070000
END:STANDARD
END:VTIMEZONE
BEGIN:VTIMEZONE
TZID:America/Chicago
BEGIN:DAYLIGHT
TZOFFSETFROM:-0600
TZOFFSETTO:-0500
TZNAME:CDT
DTSTART:20250309T080000
END:DAYLIGHT
BEGIN:STANDARD
TZOFFSETFROM:-0500
TZOFFSETTO:-0600
TZNAME:CST
DTSTART:20251102T070000
END:STANDARD
BEGIN:DAYLIGHT
TZOFFSETFROM:-0600
TZOFFSETTO:-0500
TZNAME:CDT
DTSTART:20260308T080000
END:DAYLIGHT
BEGIN:STANDARD
TZOFFSETFROM:-0500
TZOFFSETTO:-0600
TZNAME:CST
DTSTART:20261101T070000
END:STANDARD
BEGIN:DAYLIGHT
TZOFFSETFROM:-0600
TZOFFSETTO:-0500
TZNAME:CDT
DTSTART:20270314T080000
END:DAYLIGHT
BEGIN:STANDARD
TZOFFSETFROM:-0500
TZOFFSETTO:-0600
TZNAME:CST
DTSTART:20271107T070000
END:STANDARD
END:VTIMEZONE
BEGIN:VEVENT
DTSTART;TZID=America/Chicago:20260709T180000
DTEND;TZID=America/Chicago:20260709T210000
DTSTAMP:20260422T171054
CREATED:20150401T152900Z
LAST-MODIFIED:20210205T170046Z
UID:10001552-1783620000-1783630800@elktonky.com
SUMMARY:City Council Meeting
DESCRIPTION:Regularly scheduled City Council meeting. Agenda may be viewed on City Council Meeting Page when made available.
URL:https://elktonky.com/event/city-council-meeting-2017-06-12-2017-07-12/2026-07-09/
END:VEVENT
BEGIN:VEVENT
DTSTART;TZID=America/Chicago:20260725T160000
DTEND;TZID=America/Chicago:20260725T200000
DTSTAMP:20260422T171054
CREATED:20260211T215534Z
LAST-MODIFIED:20260211T215534Z
UID:10002056-1784995200-1785009600@elktonky.com
SUMMARY:Cruise In On The Square
DESCRIPTION:Elkton’s Cruise-In on the Square is a fun\, family-friendly event that brings the community together to enjoy classic cars and small-town charm. Car enthusiasts showcase their hot rods\, antiques\, and custom rides around the historic square while visitors stroll\, socialize\, and take in the sights. With local food\, fellowship\, and a relaxed atmosphere\, Cruise-In on the Square is a perfect way to spend an evening in downtown Elkton.
URL:https://elktonky.com/event/cruise-in-on-the-square-4/
ATTACH;FMTTYPE=image/png:https://elktonky.com/wp-content/uploads/2026/02/July-2026.png
END:VEVENT
END:VCALENDAR