BEGIN:VCALENDAR
VERSION:2.0
PRODID:-//The City of Elkton, KY - ECPv6.15.20//NONSGML v1.0//EN
CALSCALE:GREGORIAN
METHOD:PUBLISH
X-ORIGINAL-URL:https://elktonky.com
X-WR-CALDESC:Events for The City of Elkton, KY
REFRESH-INTERVAL;VALUE=DURATION:PT1H
X-Robots-Tag:noindex
X-PUBLISHED-TTL:PT1H
BEGIN:VTIMEZONE
TZID:America/Chicago
BEGIN:DAYLIGHT
TZOFFSETFROM:-0600
TZOFFSETTO:-0500
TZNAME:CDT
DTSTART:20250309T080000
END:DAYLIGHT
BEGIN:STANDARD
TZOFFSETFROM:-0500
TZOFFSETTO:-0600
TZNAME:CST
DTSTART:20251102T070000
END:STANDARD
BEGIN:DAYLIGHT
TZOFFSETFROM:-0600
TZOFFSETTO:-0500
TZNAME:CDT
DTSTART:20260308T080000
END:DAYLIGHT
BEGIN:STANDARD
TZOFFSETFROM:-0500
TZOFFSETTO:-0600
TZNAME:CST
DTSTART:20261101T070000
END:STANDARD
BEGIN:DAYLIGHT
TZOFFSETFROM:-0600
TZOFFSETTO:-0500
TZNAME:CDT
DTSTART:20270314T080000
END:DAYLIGHT
BEGIN:STANDARD
TZOFFSETFROM:-0500
TZOFFSETTO:-0600
TZNAME:CST
DTSTART:20271107T070000
END:STANDARD
END:VTIMEZONE
BEGIN:VTIMEZONE
TZID:America/Chicago
BEGIN:DAYLIGHT
TZOFFSETFROM:-0600
TZOFFSETTO:-0500
TZNAME:CDT
DTSTART:20250309T080000
END:DAYLIGHT
BEGIN:STANDARD
TZOFFSETFROM:-0500
TZOFFSETTO:-0600
TZNAME:CST
DTSTART:20251102T070000
END:STANDARD
BEGIN:DAYLIGHT
TZOFFSETFROM:-0600
TZOFFSETTO:-0500
TZNAME:CDT
DTSTART:20260308T080000
END:DAYLIGHT
BEGIN:STANDARD
TZOFFSETFROM:-0500
TZOFFSETTO:-0600
TZNAME:CST
DTSTART:20261101T070000
END:STANDARD
BEGIN:DAYLIGHT
TZOFFSETFROM:-0600
TZOFFSETTO:-0500
TZNAME:CDT
DTSTART:20270314T080000
END:DAYLIGHT
BEGIN:STANDARD
TZOFFSETFROM:-0500
TZOFFSETTO:-0600
TZNAME:CST
DTSTART:20271107T070000
END:STANDARD
END:VTIMEZONE
BEGIN:VEVENT
DTSTART;TZID=America/Chicago:20260910T180000
DTEND;TZID=America/Chicago:20260910T210000
DTSTAMP:20260422T195217
CREATED:20150401T152900Z
LAST-MODIFIED:20210205T170046Z
UID:10001554-1789063200-1789074000@elktonky.com
SUMMARY:City Council Meeting
DESCRIPTION:Regularly scheduled City Council meeting. Agenda may be viewed on City Council Meeting Page when made available.
URL:https://elktonky.com/event/city-council-meeting-2017-06-12-2017-07-12/2026-09-10/
END:VEVENT
BEGIN:VEVENT
DTSTART;TZID=America/Chicago:20260926T090000
DTEND;TZID=America/Chicago:20260926T150000
DTSTAMP:20260422T195217
CREATED:20260211T193151Z
LAST-MODIFIED:20260211T193151Z
UID:10002052-1790413200-1790434800@elktonky.com
SUMMARY:Harvest Fest 2026
DESCRIPTION:Street festival with food vendors\, arts and crafts vendors\, boutique clothing\, home décor\, homemade baked goods\, jams\, jellies\, candles\, live music on the Main Square Stage\, free Children’s Activities Area\, and more! Visit the Event Page through link below for more information or to register for a booth space. \nEvent Page
URL:https://elktonky.com/event/harvest-fest-2026/
LOCATION:Historic Public Square\, 1 Public Square\, Elkton\, Kentucky\, 42220
END:VEVENT
END:VCALENDAR