BEGIN:VCALENDAR
VERSION:2.0
PRODID:-//The City of Elkton, KY - ECPv6.15.20//NONSGML v1.0//EN
CALSCALE:GREGORIAN
METHOD:PUBLISH
X-WR-CALNAME:The City of Elkton, KY
X-ORIGINAL-URL:https://elktonky.com
X-WR-CALDESC:Events for The City of Elkton, KY
REFRESH-INTERVAL;VALUE=DURATION:PT1H
X-Robots-Tag:noindex
X-PUBLISHED-TTL:PT1H
BEGIN:VTIMEZONE
TZID:America/Chicago
BEGIN:DAYLIGHT
TZOFFSETFROM:-0600
TZOFFSETTO:-0500
TZNAME:CDT
DTSTART:20180311T080000
END:DAYLIGHT
BEGIN:STANDARD
TZOFFSETFROM:-0500
TZOFFSETTO:-0600
TZNAME:CST
DTSTART:20181104T070000
END:STANDARD
BEGIN:DAYLIGHT
TZOFFSETFROM:-0600
TZOFFSETTO:-0500
TZNAME:CDT
DTSTART:20190310T080000
END:DAYLIGHT
BEGIN:STANDARD
TZOFFSETFROM:-0500
TZOFFSETTO:-0600
TZNAME:CST
DTSTART:20191103T070000
END:STANDARD
BEGIN:DAYLIGHT
TZOFFSETFROM:-0600
TZOFFSETTO:-0500
TZNAME:CDT
DTSTART:20200308T080000
END:DAYLIGHT
BEGIN:STANDARD
TZOFFSETFROM:-0500
TZOFFSETTO:-0600
TZNAME:CST
DTSTART:20201101T070000
END:STANDARD
END:VTIMEZONE
BEGIN:VTIMEZONE
TZID:America/Chicago
BEGIN:DAYLIGHT
TZOFFSETFROM:-0600
TZOFFSETTO:-0500
TZNAME:CDT
DTSTART:20180311T080000
END:DAYLIGHT
BEGIN:STANDARD
TZOFFSETFROM:-0500
TZOFFSETTO:-0600
TZNAME:CST
DTSTART:20181104T070000
END:STANDARD
BEGIN:DAYLIGHT
TZOFFSETFROM:-0600
TZOFFSETTO:-0500
TZNAME:CDT
DTSTART:20190310T080000
END:DAYLIGHT
BEGIN:STANDARD
TZOFFSETFROM:-0500
TZOFFSETTO:-0600
TZNAME:CST
DTSTART:20191103T070000
END:STANDARD
BEGIN:DAYLIGHT
TZOFFSETFROM:-0600
TZOFFSETTO:-0500
TZNAME:CDT
DTSTART:20200308T080000
END:DAYLIGHT
BEGIN:STANDARD
TZOFFSETFROM:-0500
TZOFFSETTO:-0600
TZNAME:CST
DTSTART:20201101T070000
END:STANDARD
END:VTIMEZONE
BEGIN:VEVENT
DTSTART;TZID=America/Chicago:20190904T000000
DTEND;TZID=America/Chicago:20190904T000000
DTSTAMP:20260420T200957
CREATED:20200220T200029Z
LAST-MODIFIED:20200220T200030Z
UID:10001850-1567555200-1567555200@elktonky.com
SUMMARY:Special City Council Meeting
DESCRIPTION:SPECIAL MEETING NOTICE (Amended) \nThere will be a special meeting of the Elkton City Council on Thursday\, September 12\, 2019 at 5:30 PM at Elkton City Hall\, 71 Public Square\, to discuss the following: \nAGENDA \n1. 2nd Reading Ordinance 2019-15 – AN ORDINANCE FIXING THE AD VALOREM TAX RATE UPON THE ASSESSED VALUATION OF REAL ESTATE\, PERSONAL PROPERTY\, MOTOR VEHICLES AND WATERCRAFT WITHIN THE CITY LIMITS OF ELKTON\, KENTUCKY\, FOR THE YEAR 2019 \n2. Nicholas Hurt Property Negotiations
URL:https://elktonky.com/event/special-city-council-meeting-24/
END:VEVENT
BEGIN:VEVENT
DTSTART;TZID=America/Chicago:20190808T190000
DTEND;TZID=America/Chicago:20190808T210000
DTSTAMP:20260420T200957
CREATED:20190802T141333Z
LAST-MODIFIED:20190802T141333Z
UID:10001710-1565290800-1565298000@elktonky.com
SUMMARY:Planning Commission Meeting
DESCRIPTION:
URL:https://elktonky.com/event/planning-commission-meeting-19-2/
END:VEVENT
BEGIN:VEVENT
DTSTART;TZID=America/Chicago:20190808T180000
DTEND;TZID=America/Chicago:20190808T210000
DTSTAMP:20260420T200957
CREATED:20150401T152900Z
LAST-MODIFIED:20210205T170046Z
UID:10001477-1565287200-1565298000@elktonky.com
SUMMARY:City Council Meeting
DESCRIPTION:Regularly scheduled City Council meeting. Agenda may be viewed on City Council Meeting Page when made available.
URL:https://elktonky.com/event/city-council-meeting-2017-06-12-2017-07-12/2019-08-08/
END:VEVENT
BEGIN:VEVENT
DTSTART;TZID=America/Chicago:20190802T000000
DTEND;TZID=America/Chicago:20190802T000000
DTSTAMP:20260420T200957
CREATED:20200220T200029Z
LAST-MODIFIED:20200220T200029Z
UID:10001848-1564704000-1564704000@elktonky.com
SUMMARY:Halloween Trick-or-Treat
DESCRIPTION:Trick-or-Treat times in Elkton are set for October 31st from 5:30 PM to 7:30 PM. 
URL:https://elktonky.com/event/halloween-trick-or-treat/
END:VEVENT
BEGIN:VEVENT
DTSTART;TZID=America/Chicago:20190802T000000
DTEND;TZID=America/Chicago:20190802T000000
DTSTAMP:20260420T200957
CREATED:20200220T200029Z
LAST-MODIFIED:20200220T200029Z
UID:10001849-1564704000-1564704000@elktonky.com
SUMMARY:Planning Commission Meeting
DESCRIPTION:
URL:https://elktonky.com/event/planning-commission-meeting-18/
END:VEVENT
BEGIN:VEVENT
DTSTART;TZID=America/Chicago:20190724T000000
DTEND;TZID=America/Chicago:20190724T000000
DTSTAMP:20260420T200957
CREATED:20200220T200029Z
LAST-MODIFIED:20200220T200029Z
UID:10001846-1563926400-1563926400@elktonky.com
SUMMARY:Elkton's HarvestFest 2019
DESCRIPTION:Visit the event website at HarvesFest Page for more information.
URL:https://elktonky.com/event/elktons-harvestfest-2019/
END:VEVENT
BEGIN:VEVENT
DTSTART;TZID=America/Chicago:20190724T000000
DTEND;TZID=America/Chicago:20190724T000000
DTSTAMP:20260420T200957
CREATED:20200220T200029Z
LAST-MODIFIED:20200220T200029Z
UID:10001847-1563926400-1563926400@elktonky.com
SUMMARY:Christmas in Elkton and Parade
DESCRIPTION:Visit the Christmas in Elkton and Parade Page for more information.
URL:https://elktonky.com/event/christmas-in-elkton-and-parade-5/
END:VEVENT
BEGIN:VEVENT
DTSTART;TZID=America/Chicago:20190711T180000
DTEND;TZID=America/Chicago:20190711T210000
DTSTAMP:20260420T200957
CREATED:20150401T152900Z
LAST-MODIFIED:20210205T170046Z
UID:10001476-1562868000-1562878800@elktonky.com
SUMMARY:City Council Meeting
DESCRIPTION:Regularly scheduled City Council meeting. Agenda may be viewed on City Council Meeting Page when made available.
URL:https://elktonky.com/event/city-council-meeting-2017-06-12-2017-07-12/2019-07-11/
END:VEVENT
BEGIN:VEVENT
DTSTART;TZID=America/Chicago:20190627T183000
DTEND;TZID=America/Chicago:20190627T193000
DTSTAMP:20260420T200957
CREATED:20190627T150606Z
LAST-MODIFIED:20190627T150606Z
UID:10001703-1561660200-1561663800@elktonky.com
SUMMARY:Code Enforcement Board Meeting
DESCRIPTION:
URL:https://elktonky.com/event/code-enforcement-board-meeting-7-2/
END:VEVENT
BEGIN:VEVENT
DTSTART;TZID=America/Chicago:20190627T000000
DTEND;TZID=America/Chicago:20190627T000000
DTSTAMP:20260420T200957
CREATED:20200220T200027Z
LAST-MODIFIED:20200220T200027Z
UID:10001845-1561593600-1561593600@elktonky.com
SUMMARY:Code Enforcement Board Meeting
DESCRIPTION:
URL:https://elktonky.com/event/code-enforcement-board-meeting-7/
END:VEVENT
BEGIN:VEVENT
DTSTART;TZID=America/Chicago:20190618T170000
DTEND;TZID=America/Chicago:20190618T180000
DTSTAMP:20260420T200957
CREATED:20190617T182323Z
LAST-MODIFIED:20190617T182323Z
UID:10001702-1560877200-1560880800@elktonky.com
SUMMARY:Special City Council Meeting
DESCRIPTION:Visit the City Council Meeting Page to view the agenda.
URL:https://elktonky.com/event/special-city-council-meeting-24-2/
END:VEVENT
BEGIN:VEVENT
DTSTART;TZID=America/Chicago:20190617T190000
DTEND;TZID=America/Chicago:20190617T220000
DTSTAMP:20260420T200957
CREATED:20190511T214759Z
LAST-MODIFIED:20190511T214759Z
UID:10001699-1560798000-1560808800@elktonky.com
SUMMARY:Special City Council Meeting
DESCRIPTION:The regularly scheduled City Council meeting scheduled for June 10\, 2019 has been cancelled and a special meeting will be held on June 17\, 2019.  The meeting was rescheduled so everyone can attend the 50th Anniversary Dinner Meeting of Pennyrile Area Development District on June 10th. \nVisit the City Council Meeting Page to view the agenda.
URL:https://elktonky.com/event/special-city-council-meeting-23-2/
END:VEVENT
BEGIN:VEVENT
DTSTART;TZID=America/Chicago:20190617T000000
DTEND;TZID=America/Chicago:20190617T000000
DTSTAMP:20260420T200957
CREATED:20200220T200027Z
LAST-MODIFIED:20200220T200027Z
UID:10001844-1560729600-1560729600@elktonky.com
SUMMARY:Special City Council Meeting
DESCRIPTION:Visit the City Council Meeting Page to view the agenda.
URL:https://elktonky.com/event/special-city-council-meeting-23/
END:VEVENT
BEGIN:VEVENT
DTSTART;TZID=America/Chicago:20190613T180000
DTEND;TZID=America/Chicago:20190613T210000
DTSTAMP:20260420T200957
CREATED:20150401T152900Z
LAST-MODIFIED:20210205T170046Z
UID:10001475-1560448800-1560459600@elktonky.com
SUMMARY:City Council Meeting
DESCRIPTION:Regularly scheduled City Council meeting. Agenda may be viewed on City Council Meeting Page when made available.
URL:https://elktonky.com/event/city-council-meeting-2017-06-12-2017-07-12/2019-06-13/
END:VEVENT
BEGIN:VEVENT
DTSTART;TZID=America/Chicago:20190610T190000
DTEND;TZID=America/Chicago:20190610T210000
DTSTAMP:20260420T200957
CREATED:20150401T152900Z
LAST-MODIFIED:20150401T152900Z
UID:10001575-1560193200-1560200400@elktonky.com
SUMMARY:City Council Meeting - CANCELLED
DESCRIPTION:The regularly scheduled City Council meeting scheduled for June 10\, 2019 has been cancelled a special meeting will be held on June 17\, 2019.  The meeting was rescheduled so everyone can attend the 50th Anniversary Dinner Meeting of Pennyrile Area Development District.
URL:https://elktonky.com/event/city-council-meeting-2017-06-12-2017-07-12-2019-06-10/
END:VEVENT
BEGIN:VEVENT
DTSTART;TZID=America/Chicago:20190606T080000
DTEND;TZID=America/Chicago:20190609T170000
DTSTAMP:20260420T200957
CREATED:20190524T183636Z
LAST-MODIFIED:20190524T183636Z
UID:10001701-1559808000-1560099600@elktonky.com
SUMMARY:400 Mile Sale and Elkton Yard Sale Days
DESCRIPTION:Visit the Event Page for more details.
URL:https://elktonky.com/event/400-mile-sale-and-elkton-yard-sale-days-2-2/
END:VEVENT
BEGIN:VEVENT
DTSTART;TZID=America/Chicago:20190524T000000
DTEND;TZID=America/Chicago:20190524T000000
DTSTAMP:20260420T200957
CREATED:20200220T200027Z
LAST-MODIFIED:20200220T200027Z
UID:10001843-1558656000-1558656000@elktonky.com
SUMMARY:400 Mile Sale and Elkton Yard Sale Days
DESCRIPTION:Visit the Event Page for more details.
URL:https://elktonky.com/event/400-mile-sale-and-elkton-yard-sale-days-2/
END:VEVENT
BEGIN:VEVENT
DTSTART;TZID=America/Chicago:20190523T183000
DTEND;TZID=America/Chicago:20190523T203000
DTSTAMP:20260420T200957
CREATED:20190521T164725Z
LAST-MODIFIED:20190521T164725Z
UID:10001700-1558636200-1558643400@elktonky.com
SUMMARY:Code Enforcement Board Meeting
DESCRIPTION:Regular meeting of the Elkton Code Enforcement Board
URL:https://elktonky.com/event/code-enforcement-board-meeting-6-2/
END:VEVENT
BEGIN:VEVENT
DTSTART;TZID=America/Chicago:20190521T000000
DTEND;TZID=America/Chicago:20190521T000000
DTSTAMP:20260420T200957
CREATED:20200220T200027Z
LAST-MODIFIED:20200220T200027Z
UID:10001842-1558396800-1558396800@elktonky.com
SUMMARY:Code Enforcement Board Meeting
DESCRIPTION:Regular meeting of the Elkton Code Enforcement Board
URL:https://elktonky.com/event/code-enforcement-board-meeting-6/
END:VEVENT
BEGIN:VEVENT
DTSTART;TZID=America/Chicago:20190516T180000
DTEND;TZID=America/Chicago:20190516T210000
DTSTAMP:20260420T200957
CREATED:20190511T214238Z
LAST-MODIFIED:20190511T214238Z
UID:10001698-1558029600-1558040400@elktonky.com
SUMMARY:Special City Council Meeting
DESCRIPTION:There will be a special meeting of the Elkton City Council on Thursday\, May 16\, 2019\, 2019 at 6:00 PM at the Logan/Todd Regional Water Plant in the Board Room\, 248 Tower St\, Guthrie\, Kentucky to discuss the following: \nAGENDA \n1. Information Only Regarding Economic Development Update
URL:https://elktonky.com/event/special-city-council-meeting-22-2/
END:VEVENT
BEGIN:VEVENT
DTSTART;TZID=America/Chicago:20190511T000000
DTEND;TZID=America/Chicago:20190511T000000
DTSTAMP:20260420T200957
CREATED:20200220T200025Z
LAST-MODIFIED:20200220T200026Z
UID:10001841-1557532800-1557532800@elktonky.com
SUMMARY:Special City Council Meeting
DESCRIPTION:The regularly scheduled City Council meeting scheduled for June 10\, 2019 has been cancelled and a special meeting will be held on June 17\, 2019.  The meeting was rescheduled so everyone can attend the 50th Anniversary Dinner Meeting of Pennyrile Area Development District on June 10th.\nVisit the City Council Meeting Page to view the agenda.
URL:https://elktonky.com/event/special-city-council-meeting-22/
END:VEVENT
BEGIN:VEVENT
DTSTART;TZID=America/Chicago:20190509T180000
DTEND;TZID=America/Chicago:20190509T210000
DTSTAMP:20260420T200957
CREATED:20150401T152900Z
LAST-MODIFIED:20210205T170046Z
UID:10001474-1557424800-1557435600@elktonky.com
SUMMARY:City Council Meeting
DESCRIPTION:Regularly scheduled City Council meeting. Agenda may be viewed on City Council Meeting Page when made available.
URL:https://elktonky.com/event/city-council-meeting-2017-06-12-2017-07-12/2019-05-09/
END:VEVENT
BEGIN:VEVENT
DTSTART;TZID=America/Chicago:20190429T170000
DTEND;TZID=America/Chicago:20190429T190000
DTSTAMP:20260420T200957
CREATED:20190425T201444Z
LAST-MODIFIED:20190425T201444Z
UID:10001697-1556557200-1556564400@elktonky.com
SUMMARY:Special City Council Meeting
DESCRIPTION:AGENDA \n1. Call to Order\n2. Pledge of Allegiance\n3. Invocation\n4. Code Enforcement\n5. Resolution 2019-01 – Approving TAP Application\n6. FY2020 Budget Work Session\n7. Adjourn
URL:https://elktonky.com/event/special-city-council-meeting-21-2/
END:VEVENT
BEGIN:VEVENT
DTSTART;TZID=America/Chicago:20190425T000000
DTEND;TZID=America/Chicago:20190425T000000
DTSTAMP:20260420T200957
CREATED:20200220T200025Z
LAST-MODIFIED:20200220T200025Z
UID:10001840-1556150400-1556150400@elktonky.com
SUMMARY:Special City Council Meeting
DESCRIPTION:AGENDA\n1. Call to Order\n2. Pledge of Allegiance\n3. Invocation\n4. Code Enforcement\n5. Resolution 2019-01 – Approving TAP Application\n6. FY2020 Budget Work Session\n7. Adjourn
URL:https://elktonky.com/event/special-city-council-meeting-21/
END:VEVENT
BEGIN:VEVENT
DTSTART;TZID=America/Chicago:20190418T180000
DTEND;TZID=America/Chicago:20190418T200000
DTSTAMP:20260420T200957
CREATED:20190412T161619Z
LAST-MODIFIED:20190412T161619Z
UID:10001696-1555610400-1555617600@elktonky.com
SUMMARY:Special City Council Meeting
DESCRIPTION:There will be a special meeting of the Elkton City Council on Thursday\, April 18\, 2019 at 6:00 PM at Elkton City Hall\, 71 Public Square\, to discuss the following: \nAGENDA\n \n\nCall to Order\nPledge of Allegiance\nInvocation\n2nd Reading Ordinance 2019-04 – THE INSTALLATION AND MAINTENANCE\nOF RESIDENTIAL DRIVEWAY ENTRANCE PIPES\n2nd Reading Ordinance 2019-05 – INSTALLATION AND REGULATION OF STREETLIGHTS\n2nd Reading Ordinance 2019-06 – REZONE PROPERTIES LOCATED ON COMMERCE STREET NEAR THE INTERSECTION OF B WHITE ROAD\nMemorandum of Agreement Between City and Todd County Water District\nBid Opening\n\nPark Lighting Project Bids\n\n\nAdjourn
URL:https://elktonky.com/event/special-city-council-meeting-20-2/
END:VEVENT
BEGIN:VEVENT
DTSTART;TZID=America/Chicago:20190412T000000
DTEND;TZID=America/Chicago:20190412T000000
DTSTAMP:20260420T200957
CREATED:20200220T200025Z
LAST-MODIFIED:20200220T200025Z
UID:10001839-1555027200-1555027200@elktonky.com
SUMMARY:Special City Council Meeting
DESCRIPTION:There will be a special meeting of the Elkton City Council on Thursday\, April 18\, 2019 at 6:00 PM at Elkton City Hall\, 71 Public Square\, to discuss the following:\nAGENDA\n \n\nCall to Order\nPledge of Allegiance\nInvocation\n2nd Reading Ordinance 2019-04 – THE INSTALLATION AND MAINTENANCE\nOF RESIDENTIAL DRIVEWAY ENTRANCE PIPES\n2nd Reading Ordinance 2019-05 – INSTALLATION AND REGULATION OF STREETLIGHTS\n2nd Reading Ordinance 2019-06 – REZONE PROPERTIES LOCATED ON COMMERCE STREET NEAR THE INTERSECTION OF B WHITE ROAD\nMemorandum of Agreement Between City and Todd County Water District\nBid Opening\n\nPark Lighting Project Bids\n\n\nAdjourn
URL:https://elktonky.com/event/special-city-council-meeting-20/
END:VEVENT
BEGIN:VEVENT
DTSTART;TZID=America/Chicago:20190411T190000
DTEND;TZID=America/Chicago:20190411T210000
DTSTAMP:20260420T200957
CREATED:20190405T185103Z
LAST-MODIFIED:20190405T185103Z
UID:10001695-1555009200-1555016400@elktonky.com
SUMMARY:Planning Commission Meeting
DESCRIPTION:
URL:https://elktonky.com/event/planning-commission-meeting-18-2/
END:VEVENT
BEGIN:VEVENT
DTSTART;TZID=America/Chicago:20190411T180000
DTEND;TZID=America/Chicago:20190411T210000
DTSTAMP:20260420T200957
CREATED:20150401T152900Z
LAST-MODIFIED:20210205T170046Z
UID:10001473-1555005600-1555016400@elktonky.com
SUMMARY:City Council Meeting
DESCRIPTION:Regularly scheduled City Council meeting. Agenda may be viewed on City Council Meeting Page when made available.
URL:https://elktonky.com/event/city-council-meeting-2017-06-12-2017-07-12/2019-04-11/
END:VEVENT
BEGIN:VEVENT
DTSTART;TZID=America/Chicago:20190405T000000
DTEND;TZID=America/Chicago:20190405T000000
DTSTAMP:20260420T200957
CREATED:20200220T200024Z
LAST-MODIFIED:20200220T200024Z
UID:10001838-1554422400-1554422400@elktonky.com
SUMMARY:Planning Commission Meeting
DESCRIPTION:
URL:https://elktonky.com/event/planning-commission-meeting-17/
END:VEVENT
BEGIN:VEVENT
DTSTART;TZID=America/Chicago:20190328T190000
DTEND;TZID=America/Chicago:20190328T210000
DTSTAMP:20260420T200957
CREATED:20190322T162254Z
LAST-MODIFIED:20190322T162254Z
UID:10001694-1553799600-1553806800@elktonky.com
SUMMARY:Special Planning Commission Meeting
DESCRIPTION:Agenda \n1. Call to Order \n2. Approval of Minutes – March 14\, 2019 Meeting \n3. Public Hearings \n• Continuation from Last Meeting: Rezoning property on Commerce Street near the intersection of B White Road from B-3 Highway Commercial District to R-3 Multi-Family Residential District \n4. Recommendation to City Council Concerning Application to Rezone Property on Commerce Street \n5. Qualified Manufactured Home Application \n6. Adjournment
URL:https://elktonky.com/event/special-planning-commission-meeting-4-2/
END:VEVENT
END:VCALENDAR