BEGIN:VCALENDAR
VERSION:2.0
PRODID:-//The City of Elkton, KY - ECPv6.15.20//NONSGML v1.0//EN
CALSCALE:GREGORIAN
METHOD:PUBLISH
X-WR-CALNAME:The City of Elkton, KY
X-ORIGINAL-URL:https://elktonky.com
X-WR-CALDESC:Events for The City of Elkton, KY
REFRESH-INTERVAL;VALUE=DURATION:PT1H
X-Robots-Tag:noindex
X-PUBLISHED-TTL:PT1H
BEGIN:VTIMEZONE
TZID:America/Chicago
BEGIN:DAYLIGHT
TZOFFSETFROM:-0600
TZOFFSETTO:-0500
TZNAME:CDT
DTSTART:20180311T080000
END:DAYLIGHT
BEGIN:STANDARD
TZOFFSETFROM:-0500
TZOFFSETTO:-0600
TZNAME:CST
DTSTART:20181104T070000
END:STANDARD
BEGIN:DAYLIGHT
TZOFFSETFROM:-0600
TZOFFSETTO:-0500
TZNAME:CDT
DTSTART:20190310T080000
END:DAYLIGHT
BEGIN:STANDARD
TZOFFSETFROM:-0500
TZOFFSETTO:-0600
TZNAME:CST
DTSTART:20191103T070000
END:STANDARD
BEGIN:DAYLIGHT
TZOFFSETFROM:-0600
TZOFFSETTO:-0500
TZNAME:CDT
DTSTART:20200308T080000
END:DAYLIGHT
BEGIN:STANDARD
TZOFFSETFROM:-0500
TZOFFSETTO:-0600
TZNAME:CST
DTSTART:20201101T070000
END:STANDARD
BEGIN:DAYLIGHT
TZOFFSETFROM:-0600
TZOFFSETTO:-0500
TZNAME:CDT
DTSTART:20210314T080000
END:DAYLIGHT
BEGIN:STANDARD
TZOFFSETFROM:-0500
TZOFFSETTO:-0600
TZNAME:CST
DTSTART:20211107T070000
END:STANDARD
END:VTIMEZONE
BEGIN:VTIMEZONE
TZID:America/Chicago
BEGIN:DAYLIGHT
TZOFFSETFROM:-0600
TZOFFSETTO:-0500
TZNAME:CDT
DTSTART:20180311T080000
END:DAYLIGHT
BEGIN:STANDARD
TZOFFSETFROM:-0500
TZOFFSETTO:-0600
TZNAME:CST
DTSTART:20181104T070000
END:STANDARD
BEGIN:DAYLIGHT
TZOFFSETFROM:-0600
TZOFFSETTO:-0500
TZNAME:CDT
DTSTART:20190310T080000
END:DAYLIGHT
BEGIN:STANDARD
TZOFFSETFROM:-0500
TZOFFSETTO:-0600
TZNAME:CST
DTSTART:20191103T070000
END:STANDARD
BEGIN:DAYLIGHT
TZOFFSETFROM:-0600
TZOFFSETTO:-0500
TZNAME:CDT
DTSTART:20200308T080000
END:DAYLIGHT
BEGIN:STANDARD
TZOFFSETFROM:-0500
TZOFFSETTO:-0600
TZNAME:CST
DTSTART:20201101T070000
END:STANDARD
BEGIN:DAYLIGHT
TZOFFSETFROM:-0600
TZOFFSETTO:-0500
TZNAME:CDT
DTSTART:20210314T080000
END:DAYLIGHT
BEGIN:STANDARD
TZOFFSETFROM:-0500
TZOFFSETTO:-0600
TZNAME:CST
DTSTART:20211107T070000
END:STANDARD
END:VTIMEZONE
BEGIN:VEVENT
DTSTART;TZID=America/Chicago:20200113T000000
DTEND;TZID=America/Chicago:20200113T000000
DTSTAMP:20260420T104802
CREATED:20200220T200046Z
LAST-MODIFIED:20200220T200046Z
UID:10001852-1578873600-1578873600@elktonky.com
SUMMARY:Special Planning Commission Meeting
DESCRIPTION:Elkton Planning Commission Special MeetingElkton City Hall Conference Room – 71 Public Square\nThursday\, January 16\, 2020\n6:00 PM \nAgenda \n1. Call to Order \n2. Recognition of Members and Quorum \n3. Approval of Minutes – November 14\, 2019 Meeting \n4. Updated Bylaws Distributed \n5. Nomination and Election of Officers \n6. Commerce Street Multi-Family Development Plan \n7. Todd County Extension Office New Office Location Development Plan \n8.  Adjournment
URL:https://elktonky.com/event/special-planning-commission-meeting-5/
END:VEVENT
BEGIN:VEVENT
DTSTART;TZID=America/Chicago:20200113T000000
DTEND;TZID=America/Chicago:20200113T000000
DTSTAMP:20260420T104802
CREATED:20200220T200046Z
LAST-MODIFIED:20200220T200046Z
UID:10001853-1578873600-1578873600@elktonky.com
SUMMARY:Public Hearing and Special Meeting of Elkton Board of Adjustment
DESCRIPTION:The Elkton Board of Adjustment will hold Public Hearings for the following requests for Dimensional Variances:\n• Glenn Slack for a Dimensional Variance to construct a sign on property located at 809 S Main St.\n• Michael Case for a Dimensional Variance to construct an addition to a house located at 509 W Main St. \n  \nThe Public Hearing and Special Meeting of the Board of Adjustment will be held on Tuesday\, January 21\, 2020 at 6:00 PM at Elkton City Hall\, 71 Public Square\, in the Conference Room. Remember\, this is a special called meeting\, so only items on the agenda below can be discussed in the meeting. \n  \nAGENDA \n1. Call to Order\n2. Approval of Minutes from October 3\, 2019\n3. Public Hearing and Decision – Dimensional Variance\, Glenn Slack\, 809 S Main St\n4. Public Hearing and Decision – Dimensional Variance\, Michael Case\, 509 W Main St\n5. Adjournment
URL:https://elktonky.com/event/public-hearing-and-special-meeting-of-elkton-board-of-adjustment/
END:VEVENT
BEGIN:VEVENT
DTSTART;TZID=America/Chicago:20200113T000000
DTEND;TZID=America/Chicago:20200113T000000
DTSTAMP:20260420T104802
CREATED:20200220T200045Z
LAST-MODIFIED:20200220T200045Z
UID:10001851-1578873600-1578873600@elktonky.com
SUMMARY:Special City Council Meeting
DESCRIPTION:SPECIAL MEETING NOTICE\nThere will be a special meeting of the Elkton City Council on Monday\, January 13\, 2020 at 5:00 PM at Elkton City Hall\, 71 Public Square\, to discuss the following: \nAGENDA \n1. Second Reading Ordinance 2020-01 – AN ORDINANCE AMENDING THE TEXT OF CHAPTER 152 (PLANNING) OF THE CITY OF ELKTON CODE OF ORDINANCES (Sponsored by Case) \n2. Second Reading Ordinance 2020-02 – ORDINANCE ADOPTING COMPENSATION PLAN AND PAY SCALE (Sponsored by Orr) \n3. Planning Commission Appointments
URL:https://elktonky.com/event/special-city-council-meeting-26/
END:VEVENT
BEGIN:VEVENT
DTSTART;TZID=America/Chicago:20200109T180000
DTEND;TZID=America/Chicago:20200109T210000
DTSTAMP:20260420T104802
CREATED:20150401T152900Z
LAST-MODIFIED:20210205T170046Z
UID:10001482-1578592800-1578603600@elktonky.com
SUMMARY:City Council Meeting
DESCRIPTION:Regularly scheduled City Council meeting. Agenda may be viewed on City Council Meeting Page when made available.
URL:https://elktonky.com/event/city-council-meeting-2017-06-12-2017-07-12/2020-01-09/
END:VEVENT
BEGIN:VEVENT
DTSTART;VALUE=DATE:20191225
DTEND;VALUE=DATE:20191226
DTSTAMP:20260420T104802
CREATED:20191031T191748Z
LAST-MODIFIED:20191031T191748Z
UID:10001723-1577232000-1577318399@elktonky.com
SUMMARY:City Hall Closed for Christmas
DESCRIPTION:
URL:https://elktonky.com/event/city-hall-closed-for-christmas-3/
END:VEVENT
BEGIN:VEVENT
DTSTART;VALUE=DATE:20191224
DTEND;VALUE=DATE:20191225
DTSTAMP:20260420T104802
CREATED:20191031T191715Z
LAST-MODIFIED:20191031T191715Z
UID:10001722-1577145600-1577231999@elktonky.com
SUMMARY:City Hall Closed for Christmas
DESCRIPTION:
URL:https://elktonky.com/event/city-hall-closed-for-christmas-2-2/
END:VEVENT
BEGIN:VEVENT
DTSTART;VALUE=DATE:20191223
DTEND;VALUE=DATE:20191224
DTSTAMP:20260420T104802
CREATED:20191031T191644Z
LAST-MODIFIED:20191031T191644Z
UID:10001721-1577059200-1577145599@elktonky.com
SUMMARY:City Hall Closed for Christmas
DESCRIPTION:
URL:https://elktonky.com/event/city-hall-closed-for-christmas-2/
END:VEVENT
BEGIN:VEVENT
DTSTART;TZID=America/Chicago:20191217T080000
DTEND;TZID=America/Chicago:20191217T170000
DTSTAMP:20260420T104802
CREATED:20191217T192444Z
LAST-MODIFIED:20191217T192444Z
UID:10001725-1576569600-1576602000@elktonky.com
SUMMARY:Holiday Garbage Pick Up Schedule
DESCRIPTION:Weekly garbage pick up in Elkton will remain on schedule through the Christmas and New Year holidays.  Therefore\, please put your container to the curb on Thursday night in order to be picked up early Friday morning. \n 
URL:https://elktonky.com/event/holiday-garbage-pick-up-schedule-2/
ATTACH;FMTTYPE=image/png:https://elktonky.com/wp-content/uploads/2018/12/garbage-truck-2-e1545841979312.png
END:VEVENT
BEGIN:VEVENT
DTSTART;TZID=America/Chicago:20191217T000000
DTEND;TZID=America/Chicago:20191217T000000
DTSTAMP:20260420T104802
CREATED:20200220T200035Z
LAST-MODIFIED:20200220T200035Z
UID:10001797-1576540800-1576540800@elktonky.com
SUMMARY:Holiday Garbage Pick Up Schedule
DESCRIPTION:Weekly garbage pick up in Elkton will remain on schedule through the Christmas and New Year holidays.  Therefore\, please put your container to the curb on Thursday night in order to be picked up early Friday morning.\n 
URL:https://elktonky.com/event/holiday-garbage-pick-up-schedule/
END:VEVENT
BEGIN:VEVENT
DTSTART;TZID=America/Chicago:20191214T080000
DTEND;TZID=America/Chicago:20191214T210000
DTSTAMP:20260420T104802
CREATED:20190724T194545Z
LAST-MODIFIED:20190724T194545Z
UID:10001705-1576310400-1576357200@elktonky.com
SUMMARY:Christmas in Elkton and Parade
DESCRIPTION:Visit the Christmas in Elkton and Parade Page for more information.
URL:https://elktonky.com/event/christmas-in-elkton-and-parade-5-2/
END:VEVENT
BEGIN:VEVENT
DTSTART;TZID=America/Chicago:20191212T180000
DTEND;TZID=America/Chicago:20191212T210000
DTSTAMP:20260420T104802
CREATED:20150401T152900Z
LAST-MODIFIED:20210205T170046Z
UID:10001481-1576173600-1576184400@elktonky.com
SUMMARY:City Council Meeting
DESCRIPTION:Regularly scheduled City Council meeting. Agenda may be viewed on City Council Meeting Page when made available.
URL:https://elktonky.com/event/city-council-meeting-2017-06-12-2017-07-12/2019-12-12/
END:VEVENT
BEGIN:VEVENT
DTSTART;VALUE=DATE:20191129
DTEND;VALUE=DATE:20191130
DTSTAMP:20260420T104802
CREATED:20191031T191614Z
LAST-MODIFIED:20191031T191614Z
UID:10001720-1574985600-1575071999@elktonky.com
SUMMARY:City Hall Closed for Thanksgiving
DESCRIPTION:
URL:https://elktonky.com/event/city-hall-closed-for-thanksgiving-2-2/
END:VEVENT
BEGIN:VEVENT
DTSTART;VALUE=DATE:20191128
DTEND;VALUE=DATE:20191129
DTSTAMP:20260420T104802
CREATED:20191031T191511Z
LAST-MODIFIED:20191031T191511Z
UID:10001719-1574899200-1574985599@elktonky.com
SUMMARY:City Hall Closed for Thanksgiving
DESCRIPTION:
URL:https://elktonky.com/event/city-hall-closed-for-thanksgiving-2/
END:VEVENT
BEGIN:VEVENT
DTSTART;TZID=America/Chicago:20191118T170000
DTEND;TZID=America/Chicago:20191118T173000
DTSTAMP:20260420T104802
CREATED:20191115T212515Z
LAST-MODIFIED:20191115T212515Z
UID:10001724-1574096400-1574098200@elktonky.com
SUMMARY:Special City Council Meeting
DESCRIPTION:There will be a special meeting of the Elkton City Council on Monday\, November 18\, 2019 at 5:00 PM at Elkton City Hall\, 71 Public Square\, to discuss the following: \nAGENDA \n1. RESOLUTION 2019-12 – RESOLUTION ADOPTING AND APPROVING THE EXECUTION OF A MEMORANDUM OF AGREEMENT BETWEEN THE CITY OF ELKTON AND THE COMMONWEALTH OF KENTUCKY\, TRANSPORTATION CABINET\, DEPARTMENT OF HIGHWAYS FOR THE AMOUNT OF $199\,200 FOR THE RESURFACE VARIOUS CITY STREETS PROJECT
URL:https://elktonky.com/event/special-city-council-meeting-26-2/
END:VEVENT
BEGIN:VEVENT
DTSTART;TZID=America/Chicago:20191115T000000
DTEND;TZID=America/Chicago:20191115T000000
DTSTAMP:20260420T104802
CREATED:20200220T200034Z
LAST-MODIFIED:20200220T200034Z
UID:10001796-1573776000-1573776000@elktonky.com
SUMMARY:Special City Council Meeting
DESCRIPTION:There will be a special meeting of the Elkton City Council on Monday\, November 18\, 2019 at 5:00 PM at Elkton City Hall\, 71 Public Square\, to discuss the following:\nAGENDA \n1. RESOLUTION 2019-12 – RESOLUTION ADOPTING AND APPROVING THE EXECUTION OF A MEMORANDUM OF AGREEMENT BETWEEN THE CITY OF ELKTON AND THE COMMONWEALTH OF KENTUCKY\, TRANSPORTATION CABINET\, DEPARTMENT OF HIGHWAYS FOR THE AMOUNT OF $199\,200 FOR THE RESURFACE VARIOUS CITY STREETS PROJECT
URL:https://elktonky.com/event/special-city-council-meeting-25/
END:VEVENT
BEGIN:VEVENT
DTSTART;TZID=America/Chicago:20191114T180000
DTEND;TZID=America/Chicago:20191114T210000
DTSTAMP:20260420T104802
CREATED:20150401T152900Z
LAST-MODIFIED:20210205T170046Z
UID:10001480-1573754400-1573765200@elktonky.com
SUMMARY:City Council Meeting
DESCRIPTION:Regularly scheduled City Council meeting. Agenda may be viewed on City Council Meeting Page when made available.
URL:https://elktonky.com/event/city-council-meeting-2017-06-12-2017-07-12/2019-11-14/
END:VEVENT
BEGIN:VEVENT
DTSTART;TZID=America/Chicago:20191112T190000
DTEND;TZID=America/Chicago:20191112T220000
DTSTAMP:20260420T104802
CREATED:20150401T152900Z
LAST-MODIFIED:20150401T152900Z
UID:10001578-1573585200-1573596000@elktonky.com
SUMMARY:City Council Meeting
DESCRIPTION:Due to the Veterans Day Holiday\, per city ordinance the regular meeting of the Elkton City Council scheduled for the second Monday (November 11th) will be held the following Tuesday\, November 12\, 2019 at 7 PM.
URL:https://elktonky.com/event/city-council-meeting-2017-06-12-2017-07-12-2019-11-11/
END:VEVENT
BEGIN:VEVENT
DTSTART;VALUE=DATE:20191111
DTEND;VALUE=DATE:20191112
DTSTAMP:20260420T104802
CREATED:20191031T191359Z
LAST-MODIFIED:20191031T191359Z
UID:10001718-1573430400-1573516799@elktonky.com
SUMMARY:City Hall Closed for Veterans Day
DESCRIPTION:
URL:https://elktonky.com/event/city-hall-closed-for-veterans-day-2/
END:VEVENT
BEGIN:VEVENT
DTSTART;TZID=America/Chicago:20191031T173000
DTEND;TZID=America/Chicago:20191031T193000
DTSTAMP:20260420T104802
CREATED:20190802T134116Z
LAST-MODIFIED:20190802T134116Z
UID:10001706-1572543000-1572550200@elktonky.com
SUMMARY:Halloween Trick-or-Treat
DESCRIPTION:Trick-or-Treat times in Elkton are set for October 31st from 5:30 PM to 7:30 PM. 
URL:https://elktonky.com/event/halloween-trick-or-treat-2/2019-10-31/
END:VEVENT
BEGIN:VEVENT
DTSTART;TZID=America/Chicago:20191031T000000
DTEND;TZID=America/Chicago:20191031T000000
DTSTAMP:20260420T104802
CREATED:20200220T200033Z
LAST-MODIFIED:20200220T200033Z
UID:10001790-1572480000-1572480000@elktonky.com
SUMMARY:City Hall Closed for Veterans Day
DESCRIPTION:
URL:https://elktonky.com/event/city-hall-closed-for-veterans-day/
END:VEVENT
BEGIN:VEVENT
DTSTART;TZID=America/Chicago:20191031T000000
DTEND;TZID=America/Chicago:20191031T000000
DTSTAMP:20260420T104802
CREATED:20200220T200033Z
LAST-MODIFIED:20200220T200033Z
UID:10001792-1572480000-1572480000@elktonky.com
SUMMARY:City Hall Closed for Thanksgiving
DESCRIPTION:
URL:https://elktonky.com/event/city-hall-closed-for-thanksgiving/
END:VEVENT
BEGIN:VEVENT
DTSTART;TZID=America/Chicago:20191031T000000
DTEND;TZID=America/Chicago:20191031T000000
DTSTAMP:20260420T104802
CREATED:20200220T200033Z
LAST-MODIFIED:20200220T200034Z
UID:10001794-1572480000-1572480000@elktonky.com
SUMMARY:City Hall Closed for Christmas
DESCRIPTION:
URL:https://elktonky.com/event/city-hall-closed-for-christmas/
END:VEVENT
BEGIN:VEVENT
DTSTART;TZID=America/Chicago:20191021T170000
DTEND;TZID=America/Chicago:20191021T173000
DTSTAMP:20260420T104802
CREATED:20191018T173856Z
LAST-MODIFIED:20191018T173856Z
UID:10001716-1571677200-1571679000@elktonky.com
SUMMARY:Revolving Fund Board Special Meeting
DESCRIPTION:NOTICE OF SPECIAL MEETING \nThere will be a special meeting of the Revolving Fund Board on Monday\, October 21\, 2019 at 5:00 PM at Elkton City Hall\, 71 Public Square\, Elkton\, Kentucky. \nAGENDA \n1. Revolving Fund Financial Report\n2. Revolving Fund Guidelines\n3. Proposal for Funding Paving in City-County Park
URL:https://elktonky.com/event/revolving-fund-board-special-meeting-2/
END:VEVENT
BEGIN:VEVENT
DTSTART;TZID=America/Chicago:20191018T080000
DTEND;TZID=America/Chicago:20191018T170000
DTSTAMP:20260420T104802
CREATED:20191018T174230Z
LAST-MODIFIED:20191018T174230Z
UID:10001717-1571385600-1571418000@elktonky.com
SUMMARY:Invitation to Bid Asphalt Surfacing
DESCRIPTION:The city of Elkton\, Kentucky is now accepting sealed bids for Asphalt Surfacing of various city streets in the city of Elkton\, Kentucky. Specifications and bid form may be picked up at City Hall\, 71 Public Square\, Elkton\, Kentucky during normal business hours of 7:30 am to 4:00 pm\, Monday through Friday\, or by contacting City Hall at 270-265-9877 or by visiting www.elktonky.com. \nContractor must be pre-qualified to do work for the Commonwealth of Kentucky\, Transportation Cabinet\, Department of Highways\, for work to be performed. \nBids shall be sealed in an envelope clearly labeled with “Asphalt Surfacing Bid” and mailed or hand delivered to City of Elkton\, City Hall\, PO Box 578\, 71 Public Square\, Elkton\, KY 42220. No facsimile bids will be accepted. Bids shall be submitted on the bid form provided in the specifications and will be accepted until Tuesday\, October 29\, 2019 at 10:00 AM. Bids will be opened at this time and will be presented to the City Council for review at a public meeting. \nThe City of Elkton reserves the right to accept any bid\, to reject any or all bids\, and to waive any technicality or informality in bidding or bids received\, where such acceptance\, rejection\, or waiver is considered to be in the best interest of the city. All qualified applicants will receive consideration for employment without regard to race\, religion\, color\, national origin\, sex\, sexual orientation\, gender identity\, age or disability. The City of Elkton is an Equal Opportunity Employer.  \n  \nDownload and Print Bid Specifications and Bid Form
URL:https://elktonky.com/event/invitation-to-bid-asphalt-surfacing-2/
END:VEVENT
BEGIN:VEVENT
DTSTART;TZID=America/Chicago:20191018T000000
DTEND;TZID=America/Chicago:20191018T000000
DTSTAMP:20260420T104802
CREATED:20200220T200032Z
LAST-MODIFIED:20200220T200032Z
UID:10001789-1571356800-1571356800@elktonky.com
SUMMARY:Invitation to Bid Asphalt Surfacing
DESCRIPTION:The city of Elkton\, Kentucky is now accepting sealed bids for Asphalt Surfacing of various city streets in the city of Elkton\, Kentucky. Specifications and bid form may be picked up at City Hall\, 71 Public Square\, Elkton\, Kentucky during normal business hours of 7:30 am to 4:00 pm\, Monday through Friday\, or by contacting City Hall at 270-265-9877 or by visiting www.elktonky.com.\nContractor must be pre-qualified to do work for the Commonwealth of Kentucky\, Transportation Cabinet\, Department of Highways\, for work to be performed. \nBids shall be sealed in an envelope clearly labeled with “Asphalt Surfacing Bid” and mailed or hand delivered to City of Elkton\, City Hall\, PO Box 578\, 71 Public Square\, Elkton\, KY 42220. No facsimile bids will be accepted. Bids shall be submitted on the bid form provided in the specifications and will be accepted until Tuesday\, October 29\, 2019 at 10:00 AM. Bids will be opened at this time and will be presented to the City Council for review at a public meeting. \nThe City of Elkton reserves the right to accept any bid\, to reject any or all bids\, and to waive any technicality or informality in bidding or bids received\, where such acceptance\, rejection\, or waiver is considered to be in the best interest of the city. All qualified applicants will receive consideration for employment without regard to race\, religion\, color\, national origin\, sex\, sexual orientation\, gender identity\, age or disability. The City of Elkton is an Equal Opportunity Employer.  \n  \nDownload and Print Bid Specifications and Bid Form
URL:https://elktonky.com/event/invitation-to-bid-asphalt-surfacing/
END:VEVENT
BEGIN:VEVENT
DTSTART;TZID=America/Chicago:20191018T000000
DTEND;TZID=America/Chicago:20191018T000000
DTSTAMP:20260420T104802
CREATED:20200220T200031Z
LAST-MODIFIED:20200220T200031Z
UID:10001787-1571356800-1571356800@elktonky.com
SUMMARY:Revolving Fund Board Special Meeting
DESCRIPTION:NOTICE OF SPECIAL MEETING\nThere will be a special meeting of the Revolving Fund Board on Monday\, October 21\, 2019 at 5:00 PM at Elkton City Hall\, 71 Public Square\, Elkton\, Kentucky. \nAGENDA \n1. Revolving Fund Financial Report\n2. Revolving Fund Guidelines\n3. Proposal for Funding Paving in City-County Park
URL:https://elktonky.com/event/revolving-fund-board-special-meeting/
END:VEVENT
BEGIN:VEVENT
DTSTART;TZID=America/Chicago:20191015T190000
DTEND;TZID=America/Chicago:20191015T220000
DTSTAMP:20260420T104802
CREATED:20150401T152900Z
LAST-MODIFIED:20150401T152900Z
UID:10001577-1571166000-1571176800@elktonky.com
SUMMARY:City Council Meeting
DESCRIPTION:Due to the Columbus Day Holiday\, per city ordinance the regular meeting of the Elkton City Council scheduled for the second Monday (October 14th) will be held the following Tuesday\, October 15\, 2019 at 7 PM.
URL:https://elktonky.com/event/city-council-meeting-2017-06-12-2017-07-12-2019-10-14/
END:VEVENT
BEGIN:VEVENT
DTSTART;TZID=America/Chicago:20191010T180000
DTEND;TZID=America/Chicago:20191010T210000
DTSTAMP:20260420T104802
CREATED:20150401T152900Z
LAST-MODIFIED:20210205T170046Z
UID:10001479-1570730400-1570741200@elktonky.com
SUMMARY:City Council Meeting
DESCRIPTION:Regularly scheduled City Council meeting. Agenda may be viewed on City Council Meeting Page when made available.
URL:https://elktonky.com/event/city-council-meeting-2017-06-12-2017-07-12/2019-10-10/
END:VEVENT
BEGIN:VEVENT
DTSTART;TZID=America/Chicago:20191005T090000
DTEND;TZID=America/Chicago:20191005T150000
DTSTAMP:20260420T104802
CREATED:20190724T194307Z
LAST-MODIFIED:20190724T194307Z
UID:10001704-1570266000-1570287600@elktonky.com
SUMMARY:Elkton's HarvestFest 2019
DESCRIPTION:Visit the event website at HarvesFest Page for more information.
URL:https://elktonky.com/event/elktons-harvestfest-2019-2/
END:VEVENT
BEGIN:VEVENT
DTSTART;TZID=America/Chicago:20191003T180000
DTEND;TZID=America/Chicago:20191003T190000
DTSTAMP:20260420T104802
CREATED:20190924T160538Z
LAST-MODIFIED:20190924T160538Z
UID:10001714-1570125600-1570129200@elktonky.com
SUMMARY:Board of Adjustment Hearing and Special Meeting
DESCRIPTION:  \nNOTICE OF PUBLIC HEARING AND SPECIAL MEETING \nThe City of Elkton Board of Adjustment has received a request for a Dimensional Variance from Gayla and Billy Shanks for property located at 504 S Main Street\, Elkton\, Kentucky. A Dimensional Variance is a deviation from the dimensional requirements of the Zoning Ordinance pertaining to height\, width\, or location of structures and setbacks. \nA Public Hearing and Special Meeting will be held on Thursday\, October 3\, 2019 at 6:00 PM at Elkton City Hall\, 71 Public Square\, in the Conference Room to consider this request. Any comments\, either oral or written\, will be given consideration. Contact the Elkton Board of Adjustment at Elkton City Hall at 270-265-9877 for additional information. \nAGENDA \n1. Call to Order\n2. Approval of Minutes from May 30\, 2019\n3. Public Hearing and Decision – Dimensional Variance\, Gayla and Billy Shanks\, 504 S Main St\n4. Open Records Documentation and Certificate of Receipt\n5. Adjournment
URL:https://elktonky.com/event/board-of-adjustment-hearing-and-special-meeting-3-2/
END:VEVENT
END:VCALENDAR