BEGIN:VCALENDAR
VERSION:2.0
PRODID:-//The City of Elkton, KY - ECPv6.15.20//NONSGML v1.0//EN
CALSCALE:GREGORIAN
METHOD:PUBLISH
X-ORIGINAL-URL:https://elktonky.com
X-WR-CALDESC:Events for The City of Elkton, KY
REFRESH-INTERVAL;VALUE=DURATION:PT1H
X-Robots-Tag:noindex
X-PUBLISHED-TTL:PT1H
BEGIN:VTIMEZONE
TZID:America/Chicago
BEGIN:DAYLIGHT
TZOFFSETFROM:-0600
TZOFFSETTO:-0500
TZNAME:CDT
DTSTART:20200308T080000
END:DAYLIGHT
BEGIN:STANDARD
TZOFFSETFROM:-0500
TZOFFSETTO:-0600
TZNAME:CST
DTSTART:20201101T070000
END:STANDARD
BEGIN:DAYLIGHT
TZOFFSETFROM:-0600
TZOFFSETTO:-0500
TZNAME:CDT
DTSTART:20210314T080000
END:DAYLIGHT
BEGIN:STANDARD
TZOFFSETFROM:-0500
TZOFFSETTO:-0600
TZNAME:CST
DTSTART:20211107T070000
END:STANDARD
BEGIN:DAYLIGHT
TZOFFSETFROM:-0600
TZOFFSETTO:-0500
TZNAME:CDT
DTSTART:20220313T080000
END:DAYLIGHT
BEGIN:STANDARD
TZOFFSETFROM:-0500
TZOFFSETTO:-0600
TZNAME:CST
DTSTART:20221106T070000
END:STANDARD
BEGIN:DAYLIGHT
TZOFFSETFROM:-0600
TZOFFSETTO:-0500
TZNAME:CDT
DTSTART:20230312T080000
END:DAYLIGHT
BEGIN:STANDARD
TZOFFSETFROM:-0500
TZOFFSETTO:-0600
TZNAME:CST
DTSTART:20231105T070000
END:STANDARD
END:VTIMEZONE
BEGIN:VTIMEZONE
TZID:America/Chicago
BEGIN:DAYLIGHT
TZOFFSETFROM:-0600
TZOFFSETTO:-0500
TZNAME:CDT
DTSTART:20200308T080000
END:DAYLIGHT
BEGIN:STANDARD
TZOFFSETFROM:-0500
TZOFFSETTO:-0600
TZNAME:CST
DTSTART:20201101T070000
END:STANDARD
BEGIN:DAYLIGHT
TZOFFSETFROM:-0600
TZOFFSETTO:-0500
TZNAME:CDT
DTSTART:20210314T080000
END:DAYLIGHT
BEGIN:STANDARD
TZOFFSETFROM:-0500
TZOFFSETTO:-0600
TZNAME:CST
DTSTART:20211107T070000
END:STANDARD
BEGIN:DAYLIGHT
TZOFFSETFROM:-0600
TZOFFSETTO:-0500
TZNAME:CDT
DTSTART:20220313T080000
END:DAYLIGHT
BEGIN:STANDARD
TZOFFSETFROM:-0500
TZOFFSETTO:-0600
TZNAME:CST
DTSTART:20221106T070000
END:STANDARD
BEGIN:DAYLIGHT
TZOFFSETFROM:-0600
TZOFFSETTO:-0500
TZNAME:CDT
DTSTART:20230312T080000
END:DAYLIGHT
BEGIN:STANDARD
TZOFFSETFROM:-0500
TZOFFSETTO:-0600
TZNAME:CST
DTSTART:20231105T070000
END:STANDARD
END:VTIMEZONE
BEGIN:VEVENT
DTSTART;TZID=America/Chicago:20220602T060000
DTEND;TZID=America/Chicago:20220605T180000
DTSTAMP:20260419T195059
CREATED:20220304T181712Z
LAST-MODIFIED:20220304T181757Z
UID:10001899-1654149600-1654452000@elktonky.com
SUMMARY:Elkton Yard Sale Days and 400 Mile Sale
DESCRIPTION:400 Mile Sale Across Kentucky 400 Mile Sale Website \nElkton Yard Sale Days – Elkton Yard Sale Days Website
URL:https://elktonky.com/event/elkton-yard-sale-days-and-400-mile-sale/
LOCATION:Kentucky
END:VEVENT
BEGIN:VEVENT
DTSTART;TZID=America/Chicago:20220531T180000
DTEND;TZID=America/Chicago:20220531T200000
DTSTAMP:20260419T195059
CREATED:20220525T160309Z
LAST-MODIFIED:20220525T160321Z
UID:10001911-1654020000-1654027200@elktonky.com
SUMMARY:Special City Council Meeting
DESCRIPTION:  \nThere will be a special meeting of the Elkton City Council on Tuesday\, May 31\, 2022\, at 6:00 PM at Elkton City Hall\, 71 Public Square\, to discuss the following: \n\nAGENDA\n \n\n2nd Reading Ordinance 2022-04 – AMENDING SECTION 101.02(A) SETTING FORTH LICENSE REQUIREMENTS FOR TRAFFICKING IN ALCOHOLIC BEVERAGES\n2nd Reading Ordinance 2022-05 – AMENDING COMPENSATION PLAN AND PAY SCALE\n2nd Reading Ordinance 2022-06 – AMENDING CHAPTER 103: RESIDENTIAL DRIVEWAY ENTRANCE PIPES\n2nd Reading Ordinance 2022-07 – AMENDING SECTION 50.25 WATER RATES AND TAP FEES\nAsphalt Surfacing Bid\nCemetery Contract\nFY 2023 Budget Message and Proposal
URL:https://elktonky.com/event/special-city-council-meeting-36/
LOCATION:Elkton City Hall\, 71 Public Square\, Elkton\, 42220
END:VEVENT
BEGIN:VEVENT
DTSTART;TZID=America/Chicago:20220528T160000
DTEND;TZID=America/Chicago:20220528T200000
DTSTAMP:20260419T195059
CREATED:20220322T224250Z
LAST-MODIFIED:20220328T151433Z
UID:10001904-1653753600-1653768000@elktonky.com
SUMMARY:Cruise In and Concert on Public Square
DESCRIPTION:Cruise In on Public Square is held on the 4th Saturday of the month from May to August. Cruise In for 2022 kicks off on Saturday\, May 28th.  \nFor the Kick Off event we will close down Public Square starting at 4 pm for free parking. Walk around the Square and enjoy ALL makes and models of cars and trucks! Also\, bring a chair and enjoy live music by “Third Time Around” playing from 5 pm to 8 pm. \n  \n  \n  \nThere will also be a food truck area with the following vendors currently scheduled to attend: \n\n			\n				\n			\n			\n				\n			\n			\n				\n			\n		\n\n  \n 
URL:https://elktonky.com/event/cruise-in-and-concert-on-public-square/
LOCATION:Historic Public Square\, 1 Public Square\, Elkton\, Kentucky\, 42220
END:VEVENT
BEGIN:VEVENT
DTSTART;TZID=America/Chicago:20220519T173000
DTEND;TZID=America/Chicago:20220519T203000
DTSTAMP:20260419T195059
CREATED:20220427T161150Z
LAST-MODIFIED:20220427T161205Z
UID:10001909-1652981400-1652992200@elktonky.com
SUMMARY:Elkton Bike Night Kick Off with Hot Dancin'
DESCRIPTION:Join us on Historic Elkton Public Square for the Kick Off of Elkton Bike Night for 2022. \nThe band Hot Dancin will play on the Square from 6 pm until 8:30 pm. \nElkton Bike Night will be held every Thursday night from May 19\, 2022 through September 22\, 2022.
URL:https://elktonky.com/event/elkton-bike-night-kick-off/
LOCATION:Historic Public Square\, 1 Public Square\, Elkton\, Kentucky\, 42220
ORGANIZER;CN="Welcome Center":MAILTO:welcomecenter@elktonky.com
END:VEVENT
BEGIN:VEVENT
DTSTART;TZID=America/Chicago:20220514T140000
DTEND;TZID=America/Chicago:20220514T160000
DTSTAMP:20260419T195059
CREATED:20220317T142157Z
LAST-MODIFIED:20220317T170528Z
UID:10001900-1652536800-1652544000@elktonky.com
SUMMARY:Memories of Elkton Parade
DESCRIPTION:Memories of Elkton Parade Page  \n 
URL:https://elktonky.com/event/memories-of-elkton-parade/
LOCATION:Kentucky
ORGANIZER;CN="Welcome Center":MAILTO:welcomecenter@elktonky.com
END:VEVENT
BEGIN:VEVENT
DTSTART;TZID=America/Chicago:20220512T180000
DTEND;TZID=America/Chicago:20220512T210000
DTSTAMP:20260419T195059
CREATED:20150401T152900Z
LAST-MODIFIED:20210205T170046Z
UID:10001502-1652378400-1652389200@elktonky.com
SUMMARY:City Council Meeting
DESCRIPTION:Regularly scheduled City Council meeting. Agenda may be viewed on City Council Meeting Page when made available.
URL:https://elktonky.com/event/city-council-meeting-2017-06-12-2017-07-12/2022-05-12/
LOCATION:Kentucky
END:VEVENT
BEGIN:VEVENT
DTSTART;TZID=America/Chicago:20220428T180000
DTEND;TZID=America/Chicago:20220428T200000
DTSTAMP:20260419T195059
CREATED:20220422T165444Z
LAST-MODIFIED:20220422T165444Z
UID:10001908-1651168800-1651176000@elktonky.com
SUMMARY:Special City Council Meeting
DESCRIPTION:SPECIAL MEETING NOTICE \nThere will be a special meeting of the Elkton City Council on Thursday\, April 28\, 2022\, at 6:00 PM at Elkton City Hall\, 71 Public Square\, to discuss the following: \nAGENDA \n1. Resolution 2022-01 – A RESOLUTION AUTHORIZING THE CITY OF ELKTON\, KENTUCKY TO USE THE STANDARD ALLOWANCE FOR THE LOCAL FISCAL RECOVERY FUND AS AUTHORIZED BY THE AMERICAN RESCUE PLAN ACT \n2. Closed Session Under KRS 61.810(1)(b) for deliberations on the future acquisition or sale of real property by a public agency \n3. Closed Session Under KRS 61.810(1)(g) for discussion concerning the siting\, retention\, expansion\, or upgrading of a business \n4. Decision as Result of Closed Sessions
URL:https://elktonky.com/event/special-city-council-meeting-35/
LOCATION:Elkton City Hall\, 71 Public Square\, Elkton\, 42220
END:VEVENT
BEGIN:VEVENT
DTSTART;TZID=America/Chicago:20220414T180000
DTEND;TZID=America/Chicago:20220414T210000
DTSTAMP:20260419T195059
CREATED:20150401T152900Z
LAST-MODIFIED:20210205T170046Z
UID:10001501-1649959200-1649970000@elktonky.com
SUMMARY:City Council Meeting
DESCRIPTION:Regularly scheduled City Council meeting. Agenda may be viewed on City Council Meeting Page when made available.
URL:https://elktonky.com/event/city-council-meeting-2017-06-12-2017-07-12/2022-04-14/
LOCATION:Kentucky
END:VEVENT
BEGIN:VEVENT
DTSTART;TZID=America/Chicago:20220402T120000
DTEND;TZID=America/Chicago:20220402T150000
DTSTAMP:20260419T195059
CREATED:20220322T222222Z
LAST-MODIFIED:20220322T222323Z
UID:10001901-1648900800-1648911600@elktonky.com
SUMMARY:Elkton Egg-Stravaganza
DESCRIPTION:Free youth activities and games to start off the Easter Celebration. Contemporary Christian music organized by Sunset Valley Events featuring praise and worship teams from Todd County Churches and the surrounding area. Bring a chair or a blanket and enjoy the free music on the lawn.\n\nNOTE – April 4th will be the start of daily Easter Egg Hunts sponsored by the Elkton Police Department! Eggs will be hidden throughout the day with prizes. April 9th – Egg Hunt throughout Elkton.\n\nFor more information\, contact Megan at 270-265-9878.\nFacebook Event Page
URL:https://elktonky.com/event/elkton-egg-stravaganza/
LOCATION:Milliken Memorial Community House Lawn\, 208 W Main St\, Elkton\, KY\, 42220\, United States
END:VEVENT
BEGIN:VEVENT
DTSTART;TZID=America/Chicago:20220310T180000
DTEND;TZID=America/Chicago:20220310T210000
DTSTAMP:20260419T195059
CREATED:20150401T152900Z
LAST-MODIFIED:20210205T170046Z
UID:10001500-1646935200-1646946000@elktonky.com
SUMMARY:City Council Meeting
DESCRIPTION:Regularly scheduled City Council meeting. Agenda may be viewed on City Council Meeting Page when made available.
URL:https://elktonky.com/event/city-council-meeting-2017-06-12-2017-07-12/2022-03-10/
LOCATION:Kentucky
END:VEVENT
BEGIN:VEVENT
DTSTART;TZID=America/Chicago:20220303T180000
DTEND;TZID=America/Chicago:20220303T200000
DTSTAMP:20260419T195059
CREATED:20220301T211733Z
LAST-MODIFIED:20220301T211746Z
UID:10001898-1646330400-1646337600@elktonky.com
SUMMARY:Planning Commission Meeting
DESCRIPTION:Agenda \n1. Call to Order \n2. Public Hearing \n-Elk Fort County Club B2 >R2\n-308 W Main B2>R2\n-3.28 Acres Behind Sr Citizen Building A1>R3 \n3. Public Comments \n4. Recommendation of Proposed Amendments \n5. Approval of Minutes – November 18\, 2021 \n7. Zoning Administrator’s Report \n8. Adjournment
URL:https://elktonky.com/event/planning-commission-meeting-23/
LOCATION:Elkton City Hall\, 71 Public Square\, Elkton\, 42220
END:VEVENT
BEGIN:VEVENT
DTSTART;TZID=America/Chicago:20220210T180000
DTEND;TZID=America/Chicago:20220210T210000
DTSTAMP:20260419T195059
CREATED:20150401T152900Z
LAST-MODIFIED:20210205T170046Z
UID:10001499-1644516000-1644526800@elktonky.com
SUMMARY:City Council Meeting
DESCRIPTION:Regularly scheduled City Council meeting. Agenda may be viewed on City Council Meeting Page when made available.
URL:https://elktonky.com/event/city-council-meeting-2017-06-12-2017-07-12/2022-02-10/
LOCATION:Kentucky
END:VEVENT
BEGIN:VEVENT
DTSTART;TZID=America/Chicago:20220207T113000
DTEND;TZID=America/Chicago:20220207T123000
DTSTAMP:20260419T195059
CREATED:20220204T180157Z
LAST-MODIFIED:20220204T180157Z
UID:10001896-1644233400-1644237000@elktonky.com
SUMMARY:Revolving Fund Board Special Meeting
DESCRIPTION:NOTICE OF SPECIAL MEETING \nThere will be a special meeting of the Revolving Fund Board on Monday\, February 7\, 2022 at 11:30 AM at Elkton City Hall\, 71 Public Square\, Elkton\, Kentucky. \nAGENDA \n\nRevolving Fund Financial Report\nProposal for Funding Cleanup of Tornado Damaged Property
URL:https://elktonky.com/event/revolving-fund-board-special-meeting-3/
LOCATION:Elkton City Hall\, 71 Public Square\, Elkton\, 42220
END:VEVENT
BEGIN:VEVENT
DTSTART;TZID=America/Chicago:20220113T180000
DTEND;TZID=America/Chicago:20220113T210000
DTSTAMP:20260419T195059
CREATED:20150401T152900Z
LAST-MODIFIED:20210205T170046Z
UID:10001498-1642096800-1642107600@elktonky.com
SUMMARY:City Council Meeting
DESCRIPTION:Regularly scheduled City Council meeting. Agenda may be viewed on City Council Meeting Page when made available.
URL:https://elktonky.com/event/city-council-meeting-2017-06-12-2017-07-12/2022-01-13/
LOCATION:Kentucky
END:VEVENT
BEGIN:VEVENT
DTSTART;TZID=America/Chicago:20211211T180000
DTEND;TZID=America/Chicago:20211211T210000
DTSTAMP:20260419T195059
CREATED:20211105T154452Z
LAST-MODIFIED:20211129T145036Z
UID:10001894-1639245600-1639256400@elktonky.com
SUMMARY:Christmas in Elkton and Parade
DESCRIPTION:Christmas in Elkton will be celebrated this year on Saturday\, December 11\, 2021. Many local businesses will have open house\, special sales\, refreshments\, and other activities throughout the day followed by a nighttime Christmas Parade starting at 6:00 PM. \nThe parade features lighted floats and entries from local businesses\, schools and churches. Please note traffic will be blocked to Public Square starting around 5:30 PM until all festivities are over. The Grand Marshall of the parade this year will be all Todd County sports teams to celebrate their recent accomplishments. \nFollowing the parade\, Santa Claus will visit the Milliken Memorial Community House located at 208 W Main St where you can get a free digital picture with Santa\, free take home refreshments sponsored by the city and a free goodie bag sponsored by BR Knuckles Insurance. \nIf you would like to participate in the parade\, visit the Christmas Parade Page or call the Welcome Center at 270-265-7070 or email welcomecenter@elktonky.com. \n  \nNote parade route change – Due to a scheduling conflict at Todd Central High School\, the Elkton Christmas parade route has been changed. The parade will still start at 6 pm on Saturday\, December 11th. However\, parade lineup will now start on Industrial Drive at the intersection of West Main Street (beside First Financial Bank.) Parade participants will be placed in the lineup as they arrive. \nThe parade will turn on West Main Street and proceed toward Public Square\, go halfway around Public Square and exit on East Main Street. Once the parade gets to Haley Hardware and Elkton Baptist Church at the intersection of Allen Street the parade participants are dismissed. Please note that parade participants should enter the lineup on Industrial Drive either by way of Elk Fork Road either from West Main Street or Highway 68.
URL:https://elktonky.com/event/christmas-in-elkton-and-parade-7/
LOCATION:Kentucky
END:VEVENT
BEGIN:VEVENT
DTSTART;TZID=America/Chicago:20211209T180000
DTEND;TZID=America/Chicago:20211209T210000
DTSTAMP:20260419T195059
CREATED:20150401T152900Z
LAST-MODIFIED:20210205T170046Z
UID:10001497-1639072800-1639083600@elktonky.com
SUMMARY:City Council Meeting
DESCRIPTION:Regularly scheduled City Council meeting. Agenda may be viewed on City Council Meeting Page when made available.
URL:https://elktonky.com/event/city-council-meeting-2017-06-12-2017-07-12/2021-12-09/
LOCATION:Kentucky
END:VEVENT
BEGIN:VEVENT
DTSTART;TZID=America/Chicago:20211118T183000
DTEND;TZID=America/Chicago:20211118T203000
DTSTAMP:20260419T195059
CREATED:20211117T194528Z
LAST-MODIFIED:20211117T194611Z
UID:10001895-1637260200-1637267400@elktonky.com
SUMMARY:Special Planning Commission Meeting
DESCRIPTION:Elkton City Hall – 71 Public Square \nThursday\, November 18\, 2021\, at 6:30 PM \n  \nAgenda \n1. Call to Order \n2. Approval Of Minutes October 7\, 2021 \n3. New Business \na. Development Plan of Fawn Acres Subdivision\nb. Method of Communication Form\nc. Training Topics \n4. Adjournment \n  \nReminder: At a special meeting only items on the agenda can be discussed.
URL:https://elktonky.com/event/special-planning-commission-meeting-7/
LOCATION:Elkton City Hall\, 71 Public Square\, Elkton\, 42220
END:VEVENT
BEGIN:VEVENT
DTSTART;TZID=America/Chicago:20211115T180000
DTEND;TZID=America/Chicago:20211115T210000
DTSTAMP:20260419T195059
CREATED:20150401T152900Z
LAST-MODIFIED:20210910T145432Z
UID:10001581-1636999200-1637010000@elktonky.com
SUMMARY:City Council Meeting
DESCRIPTION:The regular meeting scheduled for Thursday\, November 11\, 2021 falls on a legal holiday\, Veterans Day\, therefore pursuant to city ordinance “§ 32.21 MEETINGS. (A) Regular meetings of the Council shall be held once each month on the second Thursday of each month at 6:00 p.m. based on the official time then prevailing throughout Todd County; provided\, however\, that whenever the second Thursday of a month falls on a legal or observed\nholiday\, then the regular meeting for that month shall be held on the ensuing Monday which is a secular day at 6:00 p.m.\, or if such Monday is also a holiday\, then on the ensuing Tuesday. The regular meeting\nplace at which the City Council shall hold its meetings shall be at the City Hall.” \nTherefore the regular meeting will be held on Monday\, November 15\, 2021 at 6 pm at Elkton City Hall.  \nAgenda may be viewed on City Council Meeting Page when made available.
URL:https://elktonky.com/event/city-council-meeting-2017-06-12-2017-07-12-2021-11-11/
LOCATION:Kentucky
END:VEVENT
BEGIN:VEVENT
DTSTART;TZID=America/Chicago:20211103T170000
DTEND;TZID=America/Chicago:20211103T180000
DTSTAMP:20260419T195059
CREATED:20211101T210515Z
LAST-MODIFIED:20211101T210515Z
UID:10001893-1635958800-1635962400@elktonky.com
SUMMARY:Special City Council Meeting
DESCRIPTION:There will be a special meeting of the Elkton City Council on Wednesday\, November 3\, 2021 at 5:00 PM at Elkton City Hall\, 71 Public Square\, to discuss the following: \nAGENDA \n1. Pledge of Allegiance\n2. Invocation\n3. Closed Session Under KRS 61.810(1)(g) – Discussions concerning the siting\, retention\, expansion\, or upgrading of a business”\n4. Adjournment
URL:https://elktonky.com/event/special-city-council-meeting-34/
LOCATION:Elkton City Hall\, 71 Public Square\, Elkton\, 42220
END:VEVENT
BEGIN:VEVENT
DTSTART;TZID=America/Chicago:20211031T173000
DTEND;TZID=America/Chicago:20211031T193000
DTSTAMP:20260419T195059
CREATED:20190802T134116Z
LAST-MODIFIED:20190802T134116Z
UID:10001708-1635701400-1635708600@elktonky.com
SUMMARY:Halloween Trick-or-Treat
DESCRIPTION:Trick-or-Treat times in Elkton are set for October 31st from 5:30 PM to 7:30 PM. 
URL:https://elktonky.com/event/halloween-trick-or-treat-2/2021-10-31/
LOCATION:Kentucky
END:VEVENT
BEGIN:VEVENT
DTSTART;TZID=America/Chicago:20211014T180000
DTEND;TZID=America/Chicago:20211014T210000
DTSTAMP:20260419T195059
CREATED:20150401T152900Z
LAST-MODIFIED:20210205T170046Z
UID:10001496-1634234400-1634245200@elktonky.com
SUMMARY:City Council Meeting
DESCRIPTION:Regularly scheduled City Council meeting. Agenda may be viewed on City Council Meeting Page when made available.
URL:https://elktonky.com/event/city-council-meeting-2017-06-12-2017-07-12/2021-10-14/
LOCATION:Kentucky
END:VEVENT
BEGIN:VEVENT
DTSTART;TZID=America/Chicago:20211007T180000
DTEND;TZID=America/Chicago:20211007T200000
DTSTAMP:20260419T195059
CREATED:20210924T135713Z
LAST-MODIFIED:20211005T140736Z
UID:10001892-1633629600-1633636800@elktonky.com
SUMMARY:Planning Commission Meeting
DESCRIPTION:AGENDA \n1. Call to Order \n2. Approval of Minutes – February 4\, 2021 \n3. Public Hearing –\na) Annexation of 26.9 Acres Southwest of Intersection US-68X and Davis Mills Road\nb) Annexation of 27.781 Acres\, North of West Main Street\, East of Beckham Road\, South of B White Road\, and West of Commerce Street \n4. Development Plan for Elk Fork \n5. Planning and Zoning Report\na. Training \n6. Adjournment
URL:https://elktonky.com/event/planning-commission-meeting-22/
LOCATION:Elkton City Hall\, 71 Public Square\, Elkton\, 42220
END:VEVENT
BEGIN:VEVENT
DTSTART;TZID=America/Chicago:20211001T180000
DTEND;TZID=America/Chicago:20211001T213000
DTSTAMP:20260419T195059
CREATED:20210818T135851Z
LAST-MODIFIED:20210818T140130Z
UID:10001887-1633111200-1633123800@elktonky.com
SUMMARY:First Friday Movie Night - Coco
DESCRIPTION:First Friday of the Month Movie Night in Elkton – Free Admission!\n\nMovie – Coco\n\nEveryone is invited to bring a chair or blanket and enjoy a movie on the big screen starting at about 7:00 PM.\n\nSnacks and drinks will be available.\n\nFree children’s activities starting at 6:00 PM to be announced.
URL:https://elktonky.com/event/first-friday-movie-night-coco/
LOCATION:Milliken Memorial Community House Lawn\, 208 W Main St\, Elkton\, KY\, 42220\, United States
END:VEVENT
BEGIN:VEVENT
DTSTART;TZID=America/Chicago:20210925T090000
DTEND;TZID=America/Chicago:20210925T150000
DTSTAMP:20260419T195059
CREATED:20210330T214724Z
LAST-MODIFIED:20210330T214724Z
UID:10001873-1632560400-1632582000@elktonky.com
SUMMARY:HarvestFest
DESCRIPTION:Visit Event Page.
URL:https://elktonky.com/event/harvestfest/
LOCATION:Historic Public Square\, 1 Public Square\, Elkton\, Kentucky\, 42220
END:VEVENT
BEGIN:VEVENT
DTSTART;TZID=America/Chicago:20210917T180000
DTEND;TZID=America/Chicago:20210917T213000
DTSTAMP:20260419T195059
CREATED:20210818T140811Z
LAST-MODIFIED:20210818T143556Z
UID:10001889-1631901600-1631914200@elktonky.com
SUMMARY:3rd Friday Free Summer Concert - Corey Farlow
DESCRIPTION:
URL:https://elktonky.com/event/3rd-friday-free-summer-concert-corey-farlow/
LOCATION:Milliken Memorial Community House Lawn\, 208 W Main St\, Elkton\, KY\, 42220\, United States
END:VEVENT
BEGIN:VEVENT
DTSTART;TZID=America/Chicago:20210909T180000
DTEND;TZID=America/Chicago:20210909T210000
DTSTAMP:20260419T195059
CREATED:20150401T152900Z
LAST-MODIFIED:20210205T170046Z
UID:10001495-1631210400-1631221200@elktonky.com
SUMMARY:City Council Meeting
DESCRIPTION:Regularly scheduled City Council meeting. Agenda may be viewed on City Council Meeting Page when made available.
URL:https://elktonky.com/event/city-council-meeting-2017-06-12-2017-07-12/2021-09-09/
LOCATION:Kentucky
END:VEVENT
BEGIN:VEVENT
DTSTART;TZID=America/Chicago:20210909T174500
DTEND;TZID=America/Chicago:20210909T180000
DTSTAMP:20260419T195059
CREATED:20210823T141400Z
LAST-MODIFIED:20210823T141400Z
UID:10001891-1631209500-1631210400@elktonky.com
SUMMARY:Public Hearing
DESCRIPTION:Pursuant to KRS 132.027\, the City of Elkton\, KY will hold a Public Hearing on Thursday\, September 9\, 2021 at 5:45 p.m.\, local time\, in Elkton City Hall\, 71 Public Square\, Elkton\, Kentucky\, to hear comments from the public regarding a proposed real property tax rate of $.249 per $100 valuation and proposed personal property tax rate of $.1676 per $100 valuation. As required by law\, this includes the following information: \nTax Rate Per $100 Revenue Assessed Valuation \nPreceding Year’s Tax Rate and Revenue Generated – $ .249 (Real) – $ 169\,622 – $ .1682 (Personal) – $ 16\,164 \nTax Rate Proposed for 2021 and Expected Revenue – $ .249 (Real) – $ 175\,633 –  $ .1676 (Personal) – $ 16\,741 \nCompensating Tax Rate and Expected Revenue – $ .244 (Real) – $ 172\,106 – $ .1642 (Personal) – $ 16\,401 \nRevenue Expected from New Real Property – $ .249 (Real) – $ 2\,457 \nAll revenues in excess of the amounts generated over the previous year will be allocated to all City operating departments\, including: Police\, Fire\, Public Works\, Culture and Recreation\, and General Administration. The Kentucky General Assembly has required publication of this advertisement and the information contained herein. \nLaura M. Brock\nCity Clerk/Treasurer\, Elkton\, KY
URL:https://elktonky.com/event/public-hearing-3/
LOCATION:Elkton City Hall\, 71 Public Square\, Elkton\, 42220
END:VEVENT
BEGIN:VEVENT
DTSTART;TZID=America/Chicago:20210903T183000
DTEND;TZID=America/Chicago:20210903T213000
DTSTAMP:20260419T195059
CREATED:20210818T135107Z
LAST-MODIFIED:20210818T140025Z
UID:10001886-1630693800-1630704600@elktonky.com
SUMMARY:First Friday Free Movie Night - Ratatouille
DESCRIPTION:First Friday of the Month Movie Night in Elkton – Free Admission.\n\nMovie – Ratatouille\n\nEveryone is invited to bring a chair or blanket and enjoy a movie on the big screen starting at about 7:45 PM.\n\nSnacks and drinks will be available.\n\nAlso\, starting at 6:30 pm there will be free air brush tattoos and glitter tattoos by Purple Daizi
URL:https://elktonky.com/event/first-friday-free-movie-night-ratatouille/
LOCATION:Milliken Memorial Community House Lawn\, 208 W Main St\, Elkton\, KY\, 42220\, United States
END:VEVENT
BEGIN:VEVENT
DTSTART;TZID=America/Chicago:20210828T160000
DTEND;TZID=America/Chicago:20210828T200000
DTSTAMP:20260419T195059
CREATED:20210818T140928Z
LAST-MODIFIED:20210818T140928Z
UID:10001890-1630166400-1630180800@elktonky.com
SUMMARY:Cruise In on Public Square with Third Time Around Band
DESCRIPTION:
URL:https://elktonky.com/event/cruise-in-on-public-square-with-third-time-around-band/
LOCATION:Historic Public Square\, 1 Public Square\, Elkton\, Kentucky\, 42220
END:VEVENT
BEGIN:VEVENT
DTSTART;TZID=America/Chicago:20210820T180000
DTEND;TZID=America/Chicago:20210820T213000
DTSTAMP:20260419T195059
CREATED:20210818T140653Z
LAST-MODIFIED:20210818T140653Z
UID:10001888-1629482400-1629495000@elktonky.com
SUMMARY:3rd Friday Free Summer Concert - Tyronne Dunn and Kinfoke
DESCRIPTION:
URL:https://elktonky.com/event/3rd-friday-free-summer-concert-tyronne-dunn-and-kinfoke/
LOCATION:Milliken Memorial Community House Lawn\, 208 W Main St\, Elkton\, KY\, 42220\, United States
END:VEVENT
END:VCALENDAR