BEGIN:VCALENDAR
VERSION:2.0
PRODID:-//The City of Elkton, KY - ECPv6.15.20//NONSGML v1.0//EN
CALSCALE:GREGORIAN
METHOD:PUBLISH
X-ORIGINAL-URL:https://elktonky.com
X-WR-CALDESC:Events for The City of Elkton, KY
REFRESH-INTERVAL;VALUE=DURATION:PT1H
X-Robots-Tag:noindex
X-PUBLISHED-TTL:PT1H
BEGIN:VTIMEZONE
TZID:America/Chicago
BEGIN:DAYLIGHT
TZOFFSETFROM:-0600
TZOFFSETTO:-0500
TZNAME:CDT
DTSTART:20190310T080000
END:DAYLIGHT
BEGIN:STANDARD
TZOFFSETFROM:-0500
TZOFFSETTO:-0600
TZNAME:CST
DTSTART:20191103T070000
END:STANDARD
BEGIN:DAYLIGHT
TZOFFSETFROM:-0600
TZOFFSETTO:-0500
TZNAME:CDT
DTSTART:20200308T080000
END:DAYLIGHT
BEGIN:STANDARD
TZOFFSETFROM:-0500
TZOFFSETTO:-0600
TZNAME:CST
DTSTART:20201101T070000
END:STANDARD
BEGIN:DAYLIGHT
TZOFFSETFROM:-0600
TZOFFSETTO:-0500
TZNAME:CDT
DTSTART:20210314T080000
END:DAYLIGHT
BEGIN:STANDARD
TZOFFSETFROM:-0500
TZOFFSETTO:-0600
TZNAME:CST
DTSTART:20211107T070000
END:STANDARD
BEGIN:DAYLIGHT
TZOFFSETFROM:-0600
TZOFFSETTO:-0500
TZNAME:CDT
DTSTART:20220313T080000
END:DAYLIGHT
BEGIN:STANDARD
TZOFFSETFROM:-0500
TZOFFSETTO:-0600
TZNAME:CST
DTSTART:20221106T070000
END:STANDARD
END:VTIMEZONE
BEGIN:VTIMEZONE
TZID:America/Chicago
BEGIN:DAYLIGHT
TZOFFSETFROM:-0600
TZOFFSETTO:-0500
TZNAME:CDT
DTSTART:20190310T080000
END:DAYLIGHT
BEGIN:STANDARD
TZOFFSETFROM:-0500
TZOFFSETTO:-0600
TZNAME:CST
DTSTART:20191103T070000
END:STANDARD
BEGIN:DAYLIGHT
TZOFFSETFROM:-0600
TZOFFSETTO:-0500
TZNAME:CDT
DTSTART:20200308T080000
END:DAYLIGHT
BEGIN:STANDARD
TZOFFSETFROM:-0500
TZOFFSETTO:-0600
TZNAME:CST
DTSTART:20201101T070000
END:STANDARD
BEGIN:DAYLIGHT
TZOFFSETFROM:-0600
TZOFFSETTO:-0500
TZNAME:CDT
DTSTART:20210314T080000
END:DAYLIGHT
BEGIN:STANDARD
TZOFFSETFROM:-0500
TZOFFSETTO:-0600
TZNAME:CST
DTSTART:20211107T070000
END:STANDARD
BEGIN:DAYLIGHT
TZOFFSETFROM:-0600
TZOFFSETTO:-0500
TZNAME:CDT
DTSTART:20220313T080000
END:DAYLIGHT
BEGIN:STANDARD
TZOFFSETFROM:-0500
TZOFFSETTO:-0600
TZNAME:CST
DTSTART:20221106T070000
END:STANDARD
END:VTIMEZONE
BEGIN:VEVENT
DTSTART;TZID=America/Chicago:20210708T180000
DTEND;TZID=America/Chicago:20210708T210000
DTSTAMP:20260420T005420
CREATED:20150401T152900Z
LAST-MODIFIED:20210205T170046Z
UID:10001493-1625767200-1625778000@elktonky.com
SUMMARY:City Council Meeting
DESCRIPTION:Regularly scheduled City Council meeting. Agenda may be viewed on City Council Meeting Page when made available.
URL:https://elktonky.com/event/city-council-meeting-2017-06-12-2017-07-12/2021-07-08/
END:VEVENT
BEGIN:VEVENT
DTSTART;TZID=America/Chicago:20210702T200000
DTEND;TZID=America/Chicago:20210702T213000
DTSTAMP:20260420T005420
CREATED:20210610T211026Z
LAST-MODIFIED:20210630T192403Z
UID:10001883-1625256000-1625261400@elktonky.com
SUMMARY:1st Friday Free Movie Night
DESCRIPTION:
URL:https://elktonky.com/event/1st-friday-free-movie-night/
LOCATION:Milliken Memorial Community House Lawn\, 208 W Main St\, Elkton\, KY\, 42220\, United States
END:VEVENT
BEGIN:VEVENT
DTSTART;TZID=America/Chicago:20210626T160000
DTEND;TZID=America/Chicago:20210626T210000
DTSTAMP:20260420T005420
CREATED:20210610T211151Z
LAST-MODIFIED:20210610T211151Z
UID:10001884-1624723200-1624741200@elktonky.com
SUMMARY:Cruise In on Public Square
DESCRIPTION:
URL:https://elktonky.com/event/cruise-in-on-public-square/
LOCATION:Historic Public Square\, 1 Public Square\, Elkton\, Kentucky\, 42220
END:VEVENT
BEGIN:VEVENT
DTSTART;TZID=America/Chicago:20210618T170000
DTEND;TZID=America/Chicago:20210618T210000
DTSTAMP:20260420T005420
CREATED:20210610T210904Z
LAST-MODIFIED:20210610T210904Z
UID:10001880-1624035600-1624050000@elktonky.com
SUMMARY:3rd Friday Free Summer Concert - Xtraordinary Gentlemen
DESCRIPTION:
URL:https://elktonky.com/event/3rd-friday-free-summer-concert-xtraordinary-gentlemen/
LOCATION:Milliken Memorial Community House Lawn\, 208 W Main St\, Elkton\, KY\, 42220\, United States
END:VEVENT
BEGIN:VEVENT
DTSTART;TZID=America/Chicago:20210610T180000
DTEND;TZID=America/Chicago:20210610T210000
DTSTAMP:20260420T005420
CREATED:20150401T152900Z
LAST-MODIFIED:20210205T170046Z
UID:10001492-1623348000-1623358800@elktonky.com
SUMMARY:City Council Meeting
DESCRIPTION:Regularly scheduled City Council meeting. Agenda may be viewed on City Council Meeting Page when made available.
URL:https://elktonky.com/event/city-council-meeting-2017-06-12-2017-07-12/2021-06-10/
END:VEVENT
BEGIN:VEVENT
DTSTART;TZID=America/Chicago:20210603T050000
DTEND;TZID=America/Chicago:20210606T210000
DTSTAMP:20260420T005420
CREATED:20210408T150326Z
LAST-MODIFIED:20210408T155406Z
UID:10001875-1622696400-1623013200@elktonky.com
SUMMARY:400 Mile Sale and Elkton Yard Sale Days
DESCRIPTION:400 Mile Sale Across Kentucky 400 Mile Sale Website \nElkton Yard Sale Days – Elkton Yard Sale Days Website
URL:https://elktonky.com/event/400-mile-sale-and-elkton-yard-sale-days-4/
END:VEVENT
BEGIN:VEVENT
DTSTART;TZID=America/Chicago:20210513T180000
DTEND;TZID=America/Chicago:20210513T210000
DTSTAMP:20260420T005420
CREATED:20150401T152900Z
LAST-MODIFIED:20210205T170046Z
UID:10001491-1620928800-1620939600@elktonky.com
SUMMARY:City Council Meeting
DESCRIPTION:Regularly scheduled City Council meeting. Agenda may be viewed on City Council Meeting Page when made available.
URL:https://elktonky.com/event/city-council-meeting-2017-06-12-2017-07-12/2021-05-13/
END:VEVENT
BEGIN:VEVENT
DTSTART;TZID=America/Chicago:20210504T173000
DTEND;TZID=America/Chicago:20210504T193000
DTSTAMP:20260420T005420
CREATED:20210501T004407Z
LAST-MODIFIED:20210501T004407Z
UID:10001879-1620149400-1620156600@elktonky.com
SUMMARY:Special City Council Meeting
DESCRIPTION:There will be a special called meeting of the Elkton City Council on Tuesday\, May 4\, 2021 at 5:30 PM in Elkton City Hall located at 71 Public Square\, Elkton\, Kentucky. \nAGENDA \n1. Call to Order\n2. Pledge of Allegiance\n3. Invocation\n4. Resolution 2021-03 – “RESOLUTION APPROVING AND ADOPTING HEALTH REIMBURSEMENT AGREEMENT”\n5. FYE June 30\, 2021 Financial Review and Budget Amendment\n6. Mayor’s Budget Message and Proposal FYE June 30\, 2022\n7. Adjournment
URL:https://elktonky.com/event/special-city-council-meeting-33/
LOCATION:Elkton City Hall\, 71 Public Square\, Elkton\, 42220
END:VEVENT
BEGIN:VEVENT
DTSTART;TZID=America/Chicago:20210422T180000
DTEND;TZID=America/Chicago:20210422T200000
DTSTAMP:20260420T005420
CREATED:20210422T142701Z
LAST-MODIFIED:20210422T142701Z
UID:10001876-1619114400-1619121600@elktonky.com
SUMMARY:Code Enforcement Board Meeting
DESCRIPTION:AGENDA \n1. Roll Call \n2. Approval of Minutes of Previous Meeting-September 24\, 2020 \n3. Cases- \n\n2020-233 – Affiliated Vinyl\n2020-224 – B & B Construction\n2019-79 – Chris Kramer\n2019-78 – Winterwood\n2019-66 – Scott Outdoors\n2019-65 – Sammy Croney\n2019-32 – Commonwealth Fire Protection\n\n4. Adjournment
URL:https://elktonky.com/event/code-enforcement-board-meeting-11/
LOCATION:Elkton City Hall\, 71 Public Square\, Elkton\, 42220
END:VEVENT
BEGIN:VEVENT
DTSTART;TZID=America/Chicago:20210408T180000
DTEND;TZID=America/Chicago:20210408T210000
DTSTAMP:20260420T005420
CREATED:20150401T152900Z
LAST-MODIFIED:20210205T170046Z
UID:10001490-1617904800-1617915600@elktonky.com
SUMMARY:City Council Meeting
DESCRIPTION:Regularly scheduled City Council meeting. Agenda may be viewed on City Council Meeting Page when made available.
URL:https://elktonky.com/event/city-council-meeting-2017-06-12-2017-07-12/2021-04-08/
END:VEVENT
BEGIN:VEVENT
DTSTART;TZID=America/Chicago:20210311T180000
DTEND;TZID=America/Chicago:20210311T210000
DTSTAMP:20260420T005420
CREATED:20150401T152900Z
LAST-MODIFIED:20210205T170046Z
UID:10001489-1615485600-1615496400@elktonky.com
SUMMARY:City Council Meeting
DESCRIPTION:Regularly scheduled City Council meeting. Agenda may be viewed on City Council Meeting Page when made available.
URL:https://elktonky.com/event/city-council-meeting-2017-06-12-2017-07-12/2021-03-11/
END:VEVENT
BEGIN:VEVENT
DTSTART;TZID=America/Chicago:20210211T180000
DTEND;TZID=America/Chicago:20210211T210000
DTSTAMP:20260420T005420
CREATED:20150401T152900Z
LAST-MODIFIED:20210205T170046Z
UID:10001488-1613066400-1613077200@elktonky.com
SUMMARY:City Council Meeting
DESCRIPTION:Regularly scheduled City Council meeting. Agenda may be viewed on City Council Meeting Page when made available.
URL:https://elktonky.com/event/city-council-meeting-2017-06-12-2017-07-12/2021-02-11/
END:VEVENT
BEGIN:VEVENT
DTSTART;TZID=America/Chicago:20210204T180000
DTEND;TZID=America/Chicago:20210204T200000
DTSTAMP:20260420T005420
CREATED:20210202T200311Z
LAST-MODIFIED:20210202T200311Z
UID:10001872-1612461600-1612468800@elktonky.com
SUMMARY:Elkton Planning Commission Meeting
DESCRIPTION:Agenda \n1. Call to Order\n2. Approval of Minutes -October 1\, 2020\n3. Elect Officers\n4. New Business\na. Elk Fork Country Club- PUD\n5. Adjournment
URL:https://elktonky.com/event/elkton-planning-commission-meeting-12/
LOCATION:Elkton City Hall\, 71 Public Square\, Elkton\, 42220
END:VEVENT
BEGIN:VEVENT
DTSTART;TZID=America/Chicago:20210114T180000
DTEND;TZID=America/Chicago:20210114T210000
DTSTAMP:20260420T005420
CREATED:20150401T152900Z
LAST-MODIFIED:20210205T170046Z
UID:10001487-1610647200-1610658000@elktonky.com
SUMMARY:City Council Meeting
DESCRIPTION:Regularly scheduled City Council meeting. Agenda may be viewed on City Council Meeting Page when made available.
URL:https://elktonky.com/event/city-council-meeting-2017-06-12-2017-07-12/2021-01-14/
END:VEVENT
BEGIN:VEVENT
DTSTART;TZID=America/Chicago:20201210T180000
DTEND;TZID=America/Chicago:20201210T210000
DTSTAMP:20260420T005420
CREATED:20150401T152900Z
LAST-MODIFIED:20210205T170046Z
UID:10001486-1607623200-1607634000@elktonky.com
SUMMARY:City Council Meeting
DESCRIPTION:Regularly scheduled City Council meeting. Agenda may be viewed on City Council Meeting Page when made available.
URL:https://elktonky.com/event/city-council-meeting-2017-06-12-2017-07-12/2020-12-10/
END:VEVENT
BEGIN:VEVENT
DTSTART;TZID=America/Chicago:20201121T110000
DTEND;TZID=America/Chicago:20201121T130000
DTSTAMP:20260420T005420
CREATED:20201112T234040Z
LAST-MODIFIED:20201112T234040Z
UID:10001871-1605956400-1605963600@elktonky.com
SUMMARY:Elk Statue Unveiling
DESCRIPTION:Visit Elk Statue Unveiling Announcement for more information.  Program of events will be announced soon.
URL:https://elktonky.com/event/elk-statue-unveiling/
LOCATION:Historic 1835 Courthouse Welcome Center\, 1 Public Square\, Elkton\, KY\, 42220\, United States
END:VEVENT
BEGIN:VEVENT
DTSTART;TZID=America/Chicago:20201112T180000
DTEND;TZID=America/Chicago:20201112T210000
DTSTAMP:20260420T005420
CREATED:20150401T152900Z
LAST-MODIFIED:20210205T170046Z
UID:10001485-1605204000-1605214800@elktonky.com
SUMMARY:City Council Meeting
DESCRIPTION:Regularly scheduled City Council meeting. Agenda may be viewed on City Council Meeting Page when made available.
URL:https://elktonky.com/event/city-council-meeting-2017-06-12-2017-07-12/2020-11-12/
END:VEVENT
BEGIN:VEVENT
DTSTART;TZID=America/Chicago:20201031T173000
DTEND;TZID=America/Chicago:20201031T193000
DTSTAMP:20260420T005420
CREATED:20190802T134116Z
LAST-MODIFIED:20190802T134116Z
UID:10001707-1604165400-1604172600@elktonky.com
SUMMARY:Halloween Trick-or-Treat
DESCRIPTION:Trick-or-Treat times in Elkton are set for October 31st from 5:30 PM to 7:30 PM. 
URL:https://elktonky.com/event/halloween-trick-or-treat-2/2020-10-31/
END:VEVENT
BEGIN:VEVENT
DTSTART;TZID=America/Chicago:20201015T173000
DTEND;TZID=America/Chicago:20201015T183000
DTSTAMP:20260420T005420
CREATED:20201013T172121Z
LAST-MODIFIED:20201013T172121Z
UID:10001870-1602783000-1602786600@elktonky.com
SUMMARY:Special City Council Meeting
DESCRIPTION:There will be a special meeting of the Elkton City Council on Thursday\, October 15\, 2020 at 5:30 PM at Elkton City Hall\, 71 Public Square\, to discuss the following: \nAGENDA \n1. 2nd Reading Ordinance 2020-09 – AN ORDINANCE FIXING THE AD VALOREM TAX RATES FOR THE YEAR 2020 \n2. 2nd Reading Ordinance 2020-10 – AN ORDINANCE AMENDING THE TEXT OF CHAPTER 151 (ZONING) OF THE CITY OF ELKTON CODE OF ORDINANCES \n3. Application for FEMA Funding for City Lake Dam
URL:https://elktonky.com/event/special-city-council-meeting-32/
LOCATION:Historic 1835 Courthouse Welcome Center\, 1 Public Square\, Elkton\, KY\, 42220\, United States
END:VEVENT
BEGIN:VEVENT
DTSTART;TZID=America/Chicago:20201008T180000
DTEND;TZID=America/Chicago:20201008T210000
DTSTAMP:20260420T005420
CREATED:20150401T152900Z
LAST-MODIFIED:20201002T142002Z
UID:10001585-1602180000-1602190800@elktonky.com
SUMMARY:Special City Council Meeting
DESCRIPTION:There will be a special meeting of the Elkton City Council held on Thursday\, October 8\, 2020 at 6 PM at the Welcome Center\, 1 Public Square. This is being held as a special meeting on the regular meeting night due to relocating the meeting to the Welcome Center in order to maintain social distancing guidelines due to COVID-19.Regularly scheduled City Council meeting. \nVisit the City Council Meetings page for the agenda when available.
URL:https://elktonky.com/event/city-council-meeting-2017-06-12-2017-07-12-2020-10-08/
END:VEVENT
BEGIN:VEVENT
DTSTART;TZID=America/Chicago:20201008T173000
DTEND;TZID=America/Chicago:20201008T180000
DTSTAMP:20260420T005420
CREATED:20201002T141843Z
LAST-MODIFIED:20201002T141843Z
UID:10001869-1602178200-1602180000@elktonky.com
SUMMARY:Special City Council Meeting and Public Hearing
DESCRIPTION:There will be a special meeting of the Elkton City Council on Thursday\, October 8\, 2020 at 5:45 PM at Elkton City Hall\, 71 Public Square\, to discuss the following: \nAGENDA \n1. 2020 Property Tax Rate Public Hearing
URL:https://elktonky.com/event/special-city-council-meeting-and-public-hearing/
LOCATION:Historic 1835 Courthouse Welcome Center\, 1 Public Square\, Elkton\, KY\, 42220\, United States
END:VEVENT
BEGIN:VEVENT
DTSTART;TZID=America/Chicago:20201001T180000
DTEND;TZID=America/Chicago:20201001T200000
DTSTAMP:20260420T005420
CREATED:20200923T145157Z
LAST-MODIFIED:20200928T163038Z
UID:10001867-1601575200-1601582400@elktonky.com
SUMMARY:Planning Commission Special Meeting
DESCRIPTION:Note that this is meeting is on the regular date and time but the location has been changed to allow for social distancing. \nAgenda \n1. Call to Order \n2. Public Hearing\n– Amendments to Zoning Ordinance Text\n3. Public Comments \n4. Recommendation of Proposed Amendments \n5. Approval of Minutes – September 15\, 2020 \n6. Zoning Administrator’s Report \n7. Adjournment
URL:https://elktonky.com/event/planning-commission-special-meeting-5/
LOCATION:Historic 1835 Courthouse Welcome Center\, 1 Public Square\, Elkton\, KY\, 42220\, United States
END:VEVENT
BEGIN:VEVENT
DTSTART;TZID=America/Chicago:20200924T180000
DTEND;TZID=America/Chicago:20200924T200000
DTSTAMP:20260420T005420
CREATED:20200923T170400Z
LAST-MODIFIED:20200923T170904Z
UID:10001868-1600970400-1600977600@elktonky.com
SUMMARY:Code Enforcement Board Meeting
DESCRIPTION:Agenda \n\nRoll Call\nApproval of Minutes of Previous Meeting\n\nJuly 23\, 2020\n\n\nCases – Final Orders for Approval (No Hearing Requested and Did Not Pay Fine)\n\nCase 2019-218 – Carol Jane Steed\nCitation 734489 – 92.03 (I) Dilapidated Structures\nThird Offense – $400.00 daily max of $5\,000.00\n\n\nCode Enforcement Officer Reports – Review Citations\, Notice of Violation and Courtesy Letters\nAdjournment
URL:https://elktonky.com/event/code-enforcement-board-meeting-10/
LOCATION:Elkton City Hall\, 71 Public Square\, Elkton\, 42220
END:VEVENT
BEGIN:VEVENT
DTSTART;TZID=America/Chicago:20200922T173000
DTEND;TZID=America/Chicago:20200922T190000
DTSTAMP:20260420T005420
CREATED:20200916T165938Z
LAST-MODIFIED:20200916T165938Z
UID:10001866-1600795800-1600801200@elktonky.com
SUMMARY:Special City Council Meeting
DESCRIPTION:There will be a special called meeting of the Elkton City Council on Tuesday\, September 22\, 2020 at 5:30 PM in the Historic 1835 Courthouse Welcome Center located at 1 Public Square\, Elkton\, Kentucky.\n \nAGENDA\n \n\nCall to Order\nPledge of Allegiance\nInvocation\nRecommendation from Planning Commission on Request to Rezone Approximately 0.638 Acres on Industrial Drive\nFirst Reading Ordinance 2020-08 – AN ORDINANCE TO REZONE APPROXIMATELY 0.638 ACRES LOCATED ON INDUSTRIAL DRIVE\nDevelopment Incentives\nAdjournment
URL:https://elktonky.com/event/special-city-council-meeting-31/
LOCATION:Historic 1835 Courthouse Welcome Center\, 1 Public Square\, Elkton\, KY\, 42220\, United States
END:VEVENT
BEGIN:VEVENT
DTSTART;TZID=America/Chicago:20200910T180000
DTEND;TZID=America/Chicago:20200910T210000
DTSTAMP:20260420T005420
CREATED:20150401T152900Z
LAST-MODIFIED:20200904T192852Z
UID:10001580-1599760800-1599771600@elktonky.com
SUMMARY:City Council Special Meeting
DESCRIPTION:  \nThere will be a special called meeting of the Elkton City Council on Thursday\, September 10\, 2020 at 6:00 PM in the Historic 1835 Courthouse Welcome Center located at 1 Public Square\, Elkton\, Kentucky. \nAGENDA\n \n\nCall to Order\nPledge of Allegiance\nInvocation\nApproval of Minutes\n\nAugust 13\, 2020 Special Meeting\n\n\nApproval of Bills Payable and Financial Report\nPublic Comments\nResolution 2020-11 – RESOLUTION DESIGNATING SEPTEMBER 2020 AS CITY GOVERNMENT MONTH\n2020 Property Tax Rate Proposal\nSpecial City Council Meeting September 22\, 2020 at 5:30 PM\nCity Lake Timber Sales\nCOVID-19 Grants\nSewer Bond Refinance Update\nDepartment Reports\nCity Council Concerns\nMayor’s Report\nAdjournment
URL:https://elktonky.com/event/city-council-meeting-2017-06-12-2017-07-12-2020-09-10/
END:VEVENT
BEGIN:VEVENT
DTSTART;TZID=America/Chicago:20200908T180000
DTEND;TZID=America/Chicago:20200908T200000
DTSTAMP:20260420T005420
CREATED:20200831T191032Z
LAST-MODIFIED:20200831T191055Z
UID:10001865-1599588000-1599595200@elktonky.com
SUMMARY:Board of Adjustment Special Meeting
DESCRIPTION:  \nAGENDA \n1. Roll Call \n2. Approval of Minutes of Previous Meeting\n• August 18\, 2020 \n3. Public Hearing\n• Dimensional Variance- Kevin and Jill Harris – 103 Glenn Court \n4. Decision Regarding Dimensional Variance \n5 Adjournment
URL:https://elktonky.com/event/board-of-adjustment-special-meeting-8/
LOCATION:Historic 1835 Courthouse Welcome Center\, 1 Public Square\, Elkton\, KY\, 42220\, United States
END:VEVENT
BEGIN:VEVENT
DTSTART;TZID=America/Chicago:20200903T180000
DTEND;TZID=America/Chicago:20200903T200000
DTSTAMP:20260420T005420
CREATED:20200831T190640Z
LAST-MODIFIED:20200831T190640Z
UID:10001864-1599156000-1599163200@elktonky.com
SUMMARY:Planning Commission Special Meeting
DESCRIPTION:Elkton Planning Commission Special Meeting\nWelcome Center – 1 Public Square \n  \nDue to COVID-19\, this is a Special Meeting of the Planning Commission being held on the regular meeting date and time in a new location in order to provide enough space to socially distance. \nAgenda \n1. Call to Order\n2. Approval of Minutes -August 6\, 2020\n3. Discussion of Proposed Amendments from Mayor\n4. Zoning Administrator Report\n5. Adjournment
URL:https://elktonky.com/event/planning-commission-special-meeting-4/
LOCATION:Historic 1835 Courthouse Welcome Center\, 1 Public Square\, Elkton\, KY\, 42220\, United States
END:VEVENT
BEGIN:VEVENT
DTSTART;TZID=America/Chicago:20200818T180000
DTEND;TZID=America/Chicago:20200818T200000
DTSTAMP:20260420T005420
CREATED:20200812T190303Z
LAST-MODIFIED:20200812T190303Z
UID:10001863-1597773600-1597780800@elktonky.com
SUMMARY:Board of Adjustment Special Meeting
DESCRIPTION:Agenda \n1. Roll Call \n2. Approval of Minutes of Previous Meetings \n• March 3\, 2020\n• August 4\,2020 \n3. Discussion over Special Meeting Agenda \n4. Public Hearing \n• Conditional Use Permit\, 305 N Main \n5 Decision Regarding Conditional Use Permit \n6. Adjournment
URL:https://elktonky.com/event/board-of-adjustment-special-meeting-7/
LOCATION:Historic 1835 Courthouse Welcome Center\, 1 Public Square\, Elkton\, KY\, 42220\, United States
END:VEVENT
BEGIN:VEVENT
DTSTART;TZID=America/Chicago:20200813T180000
DTEND;TZID=America/Chicago:20200813T210000
DTSTAMP:20260420T005420
CREATED:20150401T152900Z
LAST-MODIFIED:20200812T190458Z
UID:10001584-1597341600-1597352400@elktonky.com
SUMMARY:City Council Special Meeting
DESCRIPTION:SPECIAL MEETING NOTICE \nThere will be a special called meeting of the Elkton City Council on Thursday\, August 13\, 2020 at 6:00 PM in the Historic 1835 Courthouse Welcome Center located at 1 Public Square\, Elkton\, Kentucky. \nAGENDA \n1. Call to Order \n2. Pledge of Allegiance \n3. Invocation \n4. Approval of Minutes\na. July 9\, 2020 Special Meeting \n5. Approval of Bills Payable and Financial Report \n6. Mark Thomas\, Superintendent\, Todd County School District \n7. Public Comments \na. Double Luck – City Ordinance § 50.27 LANDOWNERS AND OCCUPANTS JOINTLY LIABLE. \n8. 2nd Reading Ordinance 2020-07 – AN ORDINANCE AMENDING SECTIONS 97.21 AND 97.22 OF THE CODE OF ORDINANCES OF THE CITY OF ELKTON ADJUSTING THE MONTHLY SERVICE FEE ESTABLISHED FOR RESIDENTIAL COLLECTION AND DISPOSAL OF SOLID WASTE MATERIALS \n9. GFL Garbage Transition Update \n10. Resolution 2020-10 – RESOLUTION ACCEPTING THE PROPOSAL OF MEDIACOM COMMUNICATIONS CORPORATION (“THE COMPANY”) FOR THE RENEWAL OF A NON-EXCLUSIVE\, TEN (10) YEAR FRANCHISE FOR THE OPERATION OF A CABLE TELEVISION SYSTEM WITHIN THE CONFINES OF THE CITY OF ELKTON\, KENTUCKY BASED UPON AND SUBJECT TO THE CONDITIONS OF ORDINANCE NO. 2020-06 \n11. Municipal Road Aid Legislative Proposal \n12. 2020 Census Update \n13. City Lake Update\na. Update on Breaching Dam\nb. Forestry Proposal \n14. Department Reports\na. Utility Department – Chris Orr\, Public Works Director\nb. Police Department\, Chief Robert Toombs\ni. KY-ASAP Grant – Evidence Tracking Software \n15. City Council Concerns \n16. Mayor’s Report \n17. Adjournment
URL:https://elktonky.com/event/city-council-meeting-2017-06-12-2017-07-12-2020-08-13/
END:VEVENT
BEGIN:VEVENT
DTSTART;TZID=America/Chicago:20200806T190000
DTEND;TZID=America/Chicago:20200806T210000
DTSTAMP:20260420T005420
CREATED:20200731T164221Z
LAST-MODIFIED:20200731T164555Z
UID:10001862-1596740400-1596747600@elktonky.com
SUMMARY:Planning Commission Special Meeting
DESCRIPTION:  \n  \nAgenda  \n\nCall to Order\n\n\nApproval of Minutes -March 5\, 2020\n\n\nOld Business\n\n\nProposed amendments to the Planning and Zoning from March meeting\n\n\nNew Business\n\n\nRobert Osborne- 210 S. Perry Street – Manufactured Home Zoned R-2\nDanny and Heath Shemwell – 305 N. Main Street – Storage Zoned B-1\n\n\nDiscussion of possible changes to address current issues\n\n\nZoning Administrator Report\n\n\nAdjournment
URL:https://elktonky.com/event/planning-commission-planning-meeting/
LOCATION:Historic 1835 Courthouse Welcome Center\, 1 Public Square\, Elkton\, KY\, 42220\, United States
END:VEVENT
END:VCALENDAR