BEGIN:VCALENDAR
VERSION:2.0
PRODID:-//The City of Elkton, KY - ECPv6.15.20//NONSGML v1.0//EN
CALSCALE:GREGORIAN
METHOD:PUBLISH
X-WR-CALNAME:The City of Elkton, KY
X-ORIGINAL-URL:https://elktonky.com
X-WR-CALDESC:Events for The City of Elkton, KY
REFRESH-INTERVAL;VALUE=DURATION:PT1H
X-Robots-Tag:noindex
X-PUBLISHED-TTL:PT1H
BEGIN:VTIMEZONE
TZID:America/Chicago
BEGIN:DAYLIGHT
TZOFFSETFROM:-0600
TZOFFSETTO:-0500
TZNAME:CDT
DTSTART:20180311T080000
END:DAYLIGHT
BEGIN:STANDARD
TZOFFSETFROM:-0500
TZOFFSETTO:-0600
TZNAME:CST
DTSTART:20181104T070000
END:STANDARD
BEGIN:DAYLIGHT
TZOFFSETFROM:-0600
TZOFFSETTO:-0500
TZNAME:CDT
DTSTART:20190310T080000
END:DAYLIGHT
BEGIN:STANDARD
TZOFFSETFROM:-0500
TZOFFSETTO:-0600
TZNAME:CST
DTSTART:20191103T070000
END:STANDARD
BEGIN:DAYLIGHT
TZOFFSETFROM:-0600
TZOFFSETTO:-0500
TZNAME:CDT
DTSTART:20200308T080000
END:DAYLIGHT
BEGIN:STANDARD
TZOFFSETFROM:-0500
TZOFFSETTO:-0600
TZNAME:CST
DTSTART:20201101T070000
END:STANDARD
END:VTIMEZONE
BEGIN:VTIMEZONE
TZID:America/Chicago
BEGIN:DAYLIGHT
TZOFFSETFROM:-0600
TZOFFSETTO:-0500
TZNAME:CDT
DTSTART:20180311T080000
END:DAYLIGHT
BEGIN:STANDARD
TZOFFSETFROM:-0500
TZOFFSETTO:-0600
TZNAME:CST
DTSTART:20181104T070000
END:STANDARD
BEGIN:DAYLIGHT
TZOFFSETFROM:-0600
TZOFFSETTO:-0500
TZNAME:CDT
DTSTART:20190310T080000
END:DAYLIGHT
BEGIN:STANDARD
TZOFFSETFROM:-0500
TZOFFSETTO:-0600
TZNAME:CST
DTSTART:20191103T070000
END:STANDARD
BEGIN:DAYLIGHT
TZOFFSETFROM:-0600
TZOFFSETTO:-0500
TZNAME:CDT
DTSTART:20200308T080000
END:DAYLIGHT
BEGIN:STANDARD
TZOFFSETFROM:-0500
TZOFFSETTO:-0600
TZNAME:CST
DTSTART:20201101T070000
END:STANDARD
END:VTIMEZONE
BEGIN:VEVENT
DTSTART;TZID=America/Chicago:20191021T170000
DTEND;TZID=America/Chicago:20191021T173000
DTSTAMP:20260420T095227
CREATED:20191018T173856Z
LAST-MODIFIED:20191018T173856Z
UID:10001716-1571677200-1571679000@elktonky.com
SUMMARY:Revolving Fund Board Special Meeting
DESCRIPTION:NOTICE OF SPECIAL MEETING \nThere will be a special meeting of the Revolving Fund Board on Monday\, October 21\, 2019 at 5:00 PM at Elkton City Hall\, 71 Public Square\, Elkton\, Kentucky. \nAGENDA \n1. Revolving Fund Financial Report\n2. Revolving Fund Guidelines\n3. Proposal for Funding Paving in City-County Park
URL:https://elktonky.com/event/revolving-fund-board-special-meeting-2/
END:VEVENT
BEGIN:VEVENT
DTSTART;TZID=America/Chicago:20191018T080000
DTEND;TZID=America/Chicago:20191018T170000
DTSTAMP:20260420T095227
CREATED:20191018T174230Z
LAST-MODIFIED:20191018T174230Z
UID:10001717-1571385600-1571418000@elktonky.com
SUMMARY:Invitation to Bid Asphalt Surfacing
DESCRIPTION:The city of Elkton\, Kentucky is now accepting sealed bids for Asphalt Surfacing of various city streets in the city of Elkton\, Kentucky. Specifications and bid form may be picked up at City Hall\, 71 Public Square\, Elkton\, Kentucky during normal business hours of 7:30 am to 4:00 pm\, Monday through Friday\, or by contacting City Hall at 270-265-9877 or by visiting www.elktonky.com. \nContractor must be pre-qualified to do work for the Commonwealth of Kentucky\, Transportation Cabinet\, Department of Highways\, for work to be performed. \nBids shall be sealed in an envelope clearly labeled with “Asphalt Surfacing Bid” and mailed or hand delivered to City of Elkton\, City Hall\, PO Box 578\, 71 Public Square\, Elkton\, KY 42220. No facsimile bids will be accepted. Bids shall be submitted on the bid form provided in the specifications and will be accepted until Tuesday\, October 29\, 2019 at 10:00 AM. Bids will be opened at this time and will be presented to the City Council for review at a public meeting. \nThe City of Elkton reserves the right to accept any bid\, to reject any or all bids\, and to waive any technicality or informality in bidding or bids received\, where such acceptance\, rejection\, or waiver is considered to be in the best interest of the city. All qualified applicants will receive consideration for employment without regard to race\, religion\, color\, national origin\, sex\, sexual orientation\, gender identity\, age or disability. The City of Elkton is an Equal Opportunity Employer.  \n  \nDownload and Print Bid Specifications and Bid Form
URL:https://elktonky.com/event/invitation-to-bid-asphalt-surfacing-2/
END:VEVENT
BEGIN:VEVENT
DTSTART;TZID=America/Chicago:20191018T000000
DTEND;TZID=America/Chicago:20191018T000000
DTSTAMP:20260420T095227
CREATED:20200220T200032Z
LAST-MODIFIED:20200220T200032Z
UID:10001789-1571356800-1571356800@elktonky.com
SUMMARY:Invitation to Bid Asphalt Surfacing
DESCRIPTION:The city of Elkton\, Kentucky is now accepting sealed bids for Asphalt Surfacing of various city streets in the city of Elkton\, Kentucky. Specifications and bid form may be picked up at City Hall\, 71 Public Square\, Elkton\, Kentucky during normal business hours of 7:30 am to 4:00 pm\, Monday through Friday\, or by contacting City Hall at 270-265-9877 or by visiting www.elktonky.com.\nContractor must be pre-qualified to do work for the Commonwealth of Kentucky\, Transportation Cabinet\, Department of Highways\, for work to be performed. \nBids shall be sealed in an envelope clearly labeled with “Asphalt Surfacing Bid” and mailed or hand delivered to City of Elkton\, City Hall\, PO Box 578\, 71 Public Square\, Elkton\, KY 42220. No facsimile bids will be accepted. Bids shall be submitted on the bid form provided in the specifications and will be accepted until Tuesday\, October 29\, 2019 at 10:00 AM. Bids will be opened at this time and will be presented to the City Council for review at a public meeting. \nThe City of Elkton reserves the right to accept any bid\, to reject any or all bids\, and to waive any technicality or informality in bidding or bids received\, where such acceptance\, rejection\, or waiver is considered to be in the best interest of the city. All qualified applicants will receive consideration for employment without regard to race\, religion\, color\, national origin\, sex\, sexual orientation\, gender identity\, age or disability. The City of Elkton is an Equal Opportunity Employer.  \n  \nDownload and Print Bid Specifications and Bid Form
URL:https://elktonky.com/event/invitation-to-bid-asphalt-surfacing/
END:VEVENT
BEGIN:VEVENT
DTSTART;TZID=America/Chicago:20191018T000000
DTEND;TZID=America/Chicago:20191018T000000
DTSTAMP:20260420T095227
CREATED:20200220T200031Z
LAST-MODIFIED:20200220T200031Z
UID:10001787-1571356800-1571356800@elktonky.com
SUMMARY:Revolving Fund Board Special Meeting
DESCRIPTION:NOTICE OF SPECIAL MEETING\nThere will be a special meeting of the Revolving Fund Board on Monday\, October 21\, 2019 at 5:00 PM at Elkton City Hall\, 71 Public Square\, Elkton\, Kentucky. \nAGENDA \n1. Revolving Fund Financial Report\n2. Revolving Fund Guidelines\n3. Proposal for Funding Paving in City-County Park
URL:https://elktonky.com/event/revolving-fund-board-special-meeting/
END:VEVENT
BEGIN:VEVENT
DTSTART;TZID=America/Chicago:20191015T190000
DTEND;TZID=America/Chicago:20191015T220000
DTSTAMP:20260420T095227
CREATED:20150401T152900Z
LAST-MODIFIED:20150401T152900Z
UID:10001577-1571166000-1571176800@elktonky.com
SUMMARY:City Council Meeting
DESCRIPTION:Due to the Columbus Day Holiday\, per city ordinance the regular meeting of the Elkton City Council scheduled for the second Monday (October 14th) will be held the following Tuesday\, October 15\, 2019 at 7 PM.
URL:https://elktonky.com/event/city-council-meeting-2017-06-12-2017-07-12-2019-10-14/
END:VEVENT
BEGIN:VEVENT
DTSTART;TZID=America/Chicago:20191010T180000
DTEND;TZID=America/Chicago:20191010T210000
DTSTAMP:20260420T095227
CREATED:20150401T152900Z
LAST-MODIFIED:20210205T170046Z
UID:10001479-1570730400-1570741200@elktonky.com
SUMMARY:City Council Meeting
DESCRIPTION:Regularly scheduled City Council meeting. Agenda may be viewed on City Council Meeting Page when made available.
URL:https://elktonky.com/event/city-council-meeting-2017-06-12-2017-07-12/2019-10-10/
END:VEVENT
BEGIN:VEVENT
DTSTART;TZID=America/Chicago:20191005T090000
DTEND;TZID=America/Chicago:20191005T150000
DTSTAMP:20260420T095227
CREATED:20190724T194307Z
LAST-MODIFIED:20190724T194307Z
UID:10001704-1570266000-1570287600@elktonky.com
SUMMARY:Elkton's HarvestFest 2019
DESCRIPTION:Visit the event website at HarvesFest Page for more information.
URL:https://elktonky.com/event/elktons-harvestfest-2019-2/
END:VEVENT
BEGIN:VEVENT
DTSTART;TZID=America/Chicago:20191003T180000
DTEND;TZID=America/Chicago:20191003T190000
DTSTAMP:20260420T095227
CREATED:20190924T160538Z
LAST-MODIFIED:20190924T160538Z
UID:10001714-1570125600-1570129200@elktonky.com
SUMMARY:Board of Adjustment Hearing and Special Meeting
DESCRIPTION:  \nNOTICE OF PUBLIC HEARING AND SPECIAL MEETING \nThe City of Elkton Board of Adjustment has received a request for a Dimensional Variance from Gayla and Billy Shanks for property located at 504 S Main Street\, Elkton\, Kentucky. A Dimensional Variance is a deviation from the dimensional requirements of the Zoning Ordinance pertaining to height\, width\, or location of structures and setbacks. \nA Public Hearing and Special Meeting will be held on Thursday\, October 3\, 2019 at 6:00 PM at Elkton City Hall\, 71 Public Square\, in the Conference Room to consider this request. Any comments\, either oral or written\, will be given consideration. Contact the Elkton Board of Adjustment at Elkton City Hall at 270-265-9877 for additional information. \nAGENDA \n1. Call to Order\n2. Approval of Minutes from May 30\, 2019\n3. Public Hearing and Decision – Dimensional Variance\, Gayla and Billy Shanks\, 504 S Main St\n4. Open Records Documentation and Certificate of Receipt\n5. Adjournment
URL:https://elktonky.com/event/board-of-adjustment-hearing-and-special-meeting-3-2/
END:VEVENT
BEGIN:VEVENT
DTSTART;TZID=America/Chicago:20190926T183000
DTEND;TZID=America/Chicago:20190926T193000
DTSTAMP:20260420T095227
CREATED:20190925T193929Z
LAST-MODIFIED:20190925T193929Z
UID:10001715-1569522600-1569526200@elktonky.com
SUMMARY:Code Enforcement Board Meeting
DESCRIPTION:
URL:https://elktonky.com/event/code-enforcement-board-meeting-8-2/
END:VEVENT
BEGIN:VEVENT
DTSTART;TZID=America/Chicago:20190925T000000
DTEND;TZID=America/Chicago:20190925T000000
DTSTAMP:20260420T095227
CREATED:20200220T200031Z
LAST-MODIFIED:20200220T200031Z
UID:10001785-1569369600-1569369600@elktonky.com
SUMMARY:Code Enforcement Board Meeting
DESCRIPTION:
URL:https://elktonky.com/event/code-enforcement-board-meeting-8/
END:VEVENT
BEGIN:VEVENT
DTSTART;TZID=America/Chicago:20190924T000000
DTEND;TZID=America/Chicago:20190924T000000
DTSTAMP:20260420T095227
CREATED:20200220T200031Z
LAST-MODIFIED:20200220T200031Z
UID:10001784-1569283200-1569283200@elktonky.com
SUMMARY:Board of Adjustment Hearing and Special Meeting
DESCRIPTION:  \nNOTICE OF PUBLIC HEARING AND SPECIAL MEETING \nThe City of Elkton Board of Adjustment has received a request for a Dimensional Variance from Gayla and Billy Shanks for property located at 504 S Main Street\, Elkton\, Kentucky. A Dimensional Variance is a deviation from the dimensional requirements of the Zoning Ordinance pertaining to height\, width\, or location of structures and setbacks. \nA Public Hearing and Special Meeting will be held on Thursday\, October 3\, 2019 at 6:00 PM at Elkton City Hall\, 71 Public Square\, in the Conference Room to consider this request. Any comments\, either oral or written\, will be given consideration. Contact the Elkton Board of Adjustment at Elkton City Hall at 270-265-9877 for additional information. \nAGENDA \n1. Call to Order\n2. Approval of Minutes from May 30\, 2019\n3. Public Hearing and Decision – Dimensional Variance\, Gayla and Billy Shanks\, 504 S Main St\n4. Open Records Documentation and Certificate of Receipt\n5. Adjournment
URL:https://elktonky.com/event/board-of-adjustment-hearing-and-special-meeting-3/
END:VEVENT
BEGIN:VEVENT
DTSTART;TZID=America/Chicago:20190912T190000
DTEND;TZID=America/Chicago:20190912T210000
DTSTAMP:20260420T095227
CREATED:20190910T144835Z
LAST-MODIFIED:20190910T144835Z
UID:10001713-1568314800-1568322000@elktonky.com
SUMMARY:Planning Commission Meeting
DESCRIPTION:Agenda \n1. Call to Order \n2. Approval of Minutes – August 8\, 2019 Meeting \n3. Public Hearings\n• None \n4. Modular Home Permit Application \n5. Proposed Amendment to the Zoning Ordinance Text \n6. Zoning Administrator Report \n7. Adjournment
URL:https://elktonky.com/event/planning-commission-meeting-20-2/
END:VEVENT
BEGIN:VEVENT
DTSTART;TZID=America/Chicago:20190912T180000
DTEND;TZID=America/Chicago:20190912T210000
DTSTAMP:20260420T095227
CREATED:20150401T152900Z
LAST-MODIFIED:20210205T170046Z
UID:10001478-1568311200-1568322000@elktonky.com
SUMMARY:City Council Meeting
DESCRIPTION:Regularly scheduled City Council meeting. Agenda may be viewed on City Council Meeting Page when made available.
URL:https://elktonky.com/event/city-council-meeting-2017-06-12-2017-07-12/2019-09-12/
END:VEVENT
BEGIN:VEVENT
DTSTART;TZID=America/Chicago:20190912T173000
DTEND;TZID=America/Chicago:20190912T180000
DTSTAMP:20260420T095227
CREATED:20190904T173545Z
LAST-MODIFIED:20190904T173545Z
UID:10001712-1568309400-1568311200@elktonky.com
SUMMARY:Special City Council Meeting
DESCRIPTION:SPECIAL MEETING NOTICE (Amended) \nThere will be a special meeting of the Elkton City Council on Thursday\, September 12\, 2019 at 5:30 PM at Elkton City Hall\, 71 Public Square\, to discuss the following: \nAGENDA \n1. 2nd Reading Ordinance 2019-15 – AN ORDINANCE FIXING THE AD VALOREM TAX RATE UPON THE ASSESSED VALUATION OF REAL ESTATE\, PERSONAL PROPERTY\, MOTOR VEHICLES AND WATERCRAFT WITHIN THE CITY LIMITS OF ELKTON\, KENTUCKY\, FOR THE YEAR 2019 \n2. Nicholas Hurt Property Negotiations
URL:https://elktonky.com/event/special-city-council-meeting-25-2/
END:VEVENT
BEGIN:VEVENT
DTSTART;TZID=America/Chicago:20190910T000000
DTEND;TZID=America/Chicago:20190910T000000
DTSTAMP:20260420T095227
CREATED:20200220T200030Z
LAST-MODIFIED:20200220T200030Z
UID:10001781-1568073600-1568073600@elktonky.com
SUMMARY:Planning Commission Meeting
DESCRIPTION:Agenda\n1. Call to Order \n2. Approval of Minutes – August 8\, 2019 Meeting \n3. Public Hearings\n• None \n4. Modular Home Permit Application \n5. Proposed Amendment to the Zoning Ordinance Text \n6. Zoning Administrator Report \n7. Adjournment
URL:https://elktonky.com/event/planning-commission-meeting-19/
END:VEVENT
BEGIN:VEVENT
DTSTART;TZID=America/Chicago:20190909T184500
DTEND;TZID=America/Chicago:20190909T190000
DTSTAMP:20260420T095227
CREATED:20190904T173442Z
LAST-MODIFIED:20190904T173442Z
UID:10001711-1568054700-1568055600@elktonky.com
SUMMARY:Special City Council Meeting
DESCRIPTION:SPECIAL MEETING NOTICE \nThere will be a special meeting of the Elkton City Council on Monday\, September 9\, 2019 at 6:45 PM at Elkton City Hall\, 71 Public Square\, to discuss the following: \nAGENDA \n1. 2019 Property Tax Rate Public Hearing
URL:https://elktonky.com/event/special-council-meeting/
END:VEVENT
BEGIN:VEVENT
DTSTART;TZID=America/Chicago:20190904T000000
DTEND;TZID=America/Chicago:20190904T000000
DTSTAMP:20260420T095227
CREATED:20200220T200029Z
LAST-MODIFIED:20200220T200030Z
UID:10001850-1567555200-1567555200@elktonky.com
SUMMARY:Special City Council Meeting
DESCRIPTION:SPECIAL MEETING NOTICE (Amended) \nThere will be a special meeting of the Elkton City Council on Thursday\, September 12\, 2019 at 5:30 PM at Elkton City Hall\, 71 Public Square\, to discuss the following: \nAGENDA \n1. 2nd Reading Ordinance 2019-15 – AN ORDINANCE FIXING THE AD VALOREM TAX RATE UPON THE ASSESSED VALUATION OF REAL ESTATE\, PERSONAL PROPERTY\, MOTOR VEHICLES AND WATERCRAFT WITHIN THE CITY LIMITS OF ELKTON\, KENTUCKY\, FOR THE YEAR 2019 \n2. Nicholas Hurt Property Negotiations
URL:https://elktonky.com/event/special-city-council-meeting-24/
END:VEVENT
BEGIN:VEVENT
DTSTART;TZID=America/Chicago:20190808T190000
DTEND;TZID=America/Chicago:20190808T210000
DTSTAMP:20260420T095227
CREATED:20190802T141333Z
LAST-MODIFIED:20190802T141333Z
UID:10001710-1565290800-1565298000@elktonky.com
SUMMARY:Planning Commission Meeting
DESCRIPTION:
URL:https://elktonky.com/event/planning-commission-meeting-19-2/
END:VEVENT
BEGIN:VEVENT
DTSTART;TZID=America/Chicago:20190808T180000
DTEND;TZID=America/Chicago:20190808T210000
DTSTAMP:20260420T095227
CREATED:20150401T152900Z
LAST-MODIFIED:20210205T170046Z
UID:10001477-1565287200-1565298000@elktonky.com
SUMMARY:City Council Meeting
DESCRIPTION:Regularly scheduled City Council meeting. Agenda may be viewed on City Council Meeting Page when made available.
URL:https://elktonky.com/event/city-council-meeting-2017-06-12-2017-07-12/2019-08-08/
END:VEVENT
BEGIN:VEVENT
DTSTART;TZID=America/Chicago:20190802T000000
DTEND;TZID=America/Chicago:20190802T000000
DTSTAMP:20260420T095227
CREATED:20200220T200029Z
LAST-MODIFIED:20200220T200029Z
UID:10001848-1564704000-1564704000@elktonky.com
SUMMARY:Halloween Trick-or-Treat
DESCRIPTION:Trick-or-Treat times in Elkton are set for October 31st from 5:30 PM to 7:30 PM. 
URL:https://elktonky.com/event/halloween-trick-or-treat/
END:VEVENT
BEGIN:VEVENT
DTSTART;TZID=America/Chicago:20190802T000000
DTEND;TZID=America/Chicago:20190802T000000
DTSTAMP:20260420T095227
CREATED:20200220T200029Z
LAST-MODIFIED:20200220T200029Z
UID:10001849-1564704000-1564704000@elktonky.com
SUMMARY:Planning Commission Meeting
DESCRIPTION:
URL:https://elktonky.com/event/planning-commission-meeting-18/
END:VEVENT
BEGIN:VEVENT
DTSTART;TZID=America/Chicago:20190724T000000
DTEND;TZID=America/Chicago:20190724T000000
DTSTAMP:20260420T095227
CREATED:20200220T200029Z
LAST-MODIFIED:20200220T200029Z
UID:10001846-1563926400-1563926400@elktonky.com
SUMMARY:Elkton's HarvestFest 2019
DESCRIPTION:Visit the event website at HarvesFest Page for more information.
URL:https://elktonky.com/event/elktons-harvestfest-2019/
END:VEVENT
BEGIN:VEVENT
DTSTART;TZID=America/Chicago:20190724T000000
DTEND;TZID=America/Chicago:20190724T000000
DTSTAMP:20260420T095227
CREATED:20200220T200029Z
LAST-MODIFIED:20200220T200029Z
UID:10001847-1563926400-1563926400@elktonky.com
SUMMARY:Christmas in Elkton and Parade
DESCRIPTION:Visit the Christmas in Elkton and Parade Page for more information.
URL:https://elktonky.com/event/christmas-in-elkton-and-parade-5/
END:VEVENT
BEGIN:VEVENT
DTSTART;TZID=America/Chicago:20190711T180000
DTEND;TZID=America/Chicago:20190711T210000
DTSTAMP:20260420T095227
CREATED:20150401T152900Z
LAST-MODIFIED:20210205T170046Z
UID:10001476-1562868000-1562878800@elktonky.com
SUMMARY:City Council Meeting
DESCRIPTION:Regularly scheduled City Council meeting. Agenda may be viewed on City Council Meeting Page when made available.
URL:https://elktonky.com/event/city-council-meeting-2017-06-12-2017-07-12/2019-07-11/
END:VEVENT
BEGIN:VEVENT
DTSTART;TZID=America/Chicago:20190627T183000
DTEND;TZID=America/Chicago:20190627T193000
DTSTAMP:20260420T095227
CREATED:20190627T150606Z
LAST-MODIFIED:20190627T150606Z
UID:10001703-1561660200-1561663800@elktonky.com
SUMMARY:Code Enforcement Board Meeting
DESCRIPTION:
URL:https://elktonky.com/event/code-enforcement-board-meeting-7-2/
END:VEVENT
BEGIN:VEVENT
DTSTART;TZID=America/Chicago:20190627T000000
DTEND;TZID=America/Chicago:20190627T000000
DTSTAMP:20260420T095227
CREATED:20200220T200027Z
LAST-MODIFIED:20200220T200027Z
UID:10001845-1561593600-1561593600@elktonky.com
SUMMARY:Code Enforcement Board Meeting
DESCRIPTION:
URL:https://elktonky.com/event/code-enforcement-board-meeting-7/
END:VEVENT
BEGIN:VEVENT
DTSTART;TZID=America/Chicago:20190618T170000
DTEND;TZID=America/Chicago:20190618T180000
DTSTAMP:20260420T095227
CREATED:20190617T182323Z
LAST-MODIFIED:20190617T182323Z
UID:10001702-1560877200-1560880800@elktonky.com
SUMMARY:Special City Council Meeting
DESCRIPTION:Visit the City Council Meeting Page to view the agenda.
URL:https://elktonky.com/event/special-city-council-meeting-24-2/
END:VEVENT
BEGIN:VEVENT
DTSTART;TZID=America/Chicago:20190617T190000
DTEND;TZID=America/Chicago:20190617T220000
DTSTAMP:20260420T095227
CREATED:20190511T214759Z
LAST-MODIFIED:20190511T214759Z
UID:10001699-1560798000-1560808800@elktonky.com
SUMMARY:Special City Council Meeting
DESCRIPTION:The regularly scheduled City Council meeting scheduled for June 10\, 2019 has been cancelled and a special meeting will be held on June 17\, 2019.  The meeting was rescheduled so everyone can attend the 50th Anniversary Dinner Meeting of Pennyrile Area Development District on June 10th. \nVisit the City Council Meeting Page to view the agenda.
URL:https://elktonky.com/event/special-city-council-meeting-23-2/
END:VEVENT
BEGIN:VEVENT
DTSTART;TZID=America/Chicago:20190617T000000
DTEND;TZID=America/Chicago:20190617T000000
DTSTAMP:20260420T095227
CREATED:20200220T200027Z
LAST-MODIFIED:20200220T200027Z
UID:10001844-1560729600-1560729600@elktonky.com
SUMMARY:Special City Council Meeting
DESCRIPTION:Visit the City Council Meeting Page to view the agenda.
URL:https://elktonky.com/event/special-city-council-meeting-23/
END:VEVENT
BEGIN:VEVENT
DTSTART;TZID=America/Chicago:20190613T180000
DTEND;TZID=America/Chicago:20190613T210000
DTSTAMP:20260420T095227
CREATED:20150401T152900Z
LAST-MODIFIED:20210205T170046Z
UID:10001475-1560448800-1560459600@elktonky.com
SUMMARY:City Council Meeting
DESCRIPTION:Regularly scheduled City Council meeting. Agenda may be viewed on City Council Meeting Page when made available.
URL:https://elktonky.com/event/city-council-meeting-2017-06-12-2017-07-12/2019-06-13/
END:VEVENT
END:VCALENDAR