BEGIN:VCALENDAR
VERSION:2.0
PRODID:-//The City of Elkton, KY - ECPv6.15.20//NONSGML v1.0//EN
CALSCALE:GREGORIAN
METHOD:PUBLISH
X-ORIGINAL-URL:https://elktonky.com
X-WR-CALDESC:Events for The City of Elkton, KY
REFRESH-INTERVAL;VALUE=DURATION:PT1H
X-Robots-Tag:noindex
X-PUBLISHED-TTL:PT1H
BEGIN:VTIMEZONE
TZID:America/Chicago
BEGIN:DAYLIGHT
TZOFFSETFROM:-0600
TZOFFSETTO:-0500
TZNAME:CDT
DTSTART:20170312T080000
END:DAYLIGHT
BEGIN:STANDARD
TZOFFSETFROM:-0500
TZOFFSETTO:-0600
TZNAME:CST
DTSTART:20171105T070000
END:STANDARD
BEGIN:DAYLIGHT
TZOFFSETFROM:-0600
TZOFFSETTO:-0500
TZNAME:CDT
DTSTART:20180311T080000
END:DAYLIGHT
BEGIN:STANDARD
TZOFFSETFROM:-0500
TZOFFSETTO:-0600
TZNAME:CST
DTSTART:20181104T070000
END:STANDARD
BEGIN:DAYLIGHT
TZOFFSETFROM:-0600
TZOFFSETTO:-0500
TZNAME:CDT
DTSTART:20190310T080000
END:DAYLIGHT
BEGIN:STANDARD
TZOFFSETFROM:-0500
TZOFFSETTO:-0600
TZNAME:CST
DTSTART:20191103T070000
END:STANDARD
END:VTIMEZONE
BEGIN:VTIMEZONE
TZID:America/Chicago
BEGIN:DAYLIGHT
TZOFFSETFROM:-0600
TZOFFSETTO:-0500
TZNAME:CDT
DTSTART:20170312T080000
END:DAYLIGHT
BEGIN:STANDARD
TZOFFSETFROM:-0500
TZOFFSETTO:-0600
TZNAME:CST
DTSTART:20171105T070000
END:STANDARD
BEGIN:DAYLIGHT
TZOFFSETFROM:-0600
TZOFFSETTO:-0500
TZNAME:CDT
DTSTART:20180311T080000
END:DAYLIGHT
BEGIN:STANDARD
TZOFFSETFROM:-0500
TZOFFSETTO:-0600
TZNAME:CST
DTSTART:20181104T070000
END:STANDARD
BEGIN:DAYLIGHT
TZOFFSETFROM:-0600
TZOFFSETTO:-0500
TZNAME:CDT
DTSTART:20190310T080000
END:DAYLIGHT
BEGIN:STANDARD
TZOFFSETFROM:-0500
TZOFFSETTO:-0600
TZNAME:CST
DTSTART:20191103T070000
END:STANDARD
END:VTIMEZONE
BEGIN:VEVENT
DTSTART;TZID=America/Chicago:20180907T000000
DTEND;TZID=America/Chicago:20180907T000000
DTSTAMP:20260420T210408
CREATED:20200220T200019Z
LAST-MODIFIED:20200220T200019Z
UID:10001822-1536278400-1536278400@elktonky.com
SUMMARY:Planning Commission Meeting
DESCRIPTION:  \nAgenda \n1. Call to Order \n2. Approval of Minutes – August 2\, 2018 Special Meeting \n3. Public Hearings \n• Amendments to Zoning Ordinance Text \n4. Public Comments \n5. Old Business \n6. New Business \n7. Zoning Administrator’s Report \n8. Adjournment
URL:https://elktonky.com/event/planning-commission-meeting-13/
END:VEVENT
BEGIN:VEVENT
DTSTART;TZID=America/Chicago:20180816T180000
DTEND;TZID=America/Chicago:20180816T190000
DTSTAMP:20260420T210408
CREATED:20180803T145839Z
LAST-MODIFIED:20180803T145839Z
UID:10001668-1534442400-1534446000@elktonky.com
SUMMARY:Special Board of Adjustment Meeting
DESCRIPTION:Public Hearing and Special Meeting of the Board of Adjustment will be held on Thursday\, August 16\, 2018 at 6:00 PM at Elkton City Hall\, 71 Public Square\, in the Conference Room. Remember\, this is a special called meeting\, so only items on the agenda below can be discussed in the meeting. \nAGENDA\n \n\nCall to Order\nApproval of Minutes – July 30\, 2018 Special Meeting\nApproval of Minutes – August 2\, 2018 Special Meeting\nPublic Hearing – Conditional Use Permit\, Dale Hughes – The city of Elkton has received a request from Dale Hughes for a Conditional Use Permit for operation of a day care center in an R-2 Medium Density Residential District on property located at 302 W McReynolds Dr in Elkton. \nDecision Regarding Conditional Use Permit
URL:https://elktonky.com/event/special-board-of-adjustment-meeting-4-2/
END:VEVENT
BEGIN:VEVENT
DTSTART;TZID=America/Chicago:20180809T180000
DTEND;TZID=America/Chicago:20180809T210000
DTSTAMP:20260420T210408
CREATED:20150401T152900Z
LAST-MODIFIED:20210205T170046Z
UID:10001465-1533837600-1533848400@elktonky.com
SUMMARY:City Council Meeting
DESCRIPTION:Regularly scheduled City Council meeting. Agenda may be viewed on City Council Meeting Page when made available.
URL:https://elktonky.com/event/city-council-meeting-2017-06-12-2017-07-12/2018-08-09/
END:VEVENT
BEGIN:VEVENT
DTSTART;TZID=America/Chicago:20180806T173000
DTEND;TZID=America/Chicago:20180806T190000
DTSTAMP:20260420T210408
CREATED:20180803T145512Z
LAST-MODIFIED:20180803T145512Z
UID:10001667-1533576600-1533582000@elktonky.com
SUMMARY:Special City Council Meeting
DESCRIPTION:SPECIAL MEETING NOTICE \nThere will be a special meeting of the Elkton City Council on Monday\, August 6\, 2018 at 5:30 PM at Elkton City Hall\, 71 Public Square\, to discuss the following: \nAGENDA (Amended)\n \n\nCall to Order\nPledge of Allegiance\nInvocation\nFEMA Flood Damage Projects (Added)\nRecommendations from Planning Commission\n\nRezone Properties Located at 203 W Main St\, 108 S Weathers Ln\, and 300 W Washington St\nChanges to the Zoning Ordinance\nZoning or Other Land Use Regulations Which will be Effective for the Following Property Upon its Annexation: Approximately 0.971 acres just west of the City Limits of Elkton located at 1110 West Jeff Davis Highway.\nZoning or Other Land Use Regulations Which will be Effective for the Following Property Upon its Annexation: Approximately 1.000 acres situated just west of the City Limits of Elkton being 1.3 miles\, more or less\, northwest of downtown Elkton\, said tract being generally located north of Jefferson Davis Highway\, south of B. White Road\, east of\, and adjacent to Beckam Road\, and west of Commerce Street.\n\n\nFirst Reading Ordinance 2018-11 – Rezone Properties Located at 203 W Main St\, \n108 S Weathers Ln\, and 300 W Washington St\nFirst Reading Ordinance 2018-12 – Amending Text of Zoning Ordinance\nFirst Reading Ordinance 2018-13 – Annexing into the City of Elkton\, Kentucky a 0.971 Acre Tract Lying Adjacent to and Contiguous to the Present City Boundaries on West Jeff Davis Highway\nFirst Reading Ordinance 2018-14 – Annexing into the City of Elkton\, Kentucky a 1.000 Acre Tract Lying Adjacent to and Contiguous to the Present City Boundaries on Beckam Rd\nAdjourn
URL:https://elktonky.com/event/special-city-council-meeting-18-2/
END:VEVENT
BEGIN:VEVENT
DTSTART;TZID=America/Chicago:20180803T000000
DTEND;TZID=America/Chicago:20180803T000000
DTSTAMP:20260420T210408
CREATED:20200220T200019Z
LAST-MODIFIED:20200220T200019Z
UID:10001821-1533254400-1533254400@elktonky.com
SUMMARY:Special Board of Adjustment Meeting
DESCRIPTION:Public Hearing and Special Meeting of the Board of Adjustment will be held on Thursday\, August 16\, 2018 at 6:00 PM at Elkton City Hall\, 71 Public Square\, in the Conference Room. Remember\, this is a special called meeting\, so only items on the agenda below can be discussed in the meeting.\nAGENDA\n \n\nCall to Order\nApproval of Minutes – July 30\, 2018 Special Meeting\nApproval of Minutes – August 2\, 2018 Special Meeting\nPublic Hearing – Conditional Use Permit\, Dale Hughes – The city of Elkton has received a request from Dale Hughes for a Conditional Use Permit for operation of a day care center in an R-2 Medium Density Residential District on property located at 302 W McReynolds Dr in Elkton. \nDecision Regarding Conditional Use Permit
URL:https://elktonky.com/event/special-board-of-adjustment-meeting-4/
END:VEVENT
BEGIN:VEVENT
DTSTART;TZID=America/Chicago:20180803T000000
DTEND;TZID=America/Chicago:20180803T000000
DTSTAMP:20260420T210408
CREATED:20200220T200018Z
LAST-MODIFIED:20200220T200018Z
UID:10001820-1533254400-1533254400@elktonky.com
SUMMARY:Special City Council Meeting
DESCRIPTION:SPECIAL MEETING NOTICE\nThere will be a special meeting of the Elkton City Council on Monday\, August 6\, 2018 at 5:30 PM at Elkton City Hall\, 71 Public Square\, to discuss the following: \nAGENDA (Amended)\n \n\nCall to Order\nPledge of Allegiance\nInvocation\nFEMA Flood Damage Projects (Added)\nRecommendations from Planning Commission\n\nRezone Properties Located at 203 W Main St\, 108 S Weathers Ln\, and 300 W Washington St\nChanges to the Zoning Ordinance\nZoning or Other Land Use Regulations Which will be Effective for the Following Property Upon its Annexation: Approximately 0.971 acres just west of the City Limits of Elkton located at 1110 West Jeff Davis Highway.\nZoning or Other Land Use Regulations Which will be Effective for the Following Property Upon its Annexation: Approximately 1.000 acres situated just west of the City Limits of Elkton being 1.3 miles\, more or less\, northwest of downtown Elkton\, said tract being generally located north of Jefferson Davis Highway\, south of B. White Road\, east of\, and adjacent to Beckam Road\, and west of Commerce Street.\n\n\nFirst Reading Ordinance 2018-11 – Rezone Properties Located at 203 W Main St\, \n108 S Weathers Ln\, and 300 W Washington St\nFirst Reading Ordinance 2018-12 – Amending Text of Zoning Ordinance\nFirst Reading Ordinance 2018-13 – Annexing into the City of Elkton\, Kentucky a 0.971 Acre Tract Lying Adjacent to and Contiguous to the Present City Boundaries on West Jeff Davis Highway\nFirst Reading Ordinance 2018-14 – Annexing into the City of Elkton\, Kentucky a 1.000 Acre Tract Lying Adjacent to and Contiguous to the Present City Boundaries on Beckam Rd\nAdjourn
URL:https://elktonky.com/event/special-city-council-meeting-18/
END:VEVENT
BEGIN:VEVENT
DTSTART;TZID=America/Chicago:20180802T190000
DTEND;TZID=America/Chicago:20180802T200000
DTSTAMP:20260420T210408
CREATED:20180726T205720Z
LAST-MODIFIED:20180726T205720Z
UID:10001666-1533236400-1533240000@elktonky.com
SUMMARY:Special Planning Commission Meeting
DESCRIPTION:Agenda \n1. Call to Order \n2. Approval of Minutes – July 12\, 2018 \n3. Public Hearings \n• Adoption of any comprehensive plan amendments and make recommendations as to the zoning or other land use regulations which will be effective for approximately 0.971 acres just west of the City Limits of Elkton located at 1110 West Jeff Davis Highway. \n• Adoption of any comprehensive plan amendments and make recommendations as to the zoning or other land use regulations which will be effective for approximately 1.000 acres situated just west of the City Limits of Elkton being 1.3 miles\, more or less\, northwest of downtown Elkton\, said tract being generally located north of Jefferson Davis Highway\, south of B. White Road\, east of\, and adjacent to Beckam Road\, and west of Commerce Street. \n4. Recommendations to City Council as a Result of Public Hearings \n5. Adjournment
URL:https://elktonky.com/event/special-planning-commission-meeting-3-2/
END:VEVENT
BEGIN:VEVENT
DTSTART;TZID=America/Chicago:20180802T180000
DTEND;TZID=America/Chicago:20180802T190000
DTSTAMP:20260420T210408
CREATED:20180723T134816Z
LAST-MODIFIED:20180723T134816Z
UID:10001665-1533232800-1533236400@elktonky.com
SUMMARY:Special Board of Adjustment Meeting
DESCRIPTION:NOTICE OF SPECIAL MEETING \nThere will be a special meeting of the Elkton Board of Adjustment on Thursday\, August 2\, 2018 at 6:00 PM at Elkton City Hall\, 71 Public Square\, in the Conference Room. \nAGENDA\n \n\nCall to Order\nPublic Hearing – Dimensional Variance\, Sue Rose\nDecision Regarding Dimensional Variance
URL:https://elktonky.com/event/special-board-of-adjustment-meeting-3-2/
END:VEVENT
BEGIN:VEVENT
DTSTART;TZID=America/Chicago:20180730T190000
DTEND;TZID=America/Chicago:20180730T200000
DTSTAMP:20260420T210408
CREATED:20180720T194015Z
LAST-MODIFIED:20180720T194015Z
UID:10001664-1532977200-1532980800@elktonky.com
SUMMARY:Special Board of Adjustment Meeting
DESCRIPTION:NOTICE OF SPECIAL MEETING \nThere will be a special meeting of the Elkton Board of Adjustment on Monday\, July 30\, 2018 at 7:00 PM at Elkton City Hall\, 71 Public Square\, in the Conference Room. \nAGENDA\n \n\nCall to Order\nApproval of Minutes – November 9\, 2017 Special Meeting\nPublic Hearing – Conditional Use Permit\, Elkton Gospel Church\nDecision Regarding Conditional Use Permit
URL:https://elktonky.com/event/special-board-of-adjustment-meeting-2-2/
END:VEVENT
BEGIN:VEVENT
DTSTART;TZID=America/Chicago:20180726T000000
DTEND;TZID=America/Chicago:20180726T000000
DTSTAMP:20260420T210408
CREATED:20200220T200018Z
LAST-MODIFIED:20200220T200018Z
UID:10001819-1532563200-1532563200@elktonky.com
SUMMARY:Special Planning Commission Meeting
DESCRIPTION:Agenda\n1. Call to Order \n2. Approval of Minutes – July 12\, 2018 \n3. Public Hearings \n• Adoption of any comprehensive plan amendments and make recommendations as to the zoning or other land use regulations which will be effective for approximately 0.971 acres just west of the City Limits of Elkton located at 1110 West Jeff Davis Highway. \n• Adoption of any comprehensive plan amendments and make recommendations as to the zoning or other land use regulations which will be effective for approximately 1.000 acres situated just west of the City Limits of Elkton being 1.3 miles\, more or less\, northwest of downtown Elkton\, said tract being generally located north of Jefferson Davis Highway\, south of B. White Road\, east of\, and adjacent to Beckam Road\, and west of Commerce Street. \n4. Recommendations to City Council as a Result of Public Hearings \n5. Adjournment
URL:https://elktonky.com/event/special-planning-commission-meeting-3/
END:VEVENT
BEGIN:VEVENT
DTSTART;TZID=America/Chicago:20180723T000000
DTEND;TZID=America/Chicago:20180723T000000
DTSTAMP:20260420T210408
CREATED:20200220T200017Z
LAST-MODIFIED:20200220T200017Z
UID:10001818-1532304000-1532304000@elktonky.com
SUMMARY:Special Board of Adjustment Meeting
DESCRIPTION:NOTICE OF SPECIAL MEETING\nThere will be a special meeting of the Elkton Board of Adjustment on Thursday\, August 2\, 2018 at 6:00 PM at Elkton City Hall\, 71 Public Square\, in the Conference Room. \nAGENDA\n \n\nCall to Order\nPublic Hearing – Dimensional Variance\, Sue Rose\nDecision Regarding Dimensional Variance
URL:https://elktonky.com/event/special-board-of-adjustment-meeting-3/
END:VEVENT
BEGIN:VEVENT
DTSTART;TZID=America/Chicago:20180720T000000
DTEND;TZID=America/Chicago:20180720T000000
DTSTAMP:20260420T210408
CREATED:20200220T200017Z
LAST-MODIFIED:20200220T200017Z
UID:10001817-1532044800-1532044800@elktonky.com
SUMMARY:Special Board of Adjustment Meeting
DESCRIPTION:NOTICE OF SPECIAL MEETING\nThere will be a special meeting of the Elkton Board of Adjustment on Monday\, July 30\, 2018 at 7:00 PM at Elkton City Hall\, 71 Public Square\, in the Conference Room. \nAGENDA\n \n\nCall to Order\nApproval of Minutes – November 9\, 2017 Special Meeting\nPublic Hearing – Conditional Use Permit\, Elkton Gospel Church\nDecision Regarding Conditional Use Permit
URL:https://elktonky.com/event/special-board-of-adjustment-meeting-2/
END:VEVENT
BEGIN:VEVENT
DTSTART;TZID=America/Chicago:20180712T190000
DTEND;TZID=America/Chicago:20180712T210000
DTSTAMP:20260420T210408
CREATED:20180706T181239Z
LAST-MODIFIED:20180706T181239Z
UID:10001663-1531422000-1531429200@elktonky.com
SUMMARY:Planning Commission Meeting
DESCRIPTION:Agenda \n1. Call to Order \n2. Approval of Minutes – June 14\, 2018 \n3. Public Hearings \n\nAT and T Cell Tower at 3300 W Jeff Davis Hwy\nRezoning Properties at 203 W Main St and S Weathers Lane\nAmendments to Zoning Ordinance Text\n\n4. Old Business \n5. New Business \n6. Zoning Administrator’s Report \n7. Adjournment
URL:https://elktonky.com/event/planning-commission-meeting-14-2/
END:VEVENT
BEGIN:VEVENT
DTSTART;TZID=America/Chicago:20180712T180000
DTEND;TZID=America/Chicago:20180712T210000
DTSTAMP:20260420T210408
CREATED:20150401T152900Z
LAST-MODIFIED:20210205T170046Z
UID:10001464-1531418400-1531429200@elktonky.com
SUMMARY:City Council Meeting
DESCRIPTION:Regularly scheduled City Council meeting. Agenda may be viewed on City Council Meeting Page when made available.
URL:https://elktonky.com/event/city-council-meeting-2017-06-12-2017-07-12/2018-07-12/
END:VEVENT
BEGIN:VEVENT
DTSTART;TZID=America/Chicago:20180706T000000
DTEND;TZID=America/Chicago:20180706T000000
DTSTAMP:20260420T210408
CREATED:20200220T200017Z
LAST-MODIFIED:20200220T200017Z
UID:10001816-1530835200-1530835200@elktonky.com
SUMMARY:Planning Commission Meeting
DESCRIPTION:Agenda\n1. Call to Order \n2. Approval of Minutes – June 14\, 2018 \n3. Public Hearings \n\nAT and T Cell Tower at 3300 W Jeff Davis Hwy\nRezoning Properties at 203 W Main St and S Weathers Lane\nAmendments to Zoning Ordinance Text\n\n4. Old Business \n5. New Business \n6. Zoning Administrator’s Report \n7. Adjournment
URL:https://elktonky.com/event/planning-commission-meeting-12/
END:VEVENT
BEGIN:VEVENT
DTSTART;TZID=America/Chicago:20180625T173000
DTEND;TZID=America/Chicago:20180625T193000
DTSTAMP:20260420T210408
CREATED:20180605T142327Z
LAST-MODIFIED:20180605T142327Z
UID:10001662-1529947800-1529955000@elktonky.com
SUMMARY:Special City Council Meeting
DESCRIPTION:There will be a special meeting of the Elkton City Council on Monday\, June 25\, 2018 at 5:30 PM at Elkton City Hall\, 71 Public Square\, to discuss the following: \nAGENDA\n \n\nCall to Order\nPledge of Allegiance\nInvocation\n2nd Reading Ordinance 2018-05 – Amending Budget FY June 30\, 2018\n2nd Reading Ordinance 2018-06 – Budget Appropriations FY June 30\, 2019\n2nd Reading Ordinance 2018-07 – Amending Compensation Plan and Pay Scale\nCreek Bank and Pavement Repairs Bid\nTime Clocks\n2nd Reading Ordinance 2018-08 – Adjusting User Rates of Wastewater Services in Elkton\n2nd Reading Ordinance 2018-09 – Adjusting Water Rates\n2nd Reading Ordinance 2018-10 – Amending Chapter 95 Cemeteries\nElm Street Entrance Widening\nCall 811\nElkton Die Casting Use Agreement with Marines
URL:https://elktonky.com/event/special-city-council-meeting-17-2/
END:VEVENT
BEGIN:VEVENT
DTSTART;TZID=America/Chicago:20180621T190000
DTEND;TZID=America/Chicago:20180621T210000
DTSTAMP:20260420T210408
CREATED:20180515T191942Z
LAST-MODIFIED:20180515T191942Z
UID:10001659-1529607600-1529614800@elktonky.com
SUMMARY:Special City Council Meeting
DESCRIPTION:SPECIAL MEETING NOTICE \nThere will be a special meeting of the Elkton City Council on Thursday\, June 21\, 2018 at 7:00 PM at Elkton City Hall\, 71 Public Square\, to discuss the following: \nAGENDA\n \n\nCall to Order\nPledge of Allegiance\nInvocation\nApproval of Minutes May 14\, 2018 Meeting\nApproval of Minutes May 29\, 2018 Meeting\nBills Payable and Financial Reports\n2nd Reading Ordinance 2018-03 – Rezone 309 and 311 E Main Street\n2nd Reading Ordinance 2018-04 – Amending Chapter 119 (Job Development Incentives)\n1st Reading Ordinance 2018-05 – Amending Budget FY June 30\, 2018\n1st Reading Ordinance 2018-06 – Budget Appropriations FY June 30\, 2019\n1st Reading Ordinance 2018-07 – Amending Compensation Plan and Pay Scale\nNatural Gas Franchise Bids\nElkton Die Casting Building\nElkton Die Casting Use Agreement with Marines\nCreek Bank and Pavement Repairs Bid\n1st Reading Ordinance 2018-08 – Adjusting User Rates of Wastewater Services in Elkton\n1st Reading Ordinance 2018-09 – Adjusting Water Rates\n1st Reading Ordinance 2018-10 – Amending Chapter 95 Cemeteries\nThurman Campbell Group – FY2018 Audit Proposal\nSpeed Signs on Streets
URL:https://elktonky.com/event/special-city-council-meeting-15-2/
END:VEVENT
BEGIN:VEVENT
DTSTART;TZID=America/Chicago:20180614T190000
DTEND;TZID=America/Chicago:20180614T210000
DTSTAMP:20260420T210408
CREATED:20180605T141844Z
LAST-MODIFIED:20180605T141844Z
UID:10001661-1529002800-1529010000@elktonky.com
SUMMARY:Planning Commission Meeting
DESCRIPTION:  \nAgenda \n\nCall to Order\nApproval of Minutes – May 10\, 2018\nOld Business\n\nBlount Clinic Development Plan\nPublic Hearings Scheduled for Meeting on July 12\, 2018\n\nAT and T Cell Tower\, W Jeff Davis Hwy Location\nRezoning S Weathers Ln and W Washington Dr\nMay Schedule Hearing on Zoning Text Amendments for items discussed recently like allowing Garage in Side Yard\, etc.\n\n\nOther\n\n\nNew Business\nZoning Administrator’s Report\nAdjournment
URL:https://elktonky.com/event/planning-commission-meeting-12-2/
END:VEVENT
BEGIN:VEVENT
DTSTART;TZID=America/Chicago:20180614T180000
DTEND;TZID=America/Chicago:20180614T210000
DTSTAMP:20260420T210408
CREATED:20150401T152900Z
LAST-MODIFIED:20210205T170046Z
UID:10001463-1528999200-1529010000@elktonky.com
SUMMARY:City Council Meeting
DESCRIPTION:Regularly scheduled City Council meeting. Agenda may be viewed on City Council Meeting Page when made available.
URL:https://elktonky.com/event/city-council-meeting-2017-06-12-2017-07-12/2018-06-14/
END:VEVENT
BEGIN:VEVENT
DTSTART;TZID=America/Chicago:20180611T190000
DTEND;TZID=America/Chicago:20180611T210000
DTSTAMP:20260420T210408
CREATED:20150401T152900Z
LAST-MODIFIED:20150401T152900Z
UID:10001574-1528743600-1528750800@elktonky.com
SUMMARY:City Council Meeting - CANCELLED
DESCRIPTION:Regularly scheduled City Council meeting.
URL:https://elktonky.com/event/city-council-meeting-2017-06-12-2017-07-12-2018-06-11/
END:VEVENT
BEGIN:VEVENT
DTSTART;TZID=America/Chicago:20180605T000000
DTEND;TZID=America/Chicago:20180605T000000
DTSTAMP:20260420T210408
CREATED:20200220T200017Z
LAST-MODIFIED:20200220T200017Z
UID:10001815-1528156800-1528156800@elktonky.com
SUMMARY:Special City Council Meeting
DESCRIPTION:There will be a special meeting of the Elkton City Council on Monday\, June 25\, 2018 at 5:30 PM at Elkton City Hall\, 71 Public Square\, to discuss the following:\nAGENDA\n \n\nCall to Order\nPledge of Allegiance\nInvocation\n2nd Reading Ordinance 2018-05 – Amending Budget FY June 30\, 2018\n2nd Reading Ordinance 2018-06 – Budget Appropriations FY June 30\, 2019\n2nd Reading Ordinance 2018-07 – Amending Compensation Plan and Pay Scale\nCreek Bank and Pavement Repairs Bid\nTime Clocks\n2nd Reading Ordinance 2018-08 – Adjusting User Rates of Wastewater Services in Elkton\n2nd Reading Ordinance 2018-09 – Adjusting Water Rates\n2nd Reading Ordinance 2018-10 – Amending Chapter 95 Cemeteries\nElm Street Entrance Widening\nCall 811\nElkton Die Casting Use Agreement with Marines
URL:https://elktonky.com/event/special-city-council-meeting-17/
END:VEVENT
BEGIN:VEVENT
DTSTART;TZID=America/Chicago:20180605T000000
DTEND;TZID=America/Chicago:20180605T000000
DTSTAMP:20260420T210408
CREATED:20200220T200015Z
LAST-MODIFIED:20200220T200015Z
UID:10001814-1528156800-1528156800@elktonky.com
SUMMARY:Planning Commission Meeting
DESCRIPTION: \nAgenda \n\nCall to Order\nApproval of Minutes – May 10\, 2018\nOld Business\n\nBlount Clinic Development Plan\nPublic Hearings Scheduled for Meeting on July 12\, 2018\n\nAT and T Cell Tower\, W Jeff Davis Hwy Location\nRezoning S Weathers Ln and W Washington Dr\nMay Schedule Hearing on Zoning Text Amendments for items discussed recently like allowing Garage in Side Yard\, etc.\n\n\nOther\n\n\nNew Business\nZoning Administrator’s Report\nAdjournment
URL:https://elktonky.com/event/planning-commission-meeting-11/
END:VEVENT
BEGIN:VEVENT
DTSTART;TZID=America/Chicago:20180531T080000
DTEND;TZID=America/Chicago:20180603T170000
DTSTAMP:20260420T210408
CREATED:20180215T162303Z
LAST-MODIFIED:20180215T162303Z
UID:10001652-1527753600-1528045200@elktonky.com
SUMMARY:400 Mile Sale and Elkton Yard Sale Days
DESCRIPTION:400 Mile Sale
URL:https://elktonky.com/event/400-mile-sale-and-elkton-yard-sale-days-3/
END:VEVENT
BEGIN:VEVENT
DTSTART;TZID=America/Chicago:20180529T173000
DTEND;TZID=America/Chicago:20180529T193000
DTSTAMP:20260420T210408
CREATED:20180523T200334Z
LAST-MODIFIED:20180523T200334Z
UID:10001660-1527615000-1527622200@elktonky.com
SUMMARY:Special City Council Meeting
DESCRIPTION:There will be a special meeting of the Elkton City Council on Tuesday\, May 29\, 2018 at 5:30 PM at Elkton City Hall\, 71 Public Square\, to discuss the following: \n\nAGENDA \n \n\nCall to Order\nPledge of Allegiance \nInvocation\nEmployee Health Insurance Renewal\nCity Property and Liability Insurance Renewal with KLC\nElkton Die Casting Property\nCounty Annual $2\,000 Contribution for Improvement in City\nMayor’s Budget Message and Proposal for Fiscal Year Ending June 30\, 2018\nAdjournment
URL:https://elktonky.com/event/special-city-council-meeting-16-2/
END:VEVENT
BEGIN:VEVENT
DTSTART;TZID=America/Chicago:20180523T000000
DTEND;TZID=America/Chicago:20180523T000000
DTSTAMP:20260420T210408
CREATED:20200220T200015Z
LAST-MODIFIED:20200220T200015Z
UID:10001813-1527033600-1527033600@elktonky.com
SUMMARY:Special City Council Meeting
DESCRIPTION:There will be a special meeting of the Elkton City Council on Tuesday\, May 29\, 2018 at 5:30 PM at Elkton City Hall\, 71 Public Square\, to discuss the following:\n\nAGENDA \n \n\nCall to Order\nPledge of Allegiance \nInvocation\nEmployee Health Insurance Renewal\nCity Property and Liability Insurance Renewal with KLC\nElkton Die Casting Property\nCounty Annual $2\,000 Contribution for Improvement in City\nMayor’s Budget Message and Proposal for Fiscal Year Ending June 30\, 2018\nAdjournment
URL:https://elktonky.com/event/special-city-council-meeting-16/
END:VEVENT
BEGIN:VEVENT
DTSTART;TZID=America/Chicago:20180515T000000
DTEND;TZID=America/Chicago:20180515T000000
DTSTAMP:20260420T210408
CREATED:20200220T200015Z
LAST-MODIFIED:20200220T200015Z
UID:10001812-1526342400-1526342400@elktonky.com
SUMMARY:Special City Council Meeting
DESCRIPTION:SPECIAL MEETING NOTICE\nThere will be a special meeting of the Elkton City Council on Thursday\, June 21\, 2018 at 7:00 PM at Elkton City Hall\, 71 Public Square\, to discuss the following: \nAGENDA\n \n\nCall to Order\nPledge of Allegiance\nInvocation\nApproval of Minutes May 14\, 2018 Meeting\nApproval of Minutes May 29\, 2018 Meeting\nBills Payable and Financial Reports\n2nd Reading Ordinance 2018-03 – Rezone 309 and 311 E Main Street\n2nd Reading Ordinance 2018-04 – Amending Chapter 119 (Job Development Incentives)\n1st Reading Ordinance 2018-05 – Amending Budget FY June 30\, 2018\n1st Reading Ordinance 2018-06 – Budget Appropriations FY June 30\, 2019\n1st Reading Ordinance 2018-07 – Amending Compensation Plan and Pay Scale\nNatural Gas Franchise Bids\nElkton Die Casting Building\nElkton Die Casting Use Agreement with Marines\nCreek Bank and Pavement Repairs Bid\n1st Reading Ordinance 2018-08 – Adjusting User Rates of Wastewater Services in Elkton\n1st Reading Ordinance 2018-09 – Adjusting Water Rates\n1st Reading Ordinance 2018-10 – Amending Chapter 95 Cemeteries\nThurman Campbell Group – FY2018 Audit Proposal\nSpeed Signs on Streets
URL:https://elktonky.com/event/special-city-council-meeting-15/
END:VEVENT
BEGIN:VEVENT
DTSTART;TZID=America/Chicago:20180510T190000
DTEND;TZID=America/Chicago:20180510T210000
DTSTAMP:20260420T210408
CREATED:20180508T181248Z
LAST-MODIFIED:20180508T181248Z
UID:10001658-1525978800-1525986000@elktonky.com
SUMMARY:Planning Commission Meeting
DESCRIPTION:Agenda \n1. Call to Order \n2. Approval of Minutes – April 12\, 2018 \n3. Public Hearing \n• AT and T Cell Tower \n4. Old Business \n• Rezoning S Weathers Lane \n• Zoning Text Amendments: \ni.   Zero Lot Line Regulations\nii.  Development Plan Regulations Amendment\niii. Detached Garages in Side Yards \n• Riverbend Subdivision \n5. New Business \n6. Zoning Administrator’s Report \n7. Adjournment
URL:https://elktonky.com/event/planning-commission-meeting-11-2/
END:VEVENT
BEGIN:VEVENT
DTSTART;TZID=America/Chicago:20180510T180000
DTEND;TZID=America/Chicago:20180510T210000
DTSTAMP:20260420T210408
CREATED:20150401T152900Z
LAST-MODIFIED:20210205T170046Z
UID:10001462-1525975200-1525986000@elktonky.com
SUMMARY:City Council Meeting
DESCRIPTION:Regularly scheduled City Council meeting. Agenda may be viewed on City Council Meeting Page when made available.
URL:https://elktonky.com/event/city-council-meeting-2017-06-12-2017-07-12/2018-05-10/
END:VEVENT
BEGIN:VEVENT
DTSTART;TZID=America/Chicago:20180508T000000
DTEND;TZID=America/Chicago:20180508T000000
DTSTAMP:20260420T210408
CREATED:20200220T200015Z
LAST-MODIFIED:20200220T200015Z
UID:10001811-1525737600-1525737600@elktonky.com
SUMMARY:Planning Commission Meeting
DESCRIPTION:Agenda\n1. Call to Order \n2. Approval of Minutes – April 12\, 2018 \n3. Public Hearing \n• AT and T Cell Tower \n4. Old Business \n• Rezoning S Weathers Lane \n• Zoning Text Amendments: \ni.   Zero Lot Line Regulations\nii.  Development Plan Regulations Amendment\niii. Detached Garages in Side Yards \n• Riverbend Subdivision \n5. New Business \n6. Zoning Administrator’s Report \n7. Adjournment
URL:https://elktonky.com/event/planning-commission-meeting-10/
END:VEVENT
BEGIN:VEVENT
DTSTART;TZID=America/Chicago:20180423T180000
DTEND;TZID=America/Chicago:20180423T190000
DTSTAMP:20260420T210408
CREATED:20180411T182943Z
LAST-MODIFIED:20180411T182943Z
UID:10001657-1524506400-1524510000@elktonky.com
SUMMARY:Board of Adjustment Hearing and Special Meeting
DESCRIPTION:AGENDA \n \n\nCall to Order\nApproval of Minutes – November 9\, 2017 Special Meeting\nPublic Hearing – Dimensional Variance\, Donna Latham\, 809 S Main St\nDecision Regarding Dimensional Variance
URL:https://elktonky.com/event/board-of-adjustment-hearing-and-special-meeting-2-2/
END:VEVENT
END:VCALENDAR