BEGIN:VCALENDAR
VERSION:2.0
PRODID:-//The City of Elkton, KY - ECPv6.15.20//NONSGML v1.0//EN
CALSCALE:GREGORIAN
METHOD:PUBLISH
X-WR-CALNAME:The City of Elkton, KY
X-ORIGINAL-URL:https://elktonky.com
X-WR-CALDESC:Events for The City of Elkton, KY
REFRESH-INTERVAL;VALUE=DURATION:PT1H
X-Robots-Tag:noindex
X-PUBLISHED-TTL:PT1H
BEGIN:VTIMEZONE
TZID:America/Chicago
BEGIN:DAYLIGHT
TZOFFSETFROM:-0600
TZOFFSETTO:-0500
TZNAME:CDT
DTSTART:20230312T080000
END:DAYLIGHT
BEGIN:STANDARD
TZOFFSETFROM:-0500
TZOFFSETTO:-0600
TZNAME:CST
DTSTART:20231105T070000
END:STANDARD
BEGIN:DAYLIGHT
TZOFFSETFROM:-0600
TZOFFSETTO:-0500
TZNAME:CDT
DTSTART:20240310T080000
END:DAYLIGHT
BEGIN:STANDARD
TZOFFSETFROM:-0500
TZOFFSETTO:-0600
TZNAME:CST
DTSTART:20241103T070000
END:STANDARD
BEGIN:DAYLIGHT
TZOFFSETFROM:-0600
TZOFFSETTO:-0500
TZNAME:CDT
DTSTART:20250309T080000
END:DAYLIGHT
BEGIN:STANDARD
TZOFFSETFROM:-0500
TZOFFSETTO:-0600
TZNAME:CST
DTSTART:20251102T070000
END:STANDARD
END:VTIMEZONE
BEGIN:VEVENT
DTSTART;TZID=America/Chicago:20240516T160000
DTEND;TZID=America/Chicago:20240516T170000
DTSTAMP:20260422T171122
CREATED:20240429T221235Z
LAST-MODIFIED:20240429T221235Z
UID:10001962-1715875200-1715878800@elktonky.com
SUMMARY:Notice of Public Meeting City-County Park Improvements Project
DESCRIPTION:Under the Land and Water Conservation Fund Act of 1965 (Public Law 88-578)\, citizens are afforded the opportunity to express their views concerning the recreational needs of their community. To provide a forum for discussion\, City of Elkton\, Kentucky will be hosting an open meeting on: \nDate: Thursday\, May 16\, 2024\nTime: 4:00 PM\nLocation: Elkton City Hall Conference Room\nAddress: 71 Public Square\, Elkton\, KY 42220 \nThe specific purpose of this meeting is to discuss the Elkton-Todd County Park Improvements Project\, which proposes to install new metal light poles and LED fixtures on ball field #1 and to construct new pickleball courts in the City-County Park in Elkton. The public is invited to review and voice their opinion on the proposed activities and potential impacts of the project. Anyone wishing to support or oppose the proposed project can also submit written comments to Elkton City Hall by email to cityhall@elktonky.com; or by mail to Elkton City Hall\, Attn: LWCF Projects\, PO Box 578\, Elkton\, KY 42220; or submit at Elkton City Hall at 71 Public Square\, Elkton\, Kentucky by Friday\, May 24\, 2024 at 4:00 pm local time.
URL:https://elktonky.com/event/notice-of-public-meeting-city-county-park-improvements-project/
LOCATION:Elkton City Hall\, 71 Public Square\, Elkton\, 42220
END:VEVENT
END:VCALENDAR