BEGIN:VCALENDAR
VERSION:2.0
PRODID:-//The City of Elkton, KY - ECPv6.15.20//NONSGML v1.0//EN
CALSCALE:GREGORIAN
METHOD:PUBLISH
X-WR-CALNAME:The City of Elkton, KY
X-ORIGINAL-URL:https://elktonky.com
X-WR-CALDESC:Events for The City of Elkton, KY
REFRESH-INTERVAL;VALUE=DURATION:PT1H
X-Robots-Tag:noindex
X-PUBLISHED-TTL:PT1H
BEGIN:VTIMEZONE
TZID:America/Chicago
BEGIN:DAYLIGHT
TZOFFSETFROM:-0600
TZOFFSETTO:-0500
TZNAME:CDT
DTSTART:20210314T080000
END:DAYLIGHT
BEGIN:STANDARD
TZOFFSETFROM:-0500
TZOFFSETTO:-0600
TZNAME:CST
DTSTART:20211107T070000
END:STANDARD
BEGIN:DAYLIGHT
TZOFFSETFROM:-0600
TZOFFSETTO:-0500
TZNAME:CDT
DTSTART:20220313T080000
END:DAYLIGHT
BEGIN:STANDARD
TZOFFSETFROM:-0500
TZOFFSETTO:-0600
TZNAME:CST
DTSTART:20221106T070000
END:STANDARD
BEGIN:DAYLIGHT
TZOFFSETFROM:-0600
TZOFFSETTO:-0500
TZNAME:CDT
DTSTART:20230312T080000
END:DAYLIGHT
BEGIN:STANDARD
TZOFFSETFROM:-0500
TZOFFSETTO:-0600
TZNAME:CST
DTSTART:20231105T070000
END:STANDARD
BEGIN:DAYLIGHT
TZOFFSETFROM:-0600
TZOFFSETTO:-0500
TZNAME:CDT
DTSTART:20240310T080000
END:DAYLIGHT
BEGIN:STANDARD
TZOFFSETFROM:-0500
TZOFFSETTO:-0600
TZNAME:CST
DTSTART:20241103T070000
END:STANDARD
END:VTIMEZONE
BEGIN:VEVENT
DTSTART;TZID=America/Chicago:20230601T060000
DTEND;TZID=America/Chicago:20230604T200000
DTSTAMP:20260421T112547
CREATED:20230327T181151Z
LAST-MODIFIED:20230327T181305Z
UID:10001930-1685599200-1685908800@elktonky.com
SUMMARY:400 Mile Sale and Elkton Yard Sale Days
DESCRIPTION:Visit the Event Page Here for more information.
URL:https://elktonky.com/event/400-mile-sale-and-elkton-yard-sale-days-5/
END:VEVENT
BEGIN:VEVENT
DTSTART;TZID=America/Chicago:20220602T060000
DTEND;TZID=America/Chicago:20220605T180000
DTSTAMP:20260421T112547
CREATED:20220304T181712Z
LAST-MODIFIED:20220304T181757Z
UID:10001899-1654149600-1654452000@elktonky.com
SUMMARY:Elkton Yard Sale Days and 400 Mile Sale
DESCRIPTION:400 Mile Sale Across Kentucky 400 Mile Sale Website \nElkton Yard Sale Days – Elkton Yard Sale Days Website
URL:https://elktonky.com/event/elkton-yard-sale-days-and-400-mile-sale/
END:VEVENT
END:VCALENDAR