BEGIN:VCALENDAR
VERSION:2.0
PRODID:-//The City of Elkton, KY - ECPv6.15.20//NONSGML v1.0//EN
CALSCALE:GREGORIAN
METHOD:PUBLISH
X-ORIGINAL-URL:https://elktonky.com
X-WR-CALDESC:Events for The City of Elkton, KY
REFRESH-INTERVAL;VALUE=DURATION:PT1H
X-Robots-Tag:noindex
X-PUBLISHED-TTL:PT1H
BEGIN:VTIMEZONE
TZID:America/Chicago
BEGIN:DAYLIGHT
TZOFFSETFROM:-0600
TZOFFSETTO:-0500
TZNAME:CDT
DTSTART:20190310T080000
END:DAYLIGHT
BEGIN:STANDARD
TZOFFSETFROM:-0500
TZOFFSETTO:-0600
TZNAME:CST
DTSTART:20191103T070000
END:STANDARD
BEGIN:DAYLIGHT
TZOFFSETFROM:-0600
TZOFFSETTO:-0500
TZNAME:CDT
DTSTART:20200308T080000
END:DAYLIGHT
BEGIN:STANDARD
TZOFFSETFROM:-0500
TZOFFSETTO:-0600
TZNAME:CST
DTSTART:20201101T070000
END:STANDARD
BEGIN:DAYLIGHT
TZOFFSETFROM:-0600
TZOFFSETTO:-0500
TZNAME:CDT
DTSTART:20210314T080000
END:DAYLIGHT
BEGIN:STANDARD
TZOFFSETFROM:-0500
TZOFFSETTO:-0600
TZNAME:CST
DTSTART:20211107T070000
END:STANDARD
END:VTIMEZONE
BEGIN:VTIMEZONE
TZID:America/Chicago
BEGIN:DAYLIGHT
TZOFFSETFROM:-0600
TZOFFSETTO:-0500
TZNAME:CDT
DTSTART:20150308T080000
END:DAYLIGHT
BEGIN:STANDARD
TZOFFSETFROM:-0500
TZOFFSETTO:-0600
TZNAME:CST
DTSTART:20151101T070000
END:STANDARD
BEGIN:DAYLIGHT
TZOFFSETFROM:-0600
TZOFFSETTO:-0500
TZNAME:CDT
DTSTART:20160313T080000
END:DAYLIGHT
BEGIN:STANDARD
TZOFFSETFROM:-0500
TZOFFSETTO:-0600
TZNAME:CST
DTSTART:20161106T070000
END:STANDARD
BEGIN:DAYLIGHT
TZOFFSETFROM:-0600
TZOFFSETTO:-0500
TZNAME:CDT
DTSTART:20170312T080000
END:DAYLIGHT
BEGIN:STANDARD
TZOFFSETFROM:-0500
TZOFFSETTO:-0600
TZNAME:CST
DTSTART:20171105T070000
END:STANDARD
END:VTIMEZONE
BEGIN:VEVENT
DTSTART;TZID=America/Chicago:20201001T180000
DTEND;TZID=America/Chicago:20201001T200000
DTSTAMP:20260421T172715
CREATED:20200923T145157Z
LAST-MODIFIED:20200928T163038Z
UID:10001867-1601575200-1601582400@elktonky.com
SUMMARY:Planning Commission Special Meeting
DESCRIPTION:Note that this is meeting is on the regular date and time but the location has been changed to allow for social distancing. \nAgenda \n1. Call to Order \n2. Public Hearing\n– Amendments to Zoning Ordinance Text\n3. Public Comments \n4. Recommendation of Proposed Amendments \n5. Approval of Minutes – September 15\, 2020 \n6. Zoning Administrator’s Report \n7. Adjournment
URL:https://elktonky.com/event/planning-commission-special-meeting-5/
LOCATION:Historic 1835 Courthouse Welcome Center\, 1 Public Square\, Elkton\, KY\, 42220\, United States
END:VEVENT
BEGIN:VEVENT
DTSTART;TZID=America/Chicago:20200903T180000
DTEND;TZID=America/Chicago:20200903T200000
DTSTAMP:20260421T172715
CREATED:20200831T190640Z
LAST-MODIFIED:20200831T190640Z
UID:10001864-1599156000-1599163200@elktonky.com
SUMMARY:Planning Commission Special Meeting
DESCRIPTION:Elkton Planning Commission Special Meeting\nWelcome Center – 1 Public Square \n  \nDue to COVID-19\, this is a Special Meeting of the Planning Commission being held on the regular meeting date and time in a new location in order to provide enough space to socially distance. \nAgenda \n1. Call to Order\n2. Approval of Minutes -August 6\, 2020\n3. Discussion of Proposed Amendments from Mayor\n4. Zoning Administrator Report\n5. Adjournment
URL:https://elktonky.com/event/planning-commission-special-meeting-4/
LOCATION:Historic 1835 Courthouse Welcome Center\, 1 Public Square\, Elkton\, KY\, 42220\, United States
END:VEVENT
BEGIN:VEVENT
DTSTART;TZID=America/Chicago:20200806T190000
DTEND;TZID=America/Chicago:20200806T210000
DTSTAMP:20260421T172715
CREATED:20200731T164221Z
LAST-MODIFIED:20200731T164555Z
UID:10001862-1596740400-1596747600@elktonky.com
SUMMARY:Planning Commission Special Meeting
DESCRIPTION:  \n  \nAgenda  \n\nCall to Order\n\n\nApproval of Minutes -March 5\, 2020\n\n\nOld Business\n\n\nProposed amendments to the Planning and Zoning from March meeting\n\n\nNew Business\n\n\nRobert Osborne- 210 S. Perry Street – Manufactured Home Zoned R-2\nDanny and Heath Shemwell – 305 N. Main Street – Storage Zoned B-1\n\n\nDiscussion of possible changes to address current issues\n\n\nZoning Administrator Report\n\n\nAdjournment
URL:https://elktonky.com/event/planning-commission-planning-meeting/
LOCATION:Historic 1835 Courthouse Welcome Center\, 1 Public Square\, Elkton\, KY\, 42220\, United States
END:VEVENT
BEGIN:VEVENT
DTSTART;TZID=America/Chicago:20160114T190000
DTEND;TZID=America/Chicago:20160114T210000
DTSTAMP:20260421T172715
CREATED:20160112T150103Z
LAST-MODIFIED:20230323T143924Z
UID:10001602-1452798000-1452805200@elktonky.com
SUMMARY:Planning Commission Meeting
DESCRIPTION:  \nElkton City Hall Conference Room – 71 Public Square \nThursday\, January 14\, 2016 \n7:00 PM \nAgenda \n1. Call to Order \n2. Approval of Minutes – November 12\, 2015 Meeting \n3. Old Business \n\nRiverbend Subdivision\n\n4. New Business \n\nLaster Trailer Park Setbacks\nB White Road Rezoning \n\n5. Zoning Administrator Report \n6. Adjournment
URL:https://elktonky.com/event/planning-commission-meeting-3-2/
END:VEVENT
END:VCALENDAR